BEGIN:VCALENDAR
VERSION:2.0
PRODID:-//jEvents 2.0 for Joomla//EN
CALSCALE:GREGORIAN
METHOD:PUBLISH
BEGIN:VTIMEZONE
TZID:America/New_York
BEGIN:STANDARD
DTSTART:20241124T000000
RDATE:20250309T030000
TZOFFSETFROM:-0400
TZOFFSETTO:-0500
TZNAME:America/New_York EST
END:STANDARD
BEGIN:STANDARD
DTSTART:20251102T010000
RDATE:20260308T030000
TZOFFSETFROM:-0400
TZOFFSETTO:-0500
TZNAME:America/New_York EST
END:STANDARD
BEGIN:STANDARD
DTSTART:20261101T010000
RDATE:20270314T030000
TZOFFSETFROM:-0400
TZOFFSETTO:-0500
TZNAME:America/New_York EST
END:STANDARD
BEGIN:STANDARD
DTSTART:20271107T010000
RDATE:20280312T030000
TZOFFSETFROM:-0400
TZOFFSETTO:-0500
TZNAME:America/New_York EST
END:STANDARD
BEGIN:STANDARD
DTSTART:20281105T010000
RDATE:20290311T030000
TZOFFSETFROM:-0400
TZOFFSETTO:-0500
TZNAME:America/New_York EST
END:STANDARD
BEGIN:DAYLIGHT
DTSTART:20250309T030000
RDATE:20251102T010000
TZOFFSETFROM:-0500
TZOFFSETTO:-0400
TZNAME:America/New_York EDT
END:DAYLIGHT
BEGIN:DAYLIGHT
DTSTART:20260308T030000
RDATE:20261101T010000
TZOFFSETFROM:-0500
TZOFFSETTO:-0400
TZNAME:America/New_York EDT
END:DAYLIGHT
BEGIN:DAYLIGHT
DTSTART:20270314T030000
RDATE:20271107T010000
TZOFFSETFROM:-0500
TZOFFSETTO:-0400
TZNAME:America/New_York EDT
END:DAYLIGHT
BEGIN:DAYLIGHT
DTSTART:20280312T030000
RDATE:20281105T010000
TZOFFSETFROM:-0500
TZOFFSETTO:-0400
TZNAME:America/New_York EDT
END:DAYLIGHT
END:VTIMEZONE
BEGIN:VEVENT
UID:e03236c49875da334e18e4b39c02e22f
CATEGORIES:Racing Sales
CREATED:20250224T121536
SUMMARY:Tattersalls December Foal Sale 2025
LOCATION:Tattersalls Ltd Terrace House
DESCRIPTION:Tattersalls December Foal Sale 2025<br />Sale Date: 25-29 Nov 2025<br />Sal
 e Start Times: Tue: 11.00am, Wed: 10.00am, Fri: 10.00am, Sat: 10.00am<br />
 Entries Close: 5 Sep 2025<br />Catalogue Online: 10 Oct 2025<br />Minimum B
 id: 1,000 guineas<br /><br />Europe’s Premier Foal Sale<br />Last year’s Ta
 ttersalls December Foal Sale will be remembered for a very long time, not o
 nly for the 2,500,000 guineas top lot, who equalled the 27 year European re
 cord price for a foal, but also for a sale which produced an unprecedented 
 number of foals selling for 500,000 guineas or more, wide margin records ac
 ross the board for average, median and turnover and a massive 32 of the 40 
 highest priced foals to have been sold in Britain and Ireland in 2024.
DTSTAMP:20260425T004949
DTSTART;TZID=America/New_York;VALUE=DATE:20251125
DTEND;TZID=America/New_York;VALUE=DATE:20251130
SEQUENCE:0
TRANSP:OPAQUE
END:VEVENT
END:VCALENDAR