BEGIN:VCALENDAR
VERSION:2.0
PRODID:-//jEvents 2.0 for Joomla//EN
CALSCALE:GREGORIAN
METHOD:PUBLISH
BEGIN:VTIMEZONE
TZID:America/New_York
BEGIN:STANDARD
DTSTART:20241130T000000
RDATE:20250309T030000
TZOFFSETFROM:-0400
TZOFFSETTO:-0500
TZNAME:America/New_York EST
END:STANDARD
BEGIN:STANDARD
DTSTART:20251102T010000
RDATE:20260308T030000
TZOFFSETFROM:-0400
TZOFFSETTO:-0500
TZNAME:America/New_York EST
END:STANDARD
BEGIN:STANDARD
DTSTART:20261101T010000
RDATE:20270314T030000
TZOFFSETFROM:-0400
TZOFFSETTO:-0500
TZNAME:America/New_York EST
END:STANDARD
BEGIN:STANDARD
DTSTART:20271107T010000
RDATE:20280312T030000
TZOFFSETFROM:-0400
TZOFFSETTO:-0500
TZNAME:America/New_York EST
END:STANDARD
BEGIN:STANDARD
DTSTART:20281105T010000
RDATE:20290311T030000
TZOFFSETFROM:-0400
TZOFFSETTO:-0500
TZNAME:America/New_York EST
END:STANDARD
BEGIN:DAYLIGHT
DTSTART:20250309T030000
RDATE:20251102T010000
TZOFFSETFROM:-0500
TZOFFSETTO:-0400
TZNAME:America/New_York EDT
END:DAYLIGHT
BEGIN:DAYLIGHT
DTSTART:20260308T030000
RDATE:20261101T010000
TZOFFSETFROM:-0500
TZOFFSETTO:-0400
TZNAME:America/New_York EDT
END:DAYLIGHT
BEGIN:DAYLIGHT
DTSTART:20270314T030000
RDATE:20271107T010000
TZOFFSETFROM:-0500
TZOFFSETTO:-0400
TZNAME:America/New_York EDT
END:DAYLIGHT
BEGIN:DAYLIGHT
DTSTART:20280312T030000
RDATE:20281105T010000
TZOFFSETFROM:-0500
TZOFFSETTO:-0400
TZNAME:America/New_York EDT
END:DAYLIGHT
END:VTIMEZONE
BEGIN:VEVENT
UID:9a7504ee4368438cf7127ffc835a114d
CATEGORIES:Racing Sales
CREATED:20250224T122801
SUMMARY:Tattersalls December Mare Sale 2025
LOCATION:Tattersalls Ltd Terrace House
DESCRIPTION:December Mare Sale 2025\n
Sale Date: 1-4 Dec 2025\n
Sale Start Times: Mon: 
 09.30am, Tue: 09.30am, Wed: 09.30am, Thu: 09.30am\n
Entries Close: 19 Sep 2
 025\n
Catalogue Online: 24 Oct 2025\n
Minimum Bid: 1,000 guineas\n
 \n
The 
 World’s Most International Sale\n
The Tattersalls December Mare Sale has lo
 ng been regarded as an unmissable event and buyers from every continent in 
 the world illustrate that the finest European bloodstock continues to be he
 ld in the very highest regard.\n
\n
There are few stages in the world that 
 compare with the unique atmosphere of a packed Tattersalls sale ring and th
 e elite Sceptre Sessions annually provide compelling theatre and memorable 
 highlights.\n
\n
\n
Extraordinary Tattersalls December Mares Sale Concludes
 \n

X-ALT-DESC;FMTTYPE=text/html:December Mare Sale 2025<br />Sale Date: 1-4 Dec 2025<br />Sale Start Times:
  Mon: 09.30am, Tue: 09.30am, Wed: 09.30am, Thu: 09.30am<br />Entries Close:
  19 Sep 2025<br />Catalogue Online: 24 Oct 2025<br />Minimum Bid: 1,000 gui
 neas<br /> <br />The World’s Most International Sale<br />The Tattersalls D
 ecember Mare Sale has long been regarded as an unmissable event and buyers 
 from every continent in the world illustrate that the finest European blood
 stock continues to be held in the very highest regard.<br /><br />There are
  few stages in the world that compare with the unique atmosphere of a packe
 d Tattersalls sale ring and the elite Sceptre Sessions annually provide com
 pelling theatre and memorable highlights.<br /><br /><br />Extraordinary Ta
 ttersalls December Mares Sale Concludes<br />
DTSTAMP:20260424T215957
DTSTART;TZID=America/New_York;VALUE=DATE:20251201
DTEND;TZID=America/New_York;VALUE=DATE:20251205
SEQUENCE:0
TRANSP:OPAQUE
END:VEVENT
END:VCALENDAR