BEGIN:VCALENDAR
VERSION:2.0
PRODID:-//jEvents 2.0 for Joomla//EN
CALSCALE:GREGORIAN
METHOD:PUBLISH
BEGIN:VTIMEZONE
TZID:America/New_York
BEGIN:STANDARD
DTSTART:20251102T010000
RDATE:20260308T030000
TZOFFSETFROM:-0400
TZOFFSETTO:-0500
TZNAME:America/New_York EST
END:STANDARD
BEGIN:STANDARD
DTSTART:20261101T010000
RDATE:20270314T030000
TZOFFSETFROM:-0400
TZOFFSETTO:-0500
TZNAME:America/New_York EST
END:STANDARD
BEGIN:STANDARD
DTSTART:20271107T010000
RDATE:20280312T030000
TZOFFSETFROM:-0400
TZOFFSETTO:-0500
TZNAME:America/New_York EST
END:STANDARD
BEGIN:STANDARD
DTSTART:20281105T010000
RDATE:20290311T030000
TZOFFSETFROM:-0400
TZOFFSETTO:-0500
TZNAME:America/New_York EST
END:STANDARD
BEGIN:DAYLIGHT
DTSTART:20250412T090000
RDATE:20251102T010000
TZOFFSETFROM:-0500
TZOFFSETTO:-0400
TZNAME:America/New_York EDT
END:DAYLIGHT
BEGIN:DAYLIGHT
DTSTART:20260308T030000
RDATE:20261101T010000
TZOFFSETFROM:-0500
TZOFFSETTO:-0400
TZNAME:America/New_York EDT
END:DAYLIGHT
BEGIN:DAYLIGHT
DTSTART:20270314T030000
RDATE:20271107T010000
TZOFFSETFROM:-0500
TZOFFSETTO:-0400
TZNAME:America/New_York EDT
END:DAYLIGHT
BEGIN:DAYLIGHT
DTSTART:20280312T030000
RDATE:20281105T010000
TZOFFSETFROM:-0500
TZOFFSETTO:-0400
TZNAME:America/New_York EDT
END:DAYLIGHT
END:VTIMEZONE
BEGIN:VEVENT
UID:140014518129f001dfbcaff2159a3182
CATEGORIES:Health & Education
CREATED:20250519T140031
SUMMARY:10th International Conference on Nursing Science & Practice 
LOCATION:Four Points by Sheraton Wakefield Boston Hotel &amp; Conference Center
DESCRIPTION:USG-United Scientific Group, a nonprofit organization is pleased to announc
 e the 10th International Conference on Nursing Science &amp; Practice, taki
 ng place April 13–15, 2026, in Boston, MA.\n
USG is an expert-led organizat
 ion supported by an editorial board and advisory panel of academicians, res
 earchers, and industry professionals. It promotes scientific and technologi
 cal advancement through publishing, global forums, and conferences.\n
Nursi
 ng Science-2026 is a leading platform for nurse practitioners, anesthetists
 , midwives, clinical nurses, consultants, educators, researchers, administr
 ators, policy makers, and students. This event fosters professional growth,
  knowledge sharing, and collaboration aimed at improving nursing practice a
 nd patient care.\n
By uniting nursing professionals from around the world, 
 the conference supports innovation, career development, and leadership in n
 ursing. Join us in Boston for this important event and contribute to shapin
 g the future of healthcare—where quality care is accessible to all.
X-ALT-DESC;FMTTYPE=text/html:USG-United Scientific Group, a nonprofit organization is pleased to announc
 e the 10th International Conference on Nursing Science & Practice, taking p
 lace April 13–15, 2026, in Boston, MA.<br />USG is an expert-led organizati
 on supported by an editorial board and advisory panel of academicians, rese
 archers, and industry professionals. It promotes scientific and technologic
 al advancement through publishing, global forums, and conferences.<br />Nur
 sing Science-2026 is a leading platform for nurse practitioners, anesthetis
 ts, midwives, clinical nurses, consultants, educators, researchers, adminis
 trators, policy makers, and students. This event fosters professional growt
 h, knowledge sharing, and collaboration aimed at improving nursing practice
  and patient care.<br />By uniting nursing professionals from around the wo
 rld, the conference supports innovation, career development, and leadership
  in nursing. Join us in Boston for this important event and contribute to s
 haping the future of healthcare—where quality care is accessible to all.
DTSTAMP:20260424T134029
DTSTART;TZID=America/New_York:20260413T090000
DTEND;TZID=America/New_York:20260415T180000
SEQUENCE:0
TRANSP:OPAQUE
END:VEVENT
END:VCALENDAR