BEGIN:VCALENDAR
VERSION:2.0
PRODID:-//jEvents 2.0 for Joomla//EN
CALSCALE:GREGORIAN
METHOD:PUBLISH
BEGIN:VTIMEZONE
TZID:America/New_York
BEGIN:STANDARD
DTSTART:20241103T010000
RDATE:20250309T030000
TZOFFSETFROM:-0400
TZOFFSETTO:-0500
TZNAME:America/New_York EST
END:STANDARD
BEGIN:STANDARD
DTSTART:20251102T010000
RDATE:20260308T030000
TZOFFSETFROM:-0400
TZOFFSETTO:-0500
TZNAME:America/New_York EST
END:STANDARD
BEGIN:STANDARD
DTSTART:20261101T010000
RDATE:20270314T030000
TZOFFSETFROM:-0400
TZOFFSETTO:-0500
TZNAME:America/New_York EST
END:STANDARD
BEGIN:STANDARD
DTSTART:20271107T010000
RDATE:20280312T030000
TZOFFSETFROM:-0400
TZOFFSETTO:-0500
TZNAME:America/New_York EST
END:STANDARD
BEGIN:STANDARD
DTSTART:20281105T010000
RDATE:20290311T030000
TZOFFSETFROM:-0400
TZOFFSETTO:-0500
TZNAME:America/New_York EST
END:STANDARD
BEGIN:DAYLIGHT
DTSTART:20240619T000000
RDATE:20241103T010000
TZOFFSETFROM:-0500
TZOFFSETTO:-0400
TZNAME:America/New_York EDT
END:DAYLIGHT
BEGIN:DAYLIGHT
DTSTART:20250309T030000
RDATE:20251102T010000
TZOFFSETFROM:-0500
TZOFFSETTO:-0400
TZNAME:America/New_York EDT
END:DAYLIGHT
BEGIN:DAYLIGHT
DTSTART:20260308T030000
RDATE:20261101T010000
TZOFFSETFROM:-0500
TZOFFSETTO:-0400
TZNAME:America/New_York EDT
END:DAYLIGHT
BEGIN:DAYLIGHT
DTSTART:20270314T030000
RDATE:20271107T010000
TZOFFSETFROM:-0500
TZOFFSETTO:-0400
TZNAME:America/New_York EDT
END:DAYLIGHT
BEGIN:DAYLIGHT
DTSTART:20280312T030000
RDATE:20281105T010000
TZOFFSETFROM:-0500
TZOFFSETTO:-0400
TZNAME:America/New_York EDT
END:DAYLIGHT
END:VTIMEZONE
BEGIN:VEVENT
UID:cad11ccf5d7faa7f39ce7c3cabd8a1fe
CATEGORIES:Health & Education
CREATED:20250520T104719
SUMMARY:Monty Robert THE MOVEMENT 2025
LOCATION:Flag Is Up Farms
DESCRIPTION:The Movement 2025 will be held for the 8th year, June 20, 21, and 22 at the
  California Horse Center on Flag Is Up Farms, in Solvang, California. This 
 year’s The Movement will feature Monty Roberts , trainer Jamie Jennings  si
 nger Jared Rogerson and a line up of many outstanding presenters.<br /><br 
 />The Movement 2025 will be held for the 8th year on the Central Coast of C
 alifornia, the heart of horse and wine country. A transformational experien
 ce with humans & horses featuring Monty Roberts & other outstanding present
 ers<br /><br />Our Presenters<br />Monty Roberts, renowned horse trainer an
 d New York Times Bestselling author<br />Jamie Jennings, Certified Monty Ro
 berts Instructor and host of Horses In The Morning podcast<br />Dr. Madison
  Seamans, DVM. Veterinarian, artist, author, lifelong professional horseman
 <br />Nelly Kennedy, Equine Assisted Learning on Leadership<br />Tad Coffin
 , two time Olympic Gold Medalist and inventor of Thera-Tree®<br />Kelly Cof
 fin, equestrian and artist<br />Pat Roberts, equestrian and artist<br />Jar
 ed Rogerson, Friday night wine and concert with cowboy country artist<br />
 Bianca Zable, Equine-assisted somatic trauma therapist<br />Join us in the 
 spectacular setting of Monty Roberts' California Horse Center (formerly Fla
 g Is Up Farms) in the Santa Ynez Valley, California from Friday, June 20th 
 at 1pm to Sunday, June 22nd at 1pm.
DTSTAMP:20260424T213234
DTSTART;TZID=America/New_York;VALUE=DATE:20250620
DTEND;TZID=America/New_York;VALUE=DATE:20250623
SEQUENCE:0
TRANSP:OPAQUE
END:VEVENT
END:VCALENDAR