BEGIN:VCALENDAR
VERSION:2.0
PRODID:-//jEvents 2.0 for Joomla//EN
CALSCALE:GREGORIAN
METHOD:PUBLISH
BEGIN:VTIMEZONE
TZID:America/New_York
BEGIN:STANDARD
DTSTART:20241103T010000
RDATE:20250309T030000
TZOFFSETFROM:-0400
TZOFFSETTO:-0500
TZNAME:America/New_York EST
END:STANDARD
BEGIN:STANDARD
DTSTART:20251102T010000
RDATE:20260308T030000
TZOFFSETFROM:-0400
TZOFFSETTO:-0500
TZNAME:America/New_York EST
END:STANDARD
BEGIN:STANDARD
DTSTART:20261101T010000
RDATE:20270314T030000
TZOFFSETFROM:-0400
TZOFFSETTO:-0500
TZNAME:America/New_York EST
END:STANDARD
BEGIN:STANDARD
DTSTART:20271107T010000
RDATE:20280312T030000
TZOFFSETFROM:-0400
TZOFFSETTO:-0500
TZNAME:America/New_York EST
END:STANDARD
BEGIN:STANDARD
DTSTART:20281105T010000
RDATE:20290311T030000
TZOFFSETFROM:-0400
TZOFFSETTO:-0500
TZNAME:America/New_York EST
END:STANDARD
BEGIN:DAYLIGHT
DTSTART:20240818T173000
RDATE:20241103T010000
TZOFFSETFROM:-0500
TZOFFSETTO:-0400
TZNAME:America/New_York EDT
END:DAYLIGHT
BEGIN:DAYLIGHT
DTSTART:20250309T030000
RDATE:20251102T010000
TZOFFSETFROM:-0500
TZOFFSETTO:-0400
TZNAME:America/New_York EDT
END:DAYLIGHT
BEGIN:DAYLIGHT
DTSTART:20260308T030000
RDATE:20261101T010000
TZOFFSETFROM:-0500
TZOFFSETTO:-0400
TZNAME:America/New_York EDT
END:DAYLIGHT
BEGIN:DAYLIGHT
DTSTART:20270314T030000
RDATE:20271107T010000
TZOFFSETFROM:-0500
TZOFFSETTO:-0400
TZNAME:America/New_York EDT
END:DAYLIGHT
BEGIN:DAYLIGHT
DTSTART:20280312T030000
RDATE:20281105T010000
TZOFFSETFROM:-0500
TZOFFSETTO:-0400
TZNAME:America/New_York EDT
END:DAYLIGHT
END:VTIMEZONE
BEGIN:VEVENT
UID:a0d59162eb41a5e4c9523f1cbbc1431a
CATEGORIES:Retire & Rehome
CREATED:20250526T134913
SUMMARY:Thoroughbred Retirement Foundation -  Backyard BBQ hosted by Rood & Riddle
LOCATION:Rood &amp; Riddle Equine Hospital
DESCRIPTION:Thoroughbred Retirement Foundation\n
August 19, 2025 | 5:30 pm - 8:30 pm
Da
 te: Tuesday, August 19th, 2025
Time: 5:30PM – 8:30PM
Location: Rood &amp; R
 iddle Equine Hospital – 63 Henning Road, Saratoga Springs, NY
X-ALT-DESC;FMTTYPE=text/html:Thoroughbred Retirement Foundation<br />August 19, 2025 | 5:30 pm - 8:30 pm
 Date: Tuesday, August 19th, 2025Time: 5:30PM – 8:30PMLocation: Rood & Riddl
 e Equine Hospital – 63 Henning Road, Saratoga Springs, NY
DTSTAMP:20260425T004054
DTSTART;TZID=America/New_York:20250819T173000
DTEND;TZID=America/New_York:20250819T203000
SEQUENCE:0
TRANSP:OPAQUE
END:VEVENT
END:VCALENDAR