BEGIN:VCALENDAR
VERSION:2.0
PRODID:-//jEvents 2.0 for Joomla//EN
CALSCALE:GREGORIAN
METHOD:PUBLISH
BEGIN:VTIMEZONE
TZID:America/New_York
BEGIN:STANDARD
DTSTART:20241103T010000
RDATE:20250309T030000
TZOFFSETFROM:-0400
TZOFFSETTO:-0500
TZNAME:America/New_York EST
END:STANDARD
BEGIN:STANDARD
DTSTART:20251102T010000
RDATE:20260308T030000
TZOFFSETFROM:-0400
TZOFFSETTO:-0500
TZNAME:America/New_York EST
END:STANDARD
BEGIN:STANDARD
DTSTART:20261101T010000
RDATE:20270314T030000
TZOFFSETFROM:-0400
TZOFFSETTO:-0500
TZNAME:America/New_York EST
END:STANDARD
BEGIN:STANDARD
DTSTART:20271107T010000
RDATE:20280312T030000
TZOFFSETFROM:-0400
TZOFFSETTO:-0500
TZNAME:America/New_York EST
END:STANDARD
BEGIN:STANDARD
DTSTART:20281105T010000
RDATE:20290311T030000
TZOFFSETFROM:-0400
TZOFFSETTO:-0500
TZNAME:America/New_York EST
END:STANDARD
BEGIN:DAYLIGHT
DTSTART:20240604T190000
RDATE:20241103T010000
TZOFFSETFROM:-0500
TZOFFSETTO:-0400
TZNAME:America/New_York EDT
END:DAYLIGHT
BEGIN:DAYLIGHT
DTSTART:20250309T030000
RDATE:20251102T010000
TZOFFSETFROM:-0500
TZOFFSETTO:-0400
TZNAME:America/New_York EDT
END:DAYLIGHT
BEGIN:DAYLIGHT
DTSTART:20260308T030000
RDATE:20261101T010000
TZOFFSETFROM:-0500
TZOFFSETTO:-0400
TZNAME:America/New_York EDT
END:DAYLIGHT
BEGIN:DAYLIGHT
DTSTART:20270314T030000
RDATE:20271107T010000
TZOFFSETFROM:-0500
TZOFFSETTO:-0400
TZNAME:America/New_York EDT
END:DAYLIGHT
BEGIN:DAYLIGHT
DTSTART:20280312T030000
RDATE:20281105T010000
TZOFFSETFROM:-0500
TZOFFSETTO:-0400
TZNAME:America/New_York EDT
END:DAYLIGHT
END:VTIMEZONE
BEGIN:VEVENT
UID:9713c9f73a95e22cc84b2d7b73e34fb3
CATEGORIES:Retire & Rehome
CREATED:20250526T135002
SUMMARY:The Belmont Gala presented by National Museum of Racing and Hall of Fame
LOCATION:Canfield Casino
DESCRIPTION:SARATOGA SPRINGS, N.Y. — The National Museum of Racing and Hall of Fame —Pl
 ease note, there are a limited amount of tickets available<br />Celebrate t
 he Belmont Stakes festival in Saratoga Springs at the Canfield Casino with 
 the National Museum of Racing and Hall of Fame! This evening will feature f
 ine dining, live music, and a celebration of incredible sportsmanship. To f
 urther complement the Museum's 75th anniversary year, the Canfield Casino w
 as the Museum’s home when it first opened in 1951.<br />We will recognize t
 he connections of the 2024 Belmont Stakes winner: owners Belmar Racing and 
 Breeding LLC, Pine Racing Stables, R.A. Hill Stable, Two Eight Racing LLC, 
 West Paces Racing LLC, trainer Danny Gargan and jockey Luis Saez.<br />The 
 National Museum of Racing and Hall of Fame is a 501 (c) 3 non-profit organi
 zation whose mission is preserve and promote thoroughbred racing in America
  and honor the sport’s most accomplished participants in the Official Thoro
 ughbred Racing Hall of Fame. This fundraiser will support our educational m
 ission and help us preserve the history of sport for future generations.<br
  />
DTSTAMP:20260425T024229
DTSTART;TZID=America/New_York:20250605T190000
SEQUENCE:0
TRANSP:OPAQUE
END:VEVENT
END:VCALENDAR