BEGIN:VCALENDAR
VERSION:2.0
PRODID:-//jEvents 2.0 for Joomla//EN
CALSCALE:GREGORIAN
METHOD:PUBLISH
BEGIN:VTIMEZONE
TZID:America/New_York
BEGIN:STANDARD
DTSTART:20241103T010000
RDATE:20250309T030000
TZOFFSETFROM:-0400
TZOFFSETTO:-0500
TZNAME:America/New_York EST
END:STANDARD
BEGIN:STANDARD
DTSTART:20251102T010000
RDATE:20260308T030000
TZOFFSETFROM:-0400
TZOFFSETTO:-0500
TZNAME:America/New_York EST
END:STANDARD
BEGIN:STANDARD
DTSTART:20261101T010000
RDATE:20270314T030000
TZOFFSETFROM:-0400
TZOFFSETTO:-0500
TZNAME:America/New_York EST
END:STANDARD
BEGIN:STANDARD
DTSTART:20271107T010000
RDATE:20280312T030000
TZOFFSETFROM:-0400
TZOFFSETTO:-0500
TZNAME:America/New_York EST
END:STANDARD
BEGIN:STANDARD
DTSTART:20281105T010000
RDATE:20290311T030000
TZOFFSETFROM:-0400
TZOFFSETTO:-0500
TZNAME:America/New_York EST
END:STANDARD
BEGIN:DAYLIGHT
DTSTART:20240531T130000
RDATE:20241103T010000
TZOFFSETFROM:-0500
TZOFFSETTO:-0400
TZNAME:America/New_York EDT
END:DAYLIGHT
BEGIN:DAYLIGHT
DTSTART:20250309T030000
RDATE:20251102T010000
TZOFFSETFROM:-0500
TZOFFSETTO:-0400
TZNAME:America/New_York EDT
END:DAYLIGHT
BEGIN:DAYLIGHT
DTSTART:20260308T030000
RDATE:20261101T010000
TZOFFSETFROM:-0500
TZOFFSETTO:-0400
TZNAME:America/New_York EDT
END:DAYLIGHT
BEGIN:DAYLIGHT
DTSTART:20270314T030000
RDATE:20271107T010000
TZOFFSETFROM:-0500
TZOFFSETTO:-0400
TZNAME:America/New_York EDT
END:DAYLIGHT
BEGIN:DAYLIGHT
DTSTART:20280312T030000
RDATE:20281105T010000
TZOFFSETFROM:-0500
TZOFFSETTO:-0400
TZNAME:America/New_York EDT
END:DAYLIGHT
END:VTIMEZONE
BEGIN:VEVENT
UID:74fcbad4233b24c549987195b768f056
CATEGORIES:Retire & Rehome
CREATED:20250527T114122
SUMMARY:Therapeutic Horses of Saratoga - South Asian Home Cooking Event
LOCATION:Franklin Square Market
DESCRIPTION:<br />Join us for a fun and flavorful afternoon learning how to master auth
 entic homemade recipes from South Asia! Don’t miss this event at Franklin S
 quare Market, where you’ll take a flavorful journey through South Asian cui
 sine! Zainab Magdon-Ismail, a Sri Lankan native turned globe-trotting Capit
 al Region resident, will be our culinary tour guide for this delicious adve
 nture! Zainab will share with us her family recipes for authentic homemade 
 dishes that she grew up with, passed down through the generations of her fa
 mily.<br /><br />Learn her tips, hacks and how-tos, as Zainab breaks it all
  down, showing how you can recreate these delectable dishes, bringing the v
 ibrant flavors of South Asia into your own home! From Chicken Lettuce Wraps
  to Sri Lankan Devilled Beef to Sweet Native Treats for dessert. Don’t miss
  out on this delicious opportunity to savor authentic homemade dishes and i
 mmerse yourself in the rich culinary heritage of South Asia!<br /><br />A p
 ortion of proceeds from this event will go to Therapeutic Horses of Saratog
 a.<br /><br />Sunday, June 1<br />1:00 – 3:00 PM 
DTSTAMP:20260425T024230
DTSTART;TZID=America/New_York:20250601T130000
DTEND;TZID=America/New_York:20250601T150000
SEQUENCE:0
TRANSP:OPAQUE
END:VEVENT
END:VCALENDAR