BEGIN:VCALENDAR
VERSION:2.0
PRODID:-//jEvents 2.0 for Joomla//EN
CALSCALE:GREGORIAN
METHOD:PUBLISH
BEGIN:VTIMEZONE
TZID:America/New_York
BEGIN:STANDARD
DTSTART:20241103T010000
RDATE:20250309T030000
TZOFFSETFROM:-0400
TZOFFSETTO:-0500
TZNAME:America/New_York EST
END:STANDARD
BEGIN:STANDARD
DTSTART:20251102T010000
RDATE:20260308T030000
TZOFFSETFROM:-0400
TZOFFSETTO:-0500
TZNAME:America/New_York EST
END:STANDARD
BEGIN:STANDARD
DTSTART:20261101T010000
RDATE:20270314T030000
TZOFFSETFROM:-0400
TZOFFSETTO:-0500
TZNAME:America/New_York EST
END:STANDARD
BEGIN:STANDARD
DTSTART:20271107T010000
RDATE:20280312T030000
TZOFFSETFROM:-0400
TZOFFSETTO:-0500
TZNAME:America/New_York EST
END:STANDARD
BEGIN:STANDARD
DTSTART:20281105T010000
RDATE:20290311T030000
TZOFFSETFROM:-0400
TZOFFSETTO:-0500
TZNAME:America/New_York EST
END:STANDARD
BEGIN:DAYLIGHT
DTSTART:20240602T173000
RDATE:20241103T010000
TZOFFSETFROM:-0500
TZOFFSETTO:-0400
TZNAME:America/New_York EDT
END:DAYLIGHT
BEGIN:DAYLIGHT
DTSTART:20250309T030000
RDATE:20251102T010000
TZOFFSETFROM:-0500
TZOFFSETTO:-0400
TZNAME:America/New_York EDT
END:DAYLIGHT
BEGIN:DAYLIGHT
DTSTART:20260308T030000
RDATE:20261101T010000
TZOFFSETFROM:-0500
TZOFFSETTO:-0400
TZNAME:America/New_York EDT
END:DAYLIGHT
BEGIN:DAYLIGHT
DTSTART:20270314T030000
RDATE:20271107T010000
TZOFFSETFROM:-0500
TZOFFSETTO:-0400
TZNAME:America/New_York EDT
END:DAYLIGHT
BEGIN:DAYLIGHT
DTSTART:20280312T030000
RDATE:20281105T010000
TZOFFSETFROM:-0500
TZOFFSETTO:-0400
TZNAME:America/New_York EDT
END:DAYLIGHT
END:VTIMEZONE
BEGIN:VEVENT
UID:a294c320b52df7a5ad47355df483027b
CATEGORIES:Retire & Rehome
CREATED:20250527T114421
SUMMARY:Therapeutic Horses of Saratoga - Embrace The Belmont II!
LOCATION:Universal Preservation Hall
DESCRIPTION:Embrace the Belmont II brings the Saratoga Springs year-round community tog
 ether to learn basic handicapping and explore the 2025 Belmont Stakes field
 . This event helps local business owners, professionals, and residents deep
 en their understanding of horse racing, so you’ll feel prepared to not only
  embrace the Belmont Racing Festival but also feel capable of discussing th
 is year’s Belmont Stakes field with an aura of expertise. Last year’s sold-
 out event at the National Museum of Racing proved the demand, so this year,
  Embrace the Belmont II moves to a larger venue: Universal Preservation Hal
 l.\n
\n
Tuesday, June 3\n
5:30 – 7:30 PM (VIP: 5:00 – 5:30 PM)\n
\n
Emcee: 
 Donna Brothers, fresh from covering the Kentucky Derby and the Preakness St
 akes for NBC Sports, she’ll emcee the event and lead our Belmont Stakes dis
 cussion with our expert handicappers.
X-ALT-DESC;FMTTYPE=text/html:Embrace the Belmont II brings the Saratoga Springs year-round community tog
 ether to learn basic handicapping and explore the 2025 Belmont Stakes field
 . This event helps local business owners, professionals, and residents deep
 en their understanding of horse racing, so you’ll feel prepared to not only
  embrace the Belmont Racing Festival but also feel capable of discussing th
 is year’s Belmont Stakes field with an aura of expertise. Last year’s sold-
 out event at the National Museum of Racing proved the demand, so this year,
  Embrace the Belmont II moves to a larger venue: Universal Preservation Hal
 l.<br /><br />Tuesday, June 3<br />5:30 – 7:30 PM (VIP: 5:00 – 5:30 PM)<br 
 /><br />Emcee: Donna Brothers, fresh from covering the Kentucky Derby and t
 he Preakness Stakes for NBC Sports, she’ll emcee the event and lead our Bel
 mont Stakes discussion with our expert handicappers.
DTSTAMP:20260425T024136
DTSTART;TZID=America/New_York:20250603T173000
DTEND;TZID=America/New_York:20250603T193000
SEQUENCE:0
TRANSP:OPAQUE
END:VEVENT
END:VCALENDAR