BEGIN:VCALENDAR
VERSION:2.0
PRODID:-//jEvents 2.0 for Joomla//EN
CALSCALE:GREGORIAN
METHOD:PUBLISH
BEGIN:VTIMEZONE
TZID:America/New_York
BEGIN:STANDARD
DTSTART:20241103T010000
RDATE:20250309T030000
TZOFFSETFROM:-0400
TZOFFSETTO:-0500
TZNAME:America/New_York EST
END:STANDARD
BEGIN:STANDARD
DTSTART:20251102T010000
RDATE:20260308T030000
TZOFFSETFROM:-0400
TZOFFSETTO:-0500
TZNAME:America/New_York EST
END:STANDARD
BEGIN:STANDARD
DTSTART:20261101T010000
RDATE:20270314T030000
TZOFFSETFROM:-0400
TZOFFSETTO:-0500
TZNAME:America/New_York EST
END:STANDARD
BEGIN:STANDARD
DTSTART:20271107T010000
RDATE:20280312T030000
TZOFFSETFROM:-0400
TZOFFSETTO:-0500
TZNAME:America/New_York EST
END:STANDARD
BEGIN:STANDARD
DTSTART:20281105T010000
RDATE:20290311T030000
TZOFFSETFROM:-0400
TZOFFSETTO:-0500
TZNAME:America/New_York EST
END:STANDARD
BEGIN:DAYLIGHT
DTSTART:20240711T080000
RDATE:20241103T010000
TZOFFSETFROM:-0500
TZOFFSETTO:-0400
TZNAME:America/New_York EDT
END:DAYLIGHT
BEGIN:DAYLIGHT
DTSTART:20250309T030000
RDATE:20251102T010000
TZOFFSETFROM:-0500
TZOFFSETTO:-0400
TZNAME:America/New_York EDT
END:DAYLIGHT
BEGIN:DAYLIGHT
DTSTART:20260308T030000
RDATE:20261101T010000
TZOFFSETFROM:-0500
TZOFFSETTO:-0400
TZNAME:America/New_York EDT
END:DAYLIGHT
BEGIN:DAYLIGHT
DTSTART:20270314T030000
RDATE:20271107T010000
TZOFFSETFROM:-0500
TZOFFSETTO:-0400
TZNAME:America/New_York EDT
END:DAYLIGHT
BEGIN:DAYLIGHT
DTSTART:20280312T030000
RDATE:20281105T010000
TZOFFSETFROM:-0500
TZOFFSETTO:-0400
TZNAME:America/New_York EDT
END:DAYLIGHT
END:VTIMEZONE
BEGIN:VEVENT
UID:b78d971ab3295bcc3f7d233de36d3020
CATEGORIES:Retire & Rehome
CREATED:20250527T114858
SUMMARY:Therapeutic Horses of Saratoga - Silks & Satins 5K
LOCATION:Fasig-Tipton Saratoga
DESCRIPTION:Get ready to lace up for the beloved Silks & Satins 5K, returning on July 1
 2, 2025! This popular FC4 Events  and Fleet Feet race kicks off Saratoga’s 
 thoroughbred horse racing season with a fast, flat course that starts and f
 inishes near the scenic Oklahoma training track at Fasig-Tipton.<br /><br /
 >Whether you run or walk, you’ll enjoy a unique route weaving through Sarat
 oga Springs’ charming East Side residential neighborhood, close to iconic h
 orse racing facilities. It’s a perfect way to celebrate the spirit of the s
 eason while supporting a great cause.<br /><br />Proceeds from the race ben
 efit Therapeutic Horses of Saratoga, helping us continue our mission to pro
 vide transformative equine-assisted therapy to those in need.<br /><br />Jo
 in us for a memorable morning of fitness, community, and horse racing tradi
 tion in beautiful Saratoga Springs!<br /><br />Register Today!
DTSTAMP:20260425T024229
DTSTART;TZID=America/New_York:20250712T080000
SEQUENCE:0
TRANSP:OPAQUE
END:VEVENT
END:VCALENDAR