BEGIN:VCALENDAR
VERSION:2.0
PRODID:-//jEvents 2.0 for Joomla//EN
CALSCALE:GREGORIAN
METHOD:PUBLISH
BEGIN:VTIMEZONE
TZID:America/New_York
BEGIN:STANDARD
DTSTART:20241103T010000
RDATE:20250309T030000
TZOFFSETFROM:-0400
TZOFFSETTO:-0500
TZNAME:America/New_York EST
END:STANDARD
BEGIN:STANDARD
DTSTART:20251102T010000
RDATE:20260308T030000
TZOFFSETFROM:-0400
TZOFFSETTO:-0500
TZNAME:America/New_York EST
END:STANDARD
BEGIN:STANDARD
DTSTART:20261101T010000
RDATE:20270314T030000
TZOFFSETFROM:-0400
TZOFFSETTO:-0500
TZNAME:America/New_York EST
END:STANDARD
BEGIN:STANDARD
DTSTART:20271107T010000
RDATE:20280312T030000
TZOFFSETFROM:-0400
TZOFFSETTO:-0500
TZNAME:America/New_York EST
END:STANDARD
BEGIN:STANDARD
DTSTART:20281105T010000
RDATE:20290311T030000
TZOFFSETFROM:-0400
TZOFFSETTO:-0500
TZNAME:America/New_York EST
END:STANDARD
BEGIN:DAYLIGHT
DTSTART:20240926T180000
RDATE:20241103T010000
TZOFFSETFROM:-0500
TZOFFSETTO:-0400
TZNAME:America/New_York EDT
END:DAYLIGHT
BEGIN:DAYLIGHT
DTSTART:20250309T030000
RDATE:20251102T010000
TZOFFSETFROM:-0500
TZOFFSETTO:-0400
TZNAME:America/New_York EDT
END:DAYLIGHT
BEGIN:DAYLIGHT
DTSTART:20260308T030000
RDATE:20261101T010000
TZOFFSETFROM:-0500
TZOFFSETTO:-0400
TZNAME:America/New_York EDT
END:DAYLIGHT
BEGIN:DAYLIGHT
DTSTART:20270314T030000
RDATE:20271107T010000
TZOFFSETFROM:-0500
TZOFFSETTO:-0400
TZNAME:America/New_York EDT
END:DAYLIGHT
BEGIN:DAYLIGHT
DTSTART:20280312T030000
RDATE:20281105T010000
TZOFFSETFROM:-0500
TZOFFSETTO:-0400
TZNAME:America/New_York EDT
END:DAYLIGHT
END:VTIMEZONE
BEGIN:VEVENT
UID:1350926425e023c1bce265d008dbd718
CATEGORIES:Retire & Rehome
CREATED:20250527T115050
SUMMARY:Therapeutic Horses of Saratoga - Spin Doctors LIVE at the Farm!
LOCATION:Therapeutic Horses of Saratoga
DESCRIPTION:Spin Doctors LIVE at the Farm!\n
We’re beyond excited to announce our 2025 
 Charity Benefit Concert headliner — the legendary Spin Doctors!\n
\n
Mark y
 our calendars for September 27, 2025, when our farm once again transforms i
 nto Saratoga’s most magical concert venue. Get ready for an unforgettable n
 ight featuring iconic hits like Two Princes and Little Miss Can’t Be Wrong,
  plus fresh tracks from their latest album, Face Full of Cake.\n
\n
With hi
 gh-energy performances, amazing openers (Rich Ortiz + The Wallies ft. Giann
 a Robustiano), and expanded food and drink options from Fierro’s Pizza, Nei
 ghborhood Kitchen, Old Tavern Farm Winery, Druthers Brewing Co., and more —
  this is going to be our biggest and best night yet.\n
\n
All in support of
  Therapeutic Horses of Saratoga and the healing work our horses do for this
  community.
X-ALT-DESC;FMTTYPE=text/html:Spin Doctors LIVE at the Farm!<br />We’re beyond excited to announce our 20
 25 Charity Benefit Concert headliner — the legendary Spin Doctors!<br /><br
  />Mark your calendars for September 27, 2025, when our farm once again tra
 nsforms into Saratoga’s most magical concert venue. Get ready for an unforg
 ettable night featuring iconic hits like Two Princes and Little Miss Can’t 
 Be Wrong, plus fresh tracks from their latest album, Face Full of Cake.<br 
 /><br />With high-energy performances, amazing openers (Rich Ortiz + The Wa
 llies ft. Gianna Robustiano), and expanded food and drink options from Fier
 ro’s Pizza, Neighborhood Kitchen, Old Tavern Farm Winery, Druthers Brewing 
 Co., and more — this is going to be our biggest and best night yet.<br /><b
 r />All in support of Therapeutic Horses of Saratoga and the healing work o
 ur horses do for this community.
DTSTAMP:20260425T010501
DTSTART;TZID=America/New_York:20250927T180000
DTEND;TZID=America/New_York:20250927T220000
SEQUENCE:0
TRANSP:OPAQUE
END:VEVENT
END:VCALENDAR