BEGIN:VCALENDAR
VERSION:2.0
PRODID:-//jEvents 2.0 for Joomla//EN
CALSCALE:GREGORIAN
METHOD:PUBLISH
BEGIN:VTIMEZONE
TZID:America/New_York
BEGIN:STANDARD
DTSTART:20241103T010000
RDATE:20250309T030000
TZOFFSETFROM:-0400
TZOFFSETTO:-0500
TZNAME:America/New_York EST
END:STANDARD
BEGIN:STANDARD
DTSTART:20251102T010000
RDATE:20260308T030000
TZOFFSETFROM:-0400
TZOFFSETTO:-0500
TZNAME:America/New_York EST
END:STANDARD
BEGIN:STANDARD
DTSTART:20261101T010000
RDATE:20270314T030000
TZOFFSETFROM:-0400
TZOFFSETTO:-0500
TZNAME:America/New_York EST
END:STANDARD
BEGIN:STANDARD
DTSTART:20271107T010000
RDATE:20280312T030000
TZOFFSETFROM:-0400
TZOFFSETTO:-0500
TZNAME:America/New_York EST
END:STANDARD
BEGIN:STANDARD
DTSTART:20281105T010000
RDATE:20290311T030000
TZOFFSETFROM:-0400
TZOFFSETTO:-0500
TZNAME:America/New_York EST
END:STANDARD
BEGIN:DAYLIGHT
DTSTART:20240821T180000
RDATE:20241103T010000
TZOFFSETFROM:-0500
TZOFFSETTO:-0400
TZNAME:America/New_York EDT
END:DAYLIGHT
BEGIN:DAYLIGHT
DTSTART:20250309T030000
RDATE:20251102T010000
TZOFFSETFROM:-0500
TZOFFSETTO:-0400
TZNAME:America/New_York EDT
END:DAYLIGHT
BEGIN:DAYLIGHT
DTSTART:20260308T030000
RDATE:20261101T010000
TZOFFSETFROM:-0500
TZOFFSETTO:-0400
TZNAME:America/New_York EDT
END:DAYLIGHT
BEGIN:DAYLIGHT
DTSTART:20270314T030000
RDATE:20271107T010000
TZOFFSETFROM:-0500
TZOFFSETTO:-0400
TZNAME:America/New_York EDT
END:DAYLIGHT
BEGIN:DAYLIGHT
DTSTART:20280312T030000
RDATE:20281105T010000
TZOFFSETFROM:-0500
TZOFFSETTO:-0400
TZNAME:America/New_York EDT
END:DAYLIGHT
END:VTIMEZONE
BEGIN:VEVENT
UID:77f0006e8af21d11e16125ae1167ac89
CATEGORIES:Retire & Rehome
CREATED:20250625T135052
SUMMARY:Travers Eve Wine and Cheese presented by National Museum of Racing and Hall of Fame
LOCATION:Canfield Casino
DESCRIPTION:<p>Celebrate the Saratoga racing season at the Museum on Travers Stakes Eve
 . Enjoy refreshments in the Museum’s Cornelius Vanderbilt Whitney Courtyard
  with fellow Museum members and racing enthusiasts. Special thank you to ev
 ent sponsors Mazzone Hospitality, Saratoga Eagle, and Saratoga Spring Water
 .</p><p>Cost: Free for Museum members, $25 for non-members (and a $25 credi
 t toward a new membership).<br />R.S.V.P. to Tricia Warrens at twarrens@rac
 ingmuseum.net or call (518) 584-0400 x112.<br />Want to attend Travers Eve 
 Wine & Cheese for free? <a href="https://www.racingmuseum.org/support#membe
 rship">Become a Museum member today!</a></p> 
DTSTAMP:20260425T010640
DTSTART;TZID=America/New_York:20250822T180000
DTEND;TZID=America/New_York:20250822T193000
SEQUENCE:0
TRANSP:OPAQUE
END:VEVENT
END:VCALENDAR