BEGIN:VCALENDAR
VERSION:2.0
PRODID:-//jEvents 2.0 for Joomla//EN
CALSCALE:GREGORIAN
METHOD:PUBLISH
BEGIN:VTIMEZONE
TZID:America/New_York
BEGIN:STANDARD
DTSTART:20241103T010000
RDATE:20250309T030000
TZOFFSETFROM:-0400
TZOFFSETTO:-0500
TZNAME:America/New_York EST
END:STANDARD
BEGIN:STANDARD
DTSTART:20251102T010000
RDATE:20260308T030000
TZOFFSETFROM:-0400
TZOFFSETTO:-0500
TZNAME:America/New_York EST
END:STANDARD
BEGIN:STANDARD
DTSTART:20261101T010000
RDATE:20270314T030000
TZOFFSETFROM:-0400
TZOFFSETTO:-0500
TZNAME:America/New_York EST
END:STANDARD
BEGIN:STANDARD
DTSTART:20271107T010000
RDATE:20280312T030000
TZOFFSETFROM:-0400
TZOFFSETTO:-0500
TZNAME:America/New_York EST
END:STANDARD
BEGIN:STANDARD
DTSTART:20281105T010000
RDATE:20290311T030000
TZOFFSETFROM:-0400
TZOFFSETTO:-0500
TZNAME:America/New_York EST
END:STANDARD
BEGIN:DAYLIGHT
DTSTART:20240808T090000
RDATE:20241103T010000
TZOFFSETFROM:-0500
TZOFFSETTO:-0400
TZNAME:America/New_York EDT
END:DAYLIGHT
BEGIN:DAYLIGHT
DTSTART:20250309T030000
RDATE:20251102T010000
TZOFFSETFROM:-0500
TZOFFSETTO:-0400
TZNAME:America/New_York EDT
END:DAYLIGHT
BEGIN:DAYLIGHT
DTSTART:20260308T030000
RDATE:20261101T010000
TZOFFSETFROM:-0500
TZOFFSETTO:-0400
TZNAME:America/New_York EDT
END:DAYLIGHT
BEGIN:DAYLIGHT
DTSTART:20270314T030000
RDATE:20271107T010000
TZOFFSETFROM:-0500
TZOFFSETTO:-0400
TZNAME:America/New_York EDT
END:DAYLIGHT
BEGIN:DAYLIGHT
DTSTART:20280312T030000
RDATE:20281105T010000
TZOFFSETFROM:-0500
TZOFFSETTO:-0400
TZNAME:America/New_York EDT
END:DAYLIGHT
END:VTIMEZONE
BEGIN:VEVENT
UID:826abe06635c3300407b303119816748
CATEGORIES:Recreation & Lifestyle
CREATED:20250729T130323
SUMMARY:Racing Partnership & Syndicate Meet & Greet - National Museum of Racing and Hall of Fame
LOCATION:National Museum of Racing and Hall of Fame
DESCRIPTION:About: Learn how to get involved in thoroughbred ownership at any level by 
 speaking with some of the top partnerships and syndicates in the sport. Fre
 e to attend as part of Saturday Morning Socials. Special thank you to our e
 vent sponsor Mazzone Hospitality.\n
\n
Current participating partnerships:\
 n
\n
— Brown Road Racing\n
— Centennial Farms\n
— Eclipse Thoroughbred Part
 ners\n
— Hibiscus Stables\n
— West Point Thoroughbreds
X-ALT-DESC;FMTTYPE=text/html:About: Learn how to get involved in thoroughbred ownership at any level by 
 speaking with some of the top partnerships and syndicates in the sport. Fre
 e to attend as part of Saturday Morning Socials. Special thank you to our e
 vent sponsor Mazzone Hospitality.<br /><br />Current participating partners
 hips:<br /><br />— Brown Road Racing<br />— Centennial Farms<br />— Eclipse
  Thoroughbred Partners<br />— Hibiscus Stables<br />— West Point Thoroughbr
 eds
DTSTAMP:20260425T024211
DTSTART;TZID=America/New_York:20250809T090000
DTEND;TZID=America/New_York:20250809T110000
SEQUENCE:0
TRANSP:OPAQUE
END:VEVENT
END:VCALENDAR