BEGIN:VCALENDAR
VERSION:2.0
PRODID:-//jEvents 2.0 for Joomla//EN
CALSCALE:GREGORIAN
METHOD:PUBLISH
BEGIN:VTIMEZONE
TZID:America/New_York
BEGIN:STANDARD
DTSTART:20241103T010000
RDATE:20250309T030000
TZOFFSETFROM:-0400
TZOFFSETTO:-0500
TZNAME:America/New_York EST
END:STANDARD
BEGIN:STANDARD
DTSTART:20251102T010000
RDATE:20260308T030000
TZOFFSETFROM:-0400
TZOFFSETTO:-0500
TZNAME:America/New_York EST
END:STANDARD
BEGIN:STANDARD
DTSTART:20261101T010000
RDATE:20270314T030000
TZOFFSETFROM:-0400
TZOFFSETTO:-0500
TZNAME:America/New_York EST
END:STANDARD
BEGIN:STANDARD
DTSTART:20271107T010000
RDATE:20280312T030000
TZOFFSETFROM:-0400
TZOFFSETTO:-0500
TZNAME:America/New_York EST
END:STANDARD
BEGIN:STANDARD
DTSTART:20281105T010000
RDATE:20290311T030000
TZOFFSETFROM:-0400
TZOFFSETTO:-0500
TZNAME:America/New_York EST
END:STANDARD
BEGIN:DAYLIGHT
DTSTART:20240927T000000
RDATE:20241103T010000
TZOFFSETFROM:-0500
TZOFFSETTO:-0400
TZNAME:America/New_York EDT
END:DAYLIGHT
BEGIN:DAYLIGHT
DTSTART:20250309T030000
RDATE:20251102T010000
TZOFFSETFROM:-0500
TZOFFSETTO:-0400
TZNAME:America/New_York EDT
END:DAYLIGHT
BEGIN:DAYLIGHT
DTSTART:20260308T030000
RDATE:20261101T010000
TZOFFSETFROM:-0500
TZOFFSETTO:-0400
TZNAME:America/New_York EDT
END:DAYLIGHT
BEGIN:DAYLIGHT
DTSTART:20270314T030000
RDATE:20271107T010000
TZOFFSETFROM:-0500
TZOFFSETTO:-0400
TZNAME:America/New_York EDT
END:DAYLIGHT
BEGIN:DAYLIGHT
DTSTART:20280312T030000
RDATE:20281105T010000
TZOFFSETFROM:-0500
TZOFFSETTO:-0400
TZNAME:America/New_York EDT
END:DAYLIGHT
END:VTIMEZONE
BEGIN:VEVENT
UID:a243b64ab6fe71f9f1e5825382a714b8
CATEGORIES:English Riding
CREATED:20250729T130813
SUMMARY:Cavaletti clinic with Erika Jansson - Sept 28, 2025 - Petaluma CA
LOCATION:Woodbridge Farm
DESCRIPTION:Cavaletti is a perfect supplement for arena work and is great for building 
 the top line, strength and coordination. Before I knew it jumpers and event
 ers at the barn I was teaching at started inquiring about signing up. And, 
 they too, were accomplishing great results. <br /><br />“ My zen space is w
 hen I feel and communicate with the horse’s mind and body. The greatest pas
 sion and purpose in my professional life is teaching and helping riders acc
 omplish that state of connection with their horse.<br /><br />With Cavalett
 i clinics I can help more people achieve their goals in riding and create m
 ore joy and fun while they are doing it. I love witnessing the confidence b
 uild in horse and rider. It gives me such happiness to teach FEELING, timin
 g, and connection.<br /><br />And it is not just the rider who is happy; th
 e horse is happy too. What can be accomplished between the horse and rider 
 in the short time of cavaletti session is remarkable...”
DTSTAMP:20260425T004935
DTSTART;TZID=America/New_York;VALUE=DATE:20250928
DTEND;TZID=America/New_York;VALUE=DATE:20250929
SEQUENCE:0
TRANSP:OPAQUE
END:VEVENT
END:VCALENDAR