BEGIN:VCALENDAR
VERSION:2.0
PRODID:-//jEvents 2.0 for Joomla//EN
CALSCALE:GREGORIAN
METHOD:PUBLISH
BEGIN:VTIMEZONE
TZID:America/New_York
BEGIN:STANDARD
DTSTART:20241103T010000
RDATE:20250309T030000
TZOFFSETFROM:-0400
TZOFFSETTO:-0500
TZNAME:America/New_York EST
END:STANDARD
BEGIN:STANDARD
DTSTART:20251102T010000
RDATE:20260308T030000
TZOFFSETFROM:-0400
TZOFFSETTO:-0500
TZNAME:America/New_York EST
END:STANDARD
BEGIN:STANDARD
DTSTART:20261101T010000
RDATE:20270314T030000
TZOFFSETFROM:-0400
TZOFFSETTO:-0500
TZNAME:America/New_York EST
END:STANDARD
BEGIN:STANDARD
DTSTART:20271107T010000
RDATE:20280312T030000
TZOFFSETFROM:-0400
TZOFFSETTO:-0500
TZNAME:America/New_York EST
END:STANDARD
BEGIN:STANDARD
DTSTART:20281105T010000
RDATE:20290311T030000
TZOFFSETFROM:-0400
TZOFFSETTO:-0500
TZNAME:America/New_York EST
END:STANDARD
BEGIN:DAYLIGHT
DTSTART:20241017T000000
RDATE:20241103T010000
TZOFFSETFROM:-0500
TZOFFSETTO:-0400
TZNAME:America/New_York EDT
END:DAYLIGHT
BEGIN:DAYLIGHT
DTSTART:20250309T030000
RDATE:20251102T010000
TZOFFSETFROM:-0500
TZOFFSETTO:-0400
TZNAME:America/New_York EDT
END:DAYLIGHT
BEGIN:DAYLIGHT
DTSTART:20260308T030000
RDATE:20261101T010000
TZOFFSETFROM:-0500
TZOFFSETTO:-0400
TZNAME:America/New_York EDT
END:DAYLIGHT
BEGIN:DAYLIGHT
DTSTART:20270314T030000
RDATE:20271107T010000
TZOFFSETFROM:-0500
TZOFFSETTO:-0400
TZNAME:America/New_York EDT
END:DAYLIGHT
BEGIN:DAYLIGHT
DTSTART:20280312T030000
RDATE:20281105T010000
TZOFFSETFROM:-0500
TZOFFSETTO:-0400
TZNAME:America/New_York EDT
END:DAYLIGHT
END:VTIMEZONE
BEGIN:VEVENT
UID:7d72e4baee9c87a5c20403d6ef883f3a
CATEGORIES:English Riding
CREATED:20250729T132445
SUMMARY:Ocala Dressage Competition - Oct 18 - 19, 2025
LOCATION:World Equestrian Center Ocala 
DESCRIPTION:The 2025 dressage competition calendar, sponsored by Hampton Green Farm, at
  World Equestrian Center – Ocala (WEC) is set to feature an impressive line
 up of 10 shows including seven Fédération Equestre International (FEI)-rate
 d events.\n
\n
The 2025 slate of FEI-rated competitions, which run alongsid
 e national US Equestrian (USEF)/United States Dressage Federation (USDF) sh
 ows, will include four CDI3* shows, two CDI4* events and FEI Dressage World
  Cup™ qualifier in December. Each event will also provide qualifying opport
 unities for the Great American Insurance Group/USDF Region 3 Dressage Champ
 ionships. The August shows will also be qualifiers for the 2026 FEI North A
 merican Youth Championships.\n
\n
2025 Dressage Dates:\n
\n
October 18-19, 
 2025: USEF/USDF competition\n
\n
November 12-16, 2025: CDI3*/USEF/USDF comp
 etition\n
\n
December 10-14, 2025: CDI-W/USEF/USDF competition\n
\n
For all
  questions regarding upcoming dressage competition, contact dressage@wec.ne
 t.
X-ALT-DESC;FMTTYPE=text/html:The 2025 dressage competition calendar, sponsored by Hampton Green Farm, at
  World Equestrian Center – Ocala (WEC) is set to feature an impressive line
 up of 10 shows including seven Fédération Equestre International (FEI)-rate
 d events.<br /><br />The 2025 slate of FEI-rated competitions, which run al
 ongside national US Equestrian (USEF)/United States Dressage Federation (US
 DF) shows, will include four CDI3* shows, two CDI4* events and FEI Dressage
  World Cup™ qualifier in December. Each event will also provide qualifying 
 opportunities for the Great American Insurance Group/USDF Region 3 Dressage
  Championships. The August shows will also be qualifiers for the 2026 FEI N
 orth American Youth Championships.<br /><br />2025 Dressage Dates:<br /><br
  />October 18-19, 2025: USEF/USDF competition<br /><br />November 12-16, 20
 25: CDI3*/USEF/USDF competition<br /><br />December 10-14, 2025: CDI-W/USEF
 /USDF competition<br /><br />For all questions regarding upcoming dressage 
 competition, contact dressage@wec.net.
DTSTAMP:20260424T230028
DTSTART;TZID=America/New_York;VALUE=DATE:20251018
DTEND;TZID=America/New_York;VALUE=DATE:20251020
SEQUENCE:0
TRANSP:OPAQUE
END:VEVENT
END:VCALENDAR