BEGIN:VCALENDAR
VERSION:2.0
PRODID:-//jEvents 2.0 for Joomla//EN
CALSCALE:GREGORIAN
METHOD:PUBLISH
BEGIN:VTIMEZONE
TZID:America/New_York
BEGIN:STANDARD
DTSTART:20241103T010000
RDATE:20250309T030000
TZOFFSETFROM:-0400
TZOFFSETTO:-0500
TZNAME:America/New_York EST
END:STANDARD
BEGIN:STANDARD
DTSTART:20251102T010000
RDATE:20260308T030000
TZOFFSETFROM:-0400
TZOFFSETTO:-0500
TZNAME:America/New_York EST
END:STANDARD
BEGIN:STANDARD
DTSTART:20261101T010000
RDATE:20270314T030000
TZOFFSETFROM:-0400
TZOFFSETTO:-0500
TZNAME:America/New_York EST
END:STANDARD
BEGIN:STANDARD
DTSTART:20271107T010000
RDATE:20280312T030000
TZOFFSETFROM:-0400
TZOFFSETTO:-0500
TZNAME:America/New_York EST
END:STANDARD
BEGIN:STANDARD
DTSTART:20281105T010000
RDATE:20290311T030000
TZOFFSETFROM:-0400
TZOFFSETTO:-0500
TZNAME:America/New_York EST
END:STANDARD
BEGIN:DAYLIGHT
DTSTART:20240828T000000
RDATE:20241103T010000
TZOFFSETFROM:-0500
TZOFFSETTO:-0400
TZNAME:America/New_York EDT
END:DAYLIGHT
BEGIN:DAYLIGHT
DTSTART:20250309T030000
RDATE:20251102T010000
TZOFFSETFROM:-0500
TZOFFSETTO:-0400
TZNAME:America/New_York EDT
END:DAYLIGHT
BEGIN:DAYLIGHT
DTSTART:20260308T030000
RDATE:20261101T010000
TZOFFSETFROM:-0500
TZOFFSETTO:-0400
TZNAME:America/New_York EDT
END:DAYLIGHT
BEGIN:DAYLIGHT
DTSTART:20270314T030000
RDATE:20271107T010000
TZOFFSETFROM:-0500
TZOFFSETTO:-0400
TZNAME:America/New_York EDT
END:DAYLIGHT
BEGIN:DAYLIGHT
DTSTART:20280312T030000
RDATE:20281105T010000
TZOFFSETFROM:-0500
TZOFFSETTO:-0400
TZNAME:America/New_York EDT
END:DAYLIGHT
END:VTIMEZONE
BEGIN:VEVENT
UID:44ae5e688e0662d5d10d8c3a744c5890
CATEGORIES:Health & Education
CREATED:20250729T133718
SUMMARY:OEPS 2025 Equine Veterinary Seminar - Lexington, KY
LOCATION: Marriott Lexington Griffin Gate Golf Resort &amp; Spa
DESCRIPTION:Opportunities in Equine Practice Seminar (OEPS) is the leading student foru
 m in equine veterinary medicine, with over 4,100 students attending since i
 ts inception in 2003. The seminar’s career management format offers practic
 e and financial management information for the student and opportunities fo
 r practitioners to establish long-term mentoring relationships with the app
 roximately 200 -225 veterinary students attending.\n
\n
Through OEPS sponso
 rships, travel and hotel funding are provided for third-year veterinary stu
 dents to attend the meeting, where they receive information about various a
 venues and disciplines of equine practice, financial remuneration, employme
 nt, practice ownership, and marketing. Students gain valuable information t
 hrough face-to-face encounters in the Practice Exhibit Hall and presentatio
 ns from practitioners, financial advisors, and practice management consulta
 nts.  
\n
Stay in the ‘Horse Capital of the World’. Set in a peaceful lakes
 ide area within five minutes of a variety of shops and restaurants, we’re t
 hree miles from the University of Kentucky and a 15-minute drive to Keenela
 nd Race Track.
X-ALT-DESC;FMTTYPE=text/html:Opportunities in Equine Practice Seminar (OEPS) is the leading student foru
 m in equine veterinary medicine, with over 4,100 students attending since i
 ts inception in 2003. The seminar’s career management format offers practic
 e and financial management information for the student and opportunities fo
 r practitioners to establish long-term mentoring relationships with the app
 roximately 200 -225 veterinary students attending.<br /><br />Through OEPS 
 sponsorships, travel and hotel funding are provided for third-year veterina
 ry students to attend the meeting, where they receive information about var
 ious avenues and disciplines of equine practice, financial remuneration, em
 ployment, practice ownership, and marketing. Students gain valuable informa
 tion through face-to-face encounters in the Practice Exhibit Hall and prese
 ntations from practitioners, financial advisors, and practice management co
 nsultants.  <br />Stay in the ‘Horse Capital of the World’. Set in a peacef
 ul lakeside area within five minutes of a variety of shops and restaurants,
  we’re three miles from the University of Kentucky and a 15-minute drive to
  Keeneland Race Track.
DTSTAMP:20260424T213011
DTSTART;TZID=America/New_York;VALUE=DATE:20250829
DTEND;TZID=America/New_York;VALUE=DATE:20250901
SEQUENCE:0
TRANSP:OPAQUE
END:VEVENT
END:VCALENDAR