BEGIN:VCALENDAR
VERSION:2.0
PRODID:-//jEvents 2.0 for Joomla//EN
CALSCALE:GREGORIAN
METHOD:PUBLISH
BEGIN:VTIMEZONE
TZID:America/New_York
BEGIN:STANDARD
DTSTART:20241103T010000
RDATE:20250309T030000
TZOFFSETFROM:-0400
TZOFFSETTO:-0500
TZNAME:America/New_York EST
END:STANDARD
BEGIN:STANDARD
DTSTART:20251102T010000
RDATE:20260308T030000
TZOFFSETFROM:-0400
TZOFFSETTO:-0500
TZNAME:America/New_York EST
END:STANDARD
BEGIN:STANDARD
DTSTART:20261101T010000
RDATE:20270314T030000
TZOFFSETFROM:-0400
TZOFFSETTO:-0500
TZNAME:America/New_York EST
END:STANDARD
BEGIN:STANDARD
DTSTART:20271107T010000
RDATE:20280312T030000
TZOFFSETFROM:-0400
TZOFFSETTO:-0500
TZNAME:America/New_York EST
END:STANDARD
BEGIN:STANDARD
DTSTART:20281105T010000
RDATE:20290311T030000
TZOFFSETFROM:-0400
TZOFFSETTO:-0500
TZNAME:America/New_York EST
END:STANDARD
BEGIN:DAYLIGHT
DTSTART:20240914T093000
RDATE:20241103T010000
TZOFFSETFROM:-0500
TZOFFSETTO:-0400
TZNAME:America/New_York EDT
END:DAYLIGHT
BEGIN:DAYLIGHT
DTSTART:20250309T030000
RDATE:20251102T010000
TZOFFSETFROM:-0500
TZOFFSETTO:-0400
TZNAME:America/New_York EDT
END:DAYLIGHT
BEGIN:DAYLIGHT
DTSTART:20260308T030000
RDATE:20261101T010000
TZOFFSETFROM:-0500
TZOFFSETTO:-0400
TZNAME:America/New_York EDT
END:DAYLIGHT
BEGIN:DAYLIGHT
DTSTART:20270314T030000
RDATE:20271107T010000
TZOFFSETFROM:-0500
TZOFFSETTO:-0400
TZNAME:America/New_York EDT
END:DAYLIGHT
BEGIN:DAYLIGHT
DTSTART:20280312T030000
RDATE:20281105T010000
TZOFFSETFROM:-0500
TZOFFSETTO:-0400
TZNAME:America/New_York EDT
END:DAYLIGHT
END:VTIMEZONE
BEGIN:VEVENT
UID:0cc4bdf0b459c3d699602b51f8d744a8
CATEGORIES:Health & Education
CREATED:20250730T112453
SUMMARY:9th International Conference on Nursing Science & Practice 
LOCATION:RENAISSANCE LONDON HEATHROW HOTEL
DESCRIPTION:Nursing Science Conference plays a crucial role in advancing the field of n
 ursing in several ways, like: Knowledge exchange, professional development,
  networking, research dissemination, inspiration, and motivation. The confe
 rence presents an opportunity for continuing education and offers exciting 
 activities to connect with fellow nursing scholars, professionals, and rese
 archers.<br /><br />USG United Scientific Group is an approved provider for
  Continuing Education Units (CEUs) by the California Board of Registered Nu
 rsing (CBRN). The provider number is CEP 17854.<br /><br />Attendees who me
 et the eligibility requirements for Contact Hours (CEUs) can earn contact h
 ours for concurrent and poster sessions. Participants attending the in-pers
 on conference may earn up to 18 contact hours. Please note that the total a
 vailable hours are subject to change without notice due to potential adjust
 ments in the conference schedule.
DTSTAMP:20260424T213146
DTSTART;TZID=America/New_York:20250915T093000
DTEND;TZID=America/New_York:20250917T183000
SEQUENCE:0
TRANSP:OPAQUE
END:VEVENT
END:VCALENDAR