BEGIN:VCALENDAR
VERSION:2.0
PRODID:-//jEvents 2.0 for Joomla//EN
CALSCALE:GREGORIAN
METHOD:PUBLISH
BEGIN:VTIMEZONE
TZID:America/New_York
BEGIN:STANDARD
DTSTART:20250109T000000
RDATE:20250309T030000
TZOFFSETFROM:-0400
TZOFFSETTO:-0500
TZNAME:America/New_York EST
END:STANDARD
BEGIN:STANDARD
DTSTART:20251102T010000
RDATE:20260308T030000
TZOFFSETFROM:-0400
TZOFFSETTO:-0500
TZNAME:America/New_York EST
END:STANDARD
BEGIN:STANDARD
DTSTART:20261101T010000
RDATE:20270314T030000
TZOFFSETFROM:-0400
TZOFFSETTO:-0500
TZNAME:America/New_York EST
END:STANDARD
BEGIN:STANDARD
DTSTART:20271107T010000
RDATE:20280312T030000
TZOFFSETFROM:-0400
TZOFFSETTO:-0500
TZNAME:America/New_York EST
END:STANDARD
BEGIN:STANDARD
DTSTART:20281105T010000
RDATE:20290311T030000
TZOFFSETFROM:-0400
TZOFFSETTO:-0500
TZNAME:America/New_York EST
END:STANDARD
BEGIN:DAYLIGHT
DTSTART:20250309T030000
RDATE:20251102T010000
TZOFFSETFROM:-0500
TZOFFSETTO:-0400
TZNAME:America/New_York EDT
END:DAYLIGHT
BEGIN:DAYLIGHT
DTSTART:20260308T030000
RDATE:20261101T010000
TZOFFSETFROM:-0500
TZOFFSETTO:-0400
TZNAME:America/New_York EDT
END:DAYLIGHT
BEGIN:DAYLIGHT
DTSTART:20270314T030000
RDATE:20271107T010000
TZOFFSETFROM:-0500
TZOFFSETTO:-0400
TZNAME:America/New_York EDT
END:DAYLIGHT
BEGIN:DAYLIGHT
DTSTART:20280312T030000
RDATE:20281105T010000
TZOFFSETFROM:-0500
TZOFFSETTO:-0400
TZNAME:America/New_York EDT
END:DAYLIGHT
END:VTIMEZONE
BEGIN:VEVENT
UID:149d85a4780838650461a65cd75f29ae
CATEGORIES:Racing Sales
CREATED:20250825T135444
SUMMARY:Michigan Quarter Horse Assoc. Stallion Service Sale
LOCATION:FireKeepers Casino Hotel
DESCRIPTION:Stallions become available on auction day. Attend the sale in person or cal
 l the MQHA office by Thursday, preceding the sale, and give us your informa
 tion so you can participate in the live auction via phone! The auction will
  also be on Zoom. For phone bids, we will call you on Saturday when your st
 allion will be auctioned. All bids start at 60% of the advertised breeding 
 fee with a minimum bid of $400. There is a $35 office fee added to all stal
 lions purchased. All stallions not sold at the auction will be available on
  the online auction platform (see link below) through January 12.  After Ja
 nuary 12, remaining stallions can be purchased directly through the MQHA of
 fice.  Call the MQHA office (616) 225-8211 to participate in the Auction by
  phone!
DTSTAMP:20260424T213236
DTSTART;TZID=America/New_York;VALUE=DATE:20260110
DTEND;TZID=America/New_York;VALUE=DATE:20260111
SEQUENCE:0
TRANSP:OPAQUE
END:VEVENT
END:VCALENDAR