BEGIN:VCALENDAR
VERSION:2.0
PRODID:-//jEvents 2.0 for Joomla//EN
CALSCALE:GREGORIAN
METHOD:PUBLISH
BEGIN:VTIMEZONE
TZID:America/New_York
BEGIN:STANDARD
DTSTART:20241103T010000
RDATE:20250309T030000
TZOFFSETFROM:-0400
TZOFFSETTO:-0500
TZNAME:America/New_York EST
END:STANDARD
BEGIN:STANDARD
DTSTART:20251102T010000
RDATE:20260308T030000
TZOFFSETFROM:-0400
TZOFFSETTO:-0500
TZNAME:America/New_York EST
END:STANDARD
BEGIN:STANDARD
DTSTART:20261101T010000
RDATE:20270314T030000
TZOFFSETFROM:-0400
TZOFFSETTO:-0500
TZNAME:America/New_York EST
END:STANDARD
BEGIN:STANDARD
DTSTART:20271107T010000
RDATE:20280312T030000
TZOFFSETFROM:-0400
TZOFFSETTO:-0500
TZNAME:America/New_York EST
END:STANDARD
BEGIN:STANDARD
DTSTART:20281105T010000
RDATE:20290311T030000
TZOFFSETFROM:-0400
TZOFFSETTO:-0500
TZNAME:America/New_York EST
END:STANDARD
BEGIN:DAYLIGHT
DTSTART:20240915T180000
RDATE:20241103T010000
TZOFFSETFROM:-0500
TZOFFSETTO:-0400
TZNAME:America/New_York EDT
END:DAYLIGHT
BEGIN:DAYLIGHT
DTSTART:20250309T030000
RDATE:20251102T010000
TZOFFSETFROM:-0500
TZOFFSETTO:-0400
TZNAME:America/New_York EDT
END:DAYLIGHT
BEGIN:DAYLIGHT
DTSTART:20260308T030000
RDATE:20261101T010000
TZOFFSETFROM:-0500
TZOFFSETTO:-0400
TZNAME:America/New_York EDT
END:DAYLIGHT
BEGIN:DAYLIGHT
DTSTART:20270314T030000
RDATE:20271107T010000
TZOFFSETFROM:-0500
TZOFFSETTO:-0400
TZNAME:America/New_York EDT
END:DAYLIGHT
BEGIN:DAYLIGHT
DTSTART:20280312T030000
RDATE:20281105T010000
TZOFFSETFROM:-0500
TZOFFSETTO:-0400
TZNAME:America/New_York EDT
END:DAYLIGHT
END:VTIMEZONE
BEGIN:VEVENT
UID:b2549bedbefa590787ceddaf11cd2d60
CATEGORIES:Health & Education
CREATED:20250903T100716
SUMMARY:Cornell’s Equine - A Horse’s Gut Journey: Understanding Colic
LOCATION:Online Virtual Event
DESCRIPTION:WHAT: Dr. Barbara Delvescovo will provide an overview of colic.\n
WHEN: Tue
 sday, September 16, 2025, 6:00-7:00 p.m. ET\n
WHERE: Via Zoom; registration
  required at this  (https://cornell.zoom.us/webinar/register/WN_Z2i3pdKDRqW
 8gYf46H1UQg#/registration)LINK\n
MEDIA: The event is free and open to the p
 ublic. Media members are asked to RSVP to Len Johnson, Len.Johnson@Cornell.
 edu\n
\n

ITHACA, N.Y. – Please join us for our kick-off the 2025 fall Equi
 ne Seminar Series with “A Horse’s Gut Journey: Understanding Colic One Stop
  at a Time.: The presenter is Barbara Delvescovo, DVM, DACVIM, DACVECC. She
  graduated in Italy and worked for several years in equine practice in Irel
 and, managing Thoroughbred racehorses in training, broodmares, and sick foa
 ls. Dr. Delvescovo joined Cornell in 2017, where she first completed specia
 lized training in Large Animal Medicine, followed by a residency in Emergen
 cy and Critical Care. Her primary interests include critical care, colic, a
 nd neonatology. 
\n

 This seminar is part of the Cornell Equine Seminar Se
 ries, and will be presented on Tuesday, September 16, 2025 from 6:00-7:00 p
 .m. Eastern Time via Zoom. Please register in advance.
\n
The Cornell Equin
 e Seminar Series is presented by the Cornell Equine Hospital and Cornell Co
 operative Extension. Held monthly, equine experts present on important equi
 ne health and management topics. The event is free and open to the public. 
  Media members are asked to register with Len Johnson at Len.Johnson@Cornel
 l.edu.
\n
For additional information about the college, see the College of 
 Veterinary Medicine news website (https://www.vet.cornell.edu/about-us/news
 ).

 
X-ALT-DESC;FMTTYPE=text/html:<p>WHAT: Dr. Barbara Delvescovo will provide an overview of colic.<br />WHE
 N: Tuesday, September 16, 2025, 6:00-7:00 p.m. ET<br />WHERE: Via Zoom; reg
 istration required at this <A href="https://cornell.zoom.us/webinar/registe
 r/WN_Z2i3pdKDRqW8gYf46H1UQg#/registration" />LINK</a><br />MEDIA: The event
  is free and open to the public. Media members are asked to RSVP to Len Joh
 nson, Len.Johnson@Cornell.edu<br /></p><p>ITHACA, N.Y. – Please join us for
  our kick-off the 2025 fall Equine Seminar Series with “A Horse’s Gut Journ
 ey: Understanding Colic One Stop at a Time.: The presenter is Barbara Delve
 scovo, DVM, DACVIM, DACVECC. She graduated in Italy and worked for several 
 years in equine practice in Ireland, managing Thoroughbred racehorses in tr
 aining, broodmares, and sick foals. Dr. Delvescovo joined Cornell in 2017, 
 where she first completed specialized training in Large Animal Medicine, fo
 llowed by a residency in Emergency and Critical Care. Her primary interests
  include critical care, colic, and neonatology. </p><p> This seminar is par
 t of the Cornell Equine Seminar Series, and will be presented on Tuesday, S
 eptember 16, 2025 from 6:00-7:00 p.m. Eastern Time via Zoom. Please registe
 r in advance.</p><p>The Cornell Equine Seminar Series is presented by the C
 ornell Equine Hospital and Cornell Cooperative Extension. Held monthly, equ
 ine experts present on important equine health and management topics. The e
 vent is free and open to the public.  Media members are asked to register w
 ith Len Johnson at Len.Johnson@Cornell.edu.</p><p />For additional informat
 ion about the college, see the College of Veterinary Medicine <a href="http
 s://www.vet.cornell.edu/about-us/news">news website</a>. 
DTSTAMP:20260425T004303
DTSTART;TZID=America/New_York:20250916T180000
DTEND;TZID=America/New_York:20250916T190000
SEQUENCE:0
TRANSP:OPAQUE
END:VEVENT
END:VCALENDAR