BEGIN:VCALENDAR
VERSION:2.0
PRODID:-//jEvents 2.0 for Joomla//EN
CALSCALE:GREGORIAN
METHOD:PUBLISH
BEGIN:VTIMEZONE
TZID:America/New_York
BEGIN:STANDARD
DTSTART:20241103T010000
RDATE:20250309T030000
TZOFFSETFROM:-0400
TZOFFSETTO:-0500
TZNAME:America/New_York EST
END:STANDARD
BEGIN:STANDARD
DTSTART:20251102T010000
RDATE:20260308T030000
TZOFFSETFROM:-0400
TZOFFSETTO:-0500
TZNAME:America/New_York EST
END:STANDARD
BEGIN:STANDARD
DTSTART:20261101T010000
RDATE:20270314T030000
TZOFFSETFROM:-0400
TZOFFSETTO:-0500
TZNAME:America/New_York EST
END:STANDARD
BEGIN:STANDARD
DTSTART:20271107T010000
RDATE:20280312T030000
TZOFFSETFROM:-0400
TZOFFSETTO:-0500
TZNAME:America/New_York EST
END:STANDARD
BEGIN:STANDARD
DTSTART:20281105T010000
RDATE:20290311T030000
TZOFFSETFROM:-0400
TZOFFSETTO:-0500
TZNAME:America/New_York EST
END:STANDARD
BEGIN:DAYLIGHT
DTSTART:20241018T153000
RDATE:20241103T010000
TZOFFSETFROM:-0500
TZOFFSETTO:-0400
TZNAME:America/New_York EDT
END:DAYLIGHT
BEGIN:DAYLIGHT
DTSTART:20250309T030000
RDATE:20251102T010000
TZOFFSETFROM:-0500
TZOFFSETTO:-0400
TZNAME:America/New_York EDT
END:DAYLIGHT
BEGIN:DAYLIGHT
DTSTART:20260308T030000
RDATE:20261101T010000
TZOFFSETFROM:-0500
TZOFFSETTO:-0400
TZNAME:America/New_York EDT
END:DAYLIGHT
BEGIN:DAYLIGHT
DTSTART:20270314T030000
RDATE:20271107T010000
TZOFFSETFROM:-0500
TZOFFSETTO:-0400
TZNAME:America/New_York EDT
END:DAYLIGHT
BEGIN:DAYLIGHT
DTSTART:20280312T030000
RDATE:20281105T010000
TZOFFSETFROM:-0500
TZOFFSETTO:-0400
TZNAME:America/New_York EDT
END:DAYLIGHT
END:VTIMEZONE
BEGIN:VEVENT
UID:6592dc01336bc7a7421d5c5c00416daf
CATEGORIES:Recreation & Lifestyle
CREATED:20250922T095017
SUMMARY:Brooke USA’s 4th Annual Ponies & Pearls 
LOCATION:New Bridge Polo &amp; Country Club
DESCRIPTION:An Equine Celebration Event<br /><br />Brooke USA’s Ponies & Pearls is an e
 quine celebration event supporting our global programs focused on improving
  the lives of working horses, donkeys and mules and the people they serve i
 n some of the world’s most vulnerable communities. <br /><br />Join us for 
 a delightful afternoon filled with fun, friendship and festivities to honor
  our equine partners. Watch a thrilling polo match from the VIP clubhouse l
 awn and cheer on your favorite players and horses. Try one of our event sig
 nature cocktails from Tito’s Handmade Vodka or sip on a refreshing mimosa f
 rom the Sister’s Bubbly Buggy — offering a variety of delicious flavors. Mi
 x and mingle with old and new friends, including our beloved burro buddies,
  Kate and Lola.<br /><br />The event will also feature a flower bouquet bar
  where you can create your own custom arrangement, and a hat bar where you 
 can design or choose the perfect accessory to complement your look. Don’t f
 orget to enter the hat contest and show off your style for a chance to win 
 fabulous prizes!<br /><br />Bid on unique items during our silent auction, 
 with proceeds supporting a great cause, and enjoy the relaxed, joyful atmos
 phere that brings our community together.
DTSTAMP:20260424T230059
DTSTART;TZID=America/New_York:20251019T153000
DTEND;TZID=America/New_York:20251019T190000
SEQUENCE:0
TRANSP:OPAQUE
END:VEVENT
END:VCALENDAR