BEGIN:VCALENDAR
VERSION:2.0
PRODID:-//jEvents 2.0 for Joomla//EN
CALSCALE:GREGORIAN
METHOD:PUBLISH
BEGIN:VTIMEZONE
TZID:America/New_York
BEGIN:STANDARD
DTSTART:20241103T010000
RDATE:20250309T030000
TZOFFSETFROM:-0400
TZOFFSETTO:-0500
TZNAME:America/New_York EST
END:STANDARD
BEGIN:STANDARD
DTSTART:20251102T010000
RDATE:20260308T030000
TZOFFSETFROM:-0400
TZOFFSETTO:-0500
TZNAME:America/New_York EST
END:STANDARD
BEGIN:STANDARD
DTSTART:20261101T010000
RDATE:20270314T030000
TZOFFSETFROM:-0400
TZOFFSETTO:-0500
TZNAME:America/New_York EST
END:STANDARD
BEGIN:STANDARD
DTSTART:20271107T010000
RDATE:20280312T030000
TZOFFSETFROM:-0400
TZOFFSETTO:-0500
TZNAME:America/New_York EST
END:STANDARD
BEGIN:STANDARD
DTSTART:20281105T010000
RDATE:20290311T030000
TZOFFSETFROM:-0400
TZOFFSETTO:-0500
TZNAME:America/New_York EST
END:STANDARD
BEGIN:DAYLIGHT
DTSTART:20241022T173000
RDATE:20241103T010000
TZOFFSETFROM:-0500
TZOFFSETTO:-0400
TZNAME:America/New_York EDT
END:DAYLIGHT
BEGIN:DAYLIGHT
DTSTART:20250309T030000
RDATE:20251102T010000
TZOFFSETFROM:-0500
TZOFFSETTO:-0400
TZNAME:America/New_York EDT
END:DAYLIGHT
BEGIN:DAYLIGHT
DTSTART:20260308T030000
RDATE:20261101T010000
TZOFFSETFROM:-0500
TZOFFSETTO:-0400
TZNAME:America/New_York EDT
END:DAYLIGHT
BEGIN:DAYLIGHT
DTSTART:20270314T030000
RDATE:20271107T010000
TZOFFSETFROM:-0500
TZOFFSETTO:-0400
TZNAME:America/New_York EDT
END:DAYLIGHT
BEGIN:DAYLIGHT
DTSTART:20280312T030000
RDATE:20281105T010000
TZOFFSETFROM:-0500
TZOFFSETTO:-0400
TZNAME:America/New_York EDT
END:DAYLIGHT
END:VTIMEZONE
BEGIN:VEVENT
UID:34f96f2309050f52d818a15c02ae9077
CATEGORIES:Recreation & Lifestyle
CREATED:20250922T095354
SUMMARY:Brooke USA's 5th Annual Divertimentos & Dressage Musical Freestyle to Live Symphony Orchestra
LOCATION:Tryon International Equestrian Center
DESCRIPTION:Brooke USA's 5th Annual Divertimentos &amp; Dressage Musical Freestyle to L
 ive Symphony Orchestra\n
Experience the magic of Divertimentos &amp; Dressa
 ge, a captivating dressage musical freestyle set to the sounds of a live sy
 mphonic orchestra. Join us on Thursday, October 23rd from 5:30-9 p.m. at Tr
 yon International Equestrian Center, where spectators will be overwhelmed b
 y a mesmerizing collaboration between horses, riders, orchestra, and guests
 , all while sharing the arena.  \n
\n
Dressage riders and their majestic ho
 rses will enthrall the audience with breathtaking freestyle performances to
  live orchestral music, this year by the Hendersonville Symphony Orchestra.
 \n
\n
Event Chair Sharon Decker is planning an unforgettable evening filled
  with culinary delights and beverages, a silent auction, a travel auction, 
 and much more.  \n
\n
Help Brooke USA Foundation significantly improve the 
 health, welfare and productivity of working horses, donkeys and mules and t
 he people who depend on them to survive in the most vulnerable communities 
 worldwide and in the United States. \n
\n
Divertimentos &amp; Dressage is a
 n exciting event that brings together people who genuinely want to make a d
 ifference by raising funds for Brooke USA Foundation’s projects that allevi
 ate the suffering of working horses, donkeys and mules and the people who d
 epend on them for survival in the most vulnerable communities worldwide and
  right here in the United States.\n
\n
The Program:\n
\n
5:30-7:00 PM: A pr
 e-performance reception with cocktails and hors d'oeuvres, as well as silen
 t and travel auctions.\n
\n
7:00-8:00 PM: A one-hour concert of music perfo
 rmed by members of the Hendersonville Symphony Orchestra featuring choreogr
 aphed dressage to classical music.\n
\n
8:00-9:00 PM: Dessert &amp; Coffee\
 n
\n
Please note that you will be entering the arena during the performance
 , and we suggest that you wear appropriate footwear.\n
\n

X-ALT-DESC;FMTTYPE=text/html:Brooke USA's 5th Annual Divertimentos & Dressage Musical Freestyle to Live 
 Symphony Orchestra<br />Experience the magic of Divertimentos & Dressage, a
  captivating dressage musical freestyle set to the sounds of a live symphon
 ic orchestra. Join us on Thursday, October 23rd from 5:30-9 p.m. at Tryon I
 nternational Equestrian Center, where spectators will be overwhelmed by a m
 esmerizing collaboration between horses, riders, orchestra, and guests, all
  while sharing the arena.  <br /><br />Dressage riders and their majestic h
 orses will enthrall the audience with breathtaking freestyle performances t
 o live orchestral music, this year by the Hendersonville Symphony Orchestra
 .<br /><br />Event Chair Sharon Decker is planning an unforgettable evening
  filled with culinary delights and beverages, a silent auction, a travel au
 ction, and much more.  <br /><br />Help Brooke USA Foundation significantly
  improve the health, welfare and productivity of working horses, donkeys an
 d mules and the people who depend on them to survive in the most vulnerable
  communities worldwide and in the United States. <br /><br />Divertimentos 
 & Dressage is an exciting event that brings together people who genuinely w
 ant to make a difference by raising funds for Brooke USA Foundation’s proje
 cts that alleviate the suffering of working horses, donkeys and mules and t
 he people who depend on them for survival in the most vulnerable communitie
 s worldwide and right here in the United States.<br /><br />The Program:<br
  /><br />5:30-7:00 PM: A pre-performance reception with cocktails and hors 
 d'oeuvres, as well as silent and travel auctions.<br /><br />7:00-8:00 PM: 
 A one-hour concert of music performed by members of the Hendersonville Symp
 hony Orchestra featuring choreographed dressage to classical music.<br /><b
 r />8:00-9:00 PM: Dessert & Coffee<br /><br />Please note that you will be 
 entering the arena during the performance, and we suggest that you wear app
 ropriate footwear.<br /><br />
DTSTAMP:20260425T024020
DTSTART;TZID=America/New_York:20251023T173000
DTEND;TZID=America/New_York:20251023T210000
SEQUENCE:0
TRANSP:OPAQUE
END:VEVENT
END:VCALENDAR