BEGIN:VCALENDAR
VERSION:2.0
PRODID:-//jEvents 2.0 for Joomla//EN
CALSCALE:GREGORIAN
METHOD:PUBLISH
BEGIN:VTIMEZONE
TZID:America/New_York
BEGIN:STANDARD
DTSTART:20241117T180000
RDATE:20250309T030000
TZOFFSETFROM:-0400
TZOFFSETTO:-0500
TZNAME:America/New_York EST
END:STANDARD
BEGIN:STANDARD
DTSTART:20251102T010000
RDATE:20260308T030000
TZOFFSETFROM:-0400
TZOFFSETTO:-0500
TZNAME:America/New_York EST
END:STANDARD
BEGIN:STANDARD
DTSTART:20261101T010000
RDATE:20270314T030000
TZOFFSETFROM:-0400
TZOFFSETTO:-0500
TZNAME:America/New_York EST
END:STANDARD
BEGIN:STANDARD
DTSTART:20271107T010000
RDATE:20280312T030000
TZOFFSETFROM:-0400
TZOFFSETTO:-0500
TZNAME:America/New_York EST
END:STANDARD
BEGIN:STANDARD
DTSTART:20281105T010000
RDATE:20290311T030000
TZOFFSETFROM:-0400
TZOFFSETTO:-0500
TZNAME:America/New_York EST
END:STANDARD
BEGIN:DAYLIGHT
DTSTART:20250309T030000
RDATE:20251102T010000
TZOFFSETFROM:-0500
TZOFFSETTO:-0400
TZNAME:America/New_York EDT
END:DAYLIGHT
BEGIN:DAYLIGHT
DTSTART:20260308T030000
RDATE:20261101T010000
TZOFFSETFROM:-0500
TZOFFSETTO:-0400
TZNAME:America/New_York EDT
END:DAYLIGHT
BEGIN:DAYLIGHT
DTSTART:20270314T030000
RDATE:20271107T010000
TZOFFSETFROM:-0500
TZOFFSETTO:-0400
TZNAME:America/New_York EDT
END:DAYLIGHT
BEGIN:DAYLIGHT
DTSTART:20280312T030000
RDATE:20281105T010000
TZOFFSETFROM:-0500
TZOFFSETTO:-0400
TZNAME:America/New_York EDT
END:DAYLIGHT
END:VTIMEZONE
BEGIN:VEVENT
UID:6367ead4c61ae23e67838294962386c9
CATEGORIES:Health & Education
CREATED:20251104T101913
SUMMARY:Cornell’s Equine Seminar Series presents “Help! My vet heard irregular heartbeats"
LOCATION:Online Virtual Event
DESCRIPTION:WHAT: Dr. Katharyn Mitchell will discuss cardiac arrhythmias in horses.\n
W
 HEN: Tuesday, November 18, 2025, 6:00-7:00 p.m. ET\n
WHERE: Via Zoom; regis
 tration required at this  (https://cornell.zoom.us/webinar/register/6317610
 929323/WN_ExNcfen5T1eULl-wuuQCvg#/registration)LINK\n
MEDIA: The event is f
 ree and open to the public. Media members are asked to RSVP to Len Johnson,
  Len.Johnson@Cornell.edu\n
ITHACA, N.Y. – Dr. Mitchell's presentation will 
 discuss common reasons for horses to have an irregular heart rhythm, otherw
 ise known as an arrhythmia. She will talk about when these arrhythmias shou
 ld be investigated, safety considerations for horses with arrhythmias, espe
 cially during exercise, and what arrhythmia treatments are currently availa
 ble.\n
\n
About Dr. Mitchell: Dr. Katharyn Mitchell graduated from Massey U
 niversity, New Zealand, in 2003 and since graduating she has been on a jour
 ney with equine medicine that has taken her around the world. In addition t
 o her first three years spent as an intern, and nearly 5 years in private m
 ixed practice in Australia, Dr Mitchell completed her residency in large an
 imal internal medicine at Cornell University, USA in 2010. In 2013, Dr Mitc
 hell headed to Switzerland, where she completed a PhD in equine cardiology 
 in 2018.  Currently Dr. Mitchell is an Assistant Professor in Large Animal 
 Internal Medicine at Cornell University in the USA where she is continuing 
 to investigate equine arrhythmias, valvular heart disease and the role of t
 he cardiovascular system in critically ill patients.\n
\n
This seminar is p
 art of the Cornell Equine Seminar Series, and will be presented on Tuesday,
  November 18, 2025 from 6:00-7:00 p.m. Eastern Time via Zoom. Please regist
 er in advance.\n
\n
The Cornell Equine Seminar Series is presented by the C
 ornell Equine Hospital and Cornell Cooperative Extension. Held monthly, equ
 ine experts present on important equine health and management topics. The e
 vent is free and open to the public.  Media members are asked to register w
 ith Len Johnson at Len.Johnson@Cornell.edu.\n
\n
For additional information
  about the college, see the College of Veterinary Medicine news website.\n

 \n
\n
 \n
\n
 
X-ALT-DESC;FMTTYPE=text/html:WHAT: Dr. Katharyn Mitchell will discuss cardiac arrhythmias in horses.<br 
 />WHEN: Tuesday, November 18, 2025, 6:00-7:00 p.m. ET<br />WHERE: Via Zoom;
  registration required at this <A href="https://cornell.zoom.us/webinar/reg
 ister/6317610929323/WN_ExNcfen5T1eULl-wuuQCvg#/registration" target="_blank
 " />LINK</a><br />MEDIA: The event is free and open to the public. Media me
 mbers are asked to RSVP to Len Johnson, Len.Johnson@Cornell.edu<br />ITHACA
 , N.Y. – Dr. Mitchell's presentation will discuss common reasons for horses
  to have an irregular heart rhythm, otherwise known as an arrhythmia. She w
 ill talk about when these arrhythmias should be investigated, safety consid
 erations for horses with arrhythmias, especially during exercise, and what 
 arrhythmia treatments are currently available.<br /><br />About Dr. Mitchel
 l: Dr. Katharyn Mitchell graduated from Massey University, New Zealand, in 
 2003 and since graduating she has been on a journey with equine medicine th
 at has taken her around the world. In addition to her first three years spe
 nt as an intern, and nearly 5 years in private mixed practice in Australia,
  Dr Mitchell completed her residency in large animal internal medicine at C
 ornell University, USA in 2010. In 2013, Dr Mitchell headed to Switzerland,
  where she completed a PhD in equine cardiology in 2018.  Currently Dr. Mit
 chell is an Assistant Professor in Large Animal Internal Medicine at Cornel
 l University in the USA where she is continuing to investigate equine arrhy
 thmias, valvular heart disease and the role of the cardiovascular system in
  critically ill patients.<br /><br />This seminar is part of the Cornell Eq
 uine Seminar Series, and will be presented on Tuesday, November 18, 2025 fr
 om 6:00-7:00 p.m. Eastern Time via Zoom. Please register in advance.<br /><
 br />The Cornell Equine Seminar Series is presented by the Cornell Equine H
 ospital and Cornell Cooperative Extension. Held monthly, equine experts pre
 sent on important equine health and management topics. The event is free an
 d open to the public.  Media members are asked to register with Len Johnson
  at Len.Johnson@Cornell.edu.<br /><br />For additional information about th
 e college, see the College of Veterinary Medicine news website.<br /><br />
 <br /> <br /><br /> 
DTSTAMP:20260425T022845
DTSTART;TZID=America/New_York:20251118T180000
DTEND;TZID=America/New_York:20251118T190000
SEQUENCE:0
TRANSP:OPAQUE
END:VEVENT
END:VCALENDAR