BEGIN:VCALENDAR
VERSION:2.0
PRODID:-//jEvents 2.0 for Joomla//EN
CALSCALE:GREGORIAN
METHOD:PUBLISH
BEGIN:VTIMEZONE
TZID:America/New_York
BEGIN:STANDARD
DTSTART:20251102T010000
RDATE:20260308T030000
TZOFFSETFROM:-0400
TZOFFSETTO:-0500
TZNAME:America/New_York EST
END:STANDARD
BEGIN:STANDARD
DTSTART:20261101T010000
RDATE:20270314T030000
TZOFFSETFROM:-0400
TZOFFSETTO:-0500
TZNAME:America/New_York EST
END:STANDARD
BEGIN:STANDARD
DTSTART:20271107T010000
RDATE:20280312T030000
TZOFFSETFROM:-0400
TZOFFSETTO:-0500
TZNAME:America/New_York EST
END:STANDARD
BEGIN:STANDARD
DTSTART:20281105T010000
RDATE:20290311T030000
TZOFFSETFROM:-0400
TZOFFSETTO:-0500
TZNAME:America/New_York EST
END:STANDARD
BEGIN:DAYLIGHT
DTSTART:20250318T090000
RDATE:20251102T010000
TZOFFSETFROM:-0500
TZOFFSETTO:-0400
TZNAME:America/New_York EDT
END:DAYLIGHT
BEGIN:DAYLIGHT
DTSTART:20260308T030000
RDATE:20261101T010000
TZOFFSETFROM:-0500
TZOFFSETTO:-0400
TZNAME:America/New_York EDT
END:DAYLIGHT
BEGIN:DAYLIGHT
DTSTART:20270314T030000
RDATE:20271107T010000
TZOFFSETFROM:-0500
TZOFFSETTO:-0400
TZNAME:America/New_York EDT
END:DAYLIGHT
BEGIN:DAYLIGHT
DTSTART:20280312T030000
RDATE:20281105T010000
TZOFFSETFROM:-0500
TZOFFSETTO:-0400
TZNAME:America/New_York EDT
END:DAYLIGHT
END:VTIMEZONE
BEGIN:VEVENT
UID:58e8217fee0cca3397bc0e8c424a7e23
CATEGORIES:Horse Racing
CREATED:20251124T132825
SUMMARY:Road to the Horse at Kentucky Horse Park 2026
LOCATION:Alltech Arena at the Kentucky Horse Park
DESCRIPTION:Road to the Horse 2026: The World Championship of Colt Starting\n
Watch the
  world’s best colt starters in action at Road to the Horse 2026 at the Kent
 ucky Horse Park. \n
\n
Learn more at www.roadtothehorse.com.\n
Get a specia
 l offer for 2026 tickets: Road to the Horse - Seating 2026 - Four Day Pass 
 (https://www.etix.com/ticket/p/44343279/road-to-the-horse-seating-2026-four
 -day-pass-lexington-kentucky-alltech-arena)\n
X-ALT-DESC;FMTTYPE=text/html:<p>Road to the Horse 2026: The World Championship of Colt Starting<br />Wat
 ch the world’s best colt starters in action at Road to the Horse 2026 at th
 e Kentucky Horse Park. <br /><br />Learn more at www.roadtothehorse.com.</p
 ><p>Get a special offer for 2026 tickets: <a href="https://www.etix.com/tic
 ket/p/44343279/road-to-the-horse-seating-2026-four-day-pass-lexington-kentu
 cky-alltech-arena">Road to the Horse - Seating 2026 - Four Day Pass</a></p>
DTSTAMP:20260424T194003
DTSTART;TZID=America/New_York:20260319T090000
DTEND;TZID=America/New_York:20260322T220000
SEQUENCE:0
TRANSP:OPAQUE
END:VEVENT
END:VCALENDAR