BEGIN:VCALENDAR
VERSION:2.0
PRODID:-//jEvents 2.0 for Joomla//EN
CALSCALE:GREGORIAN
METHOD:PUBLISH
BEGIN:VTIMEZONE
TZID:America/New_York
BEGIN:STANDARD
DTSTART:20250112T000000
RDATE:20250309T030000
TZOFFSETFROM:-0400
TZOFFSETTO:-0500
TZNAME:America/New_York EST
END:STANDARD
BEGIN:STANDARD
DTSTART:20251102T010000
RDATE:20260308T030000
TZOFFSETFROM:-0400
TZOFFSETTO:-0500
TZNAME:America/New_York EST
END:STANDARD
BEGIN:STANDARD
DTSTART:20261101T010000
RDATE:20270314T030000
TZOFFSETFROM:-0400
TZOFFSETTO:-0500
TZNAME:America/New_York EST
END:STANDARD
BEGIN:STANDARD
DTSTART:20271107T010000
RDATE:20280312T030000
TZOFFSETFROM:-0400
TZOFFSETTO:-0500
TZNAME:America/New_York EST
END:STANDARD
BEGIN:STANDARD
DTSTART:20281105T010000
RDATE:20290311T030000
TZOFFSETFROM:-0400
TZOFFSETTO:-0500
TZNAME:America/New_York EST
END:STANDARD
BEGIN:DAYLIGHT
DTSTART:20250309T030000
RDATE:20251102T010000
TZOFFSETFROM:-0500
TZOFFSETTO:-0400
TZNAME:America/New_York EDT
END:DAYLIGHT
BEGIN:DAYLIGHT
DTSTART:20260308T030000
RDATE:20261101T010000
TZOFFSETFROM:-0500
TZOFFSETTO:-0400
TZNAME:America/New_York EDT
END:DAYLIGHT
BEGIN:DAYLIGHT
DTSTART:20270314T030000
RDATE:20271107T010000
TZOFFSETFROM:-0500
TZOFFSETTO:-0400
TZNAME:America/New_York EDT
END:DAYLIGHT
BEGIN:DAYLIGHT
DTSTART:20280312T030000
RDATE:20281105T010000
TZOFFSETFROM:-0500
TZOFFSETTO:-0400
TZNAME:America/New_York EDT
END:DAYLIGHT
END:VTIMEZONE
BEGIN:VEVENT
UID:72fd076f4fbad6a42a7aac37b28ccc68
CATEGORIES:Racing Sales
CREATED:20251201T114335
SUMMARY:Magic Millions Sales, Gold Coast Yearling Sale, Gold Coast, QL
LOCATION:Magic Millions Sales Complex Bundall
DESCRIPTION:The undisputed number one Group One producing thoroughbred auction in Austr
 alasia.\n
Schedule\n
Inspections from 8am Wed 7 Jan\n
Tue 13 Jan from 11am 
 - Lots 1-210\n
Wed 14 Jan from 10am - Lots 211-450\n
Thu 15 Jan from 10am -
  Lots 451-690\n
Fri 16 Jan *Super Session* from 10am - Lots 691-980\n
Sun 1
 8 Jan from 12noon - Lots 981-1221\n
An incredible line up of racing’s next 
 generation of superstars has been unveiled with the release of the 2026 Mag
 ic Millions Gold Coast Yearling Sale catalogue.
\n
The country’s undisputed
  number one auction for future success is ready to deliver again with the f
 inest yearlings set to converge at Australia’s holiday playground in what i
 s shaping as a summer to remember.
\n

Australasia’s best thoroughbreds bre
 eders have all made strong contributions to a first class offering of 1,221
  yearlings to sell from January 13 to 18.
\n

The star studded catalogue of
  yearlings across Books One and Two, includes progeny of 122 individual sir
 es, with strong interest to surround youngsters by 14 first season sires.
\
 n

Among the pedigree highlights are (at least half) relations to elite lev
 el winners including Artorius, Benedetta, Cool Archie, Devil Night, Farnan,
  Golden Mile, Imperatriz, In Secret, Joliestar, Manaal, Sepals, Stay Inside
 , Stefi Magnetica, Sunlight, Super Seth and Yearning.
\n

The catalogue fea
 tures 239 lots from stakes winning mares headlined by 31 Group One winners 
 including Absolut Glam, Avantage, Graceful Girl, Hiyaam, Hungry Heart, Inst
 ant Celebrity, Krone, Levante, Loving Gaby, Mossfun, Odeum, Silent Sedition
 , Snapdancer and Unforgotten.
\n

“We are incredibly proud to present the c
 atalogue for the 2026 Gold Coast Yearling Sale,” Magic Millions Managing Di
 rector Barry Bowditch said.\n
X-ALT-DESC;FMTTYPE=text/html:The undisputed number one Group One producing thoroughbred auction in Austr
 alasia.<br />Schedule<br />Inspections from 8am Wed 7 Jan<br />Tue 13 Jan f
 rom 11am - Lots 1-210<br />Wed 14 Jan from 10am - Lots 211-450<br />Thu 15 
 Jan from 10am - Lots 451-690<br />Fri 16 Jan *Super Session* from 10am - Lo
 ts 691-980<br />Sun 18 Jan from 12noon - Lots 981-1221<br /><p>An incredibl
 e line up of racing’s next generation of superstars has been unveiled with 
 the release of the 2026 Magic Millions Gold Coast Yearling Sale catalogue.<
 /p><p>The country’s undisputed number one auction for future success is rea
 dy to deliver again with the finest yearlings set to converge at Australia’
 s holiday playground in what is shaping as a summer to remember.</p><p>Aust
 ralasia’s best thoroughbreds breeders have all made strong contributions to
  a first class offering of 1,221 yearlings to sell from January 13 to 18.</
 p><p>The star studded catalogue of yearlings across Books One and Two, incl
 udes progeny of 122 individual sires, with strong interest to surround youn
 gsters by 14 first season sires.</p><p>Among the pedigree highlights are (a
 t least half) relations to elite level winners including Artorius, Benedett
 a, Cool Archie, Devil Night, Farnan, Golden Mile, Imperatriz, In Secret, Jo
 liestar, Manaal, Sepals, Stay Inside, Stefi Magnetica, Sunlight, Super Seth
  and Yearning.</p><p>The catalogue features 239 lots from stakes winning ma
 res headlined by 31 Group One winners including Absolut Glam, Avantage, Gra
 ceful Girl, Hiyaam, Hungry Heart, Instant Celebrity, Krone, Levante, Loving
  Gaby, Mossfun, Odeum, Silent Sedition, Snapdancer and Unforgotten.</p><p>“
 We are incredibly proud to present the catalogue for the 2026 Gold Coast Ye
 arling Sale,” Magic Millions Managing Director Barry Bowditch said.</p>
DTSTAMP:20260424T212248
DTSTART;TZID=America/New_York;VALUE=DATE:20260113
DTEND;TZID=America/New_York;VALUE=DATE:20260119
SEQUENCE:0
TRANSP:OPAQUE
END:VEVENT
END:VCALENDAR