BEGIN:VCALENDAR
VERSION:2.0
PRODID:-//jEvents 2.0 for Joomla//EN
CALSCALE:GREGORIAN
METHOD:PUBLISH
BEGIN:VTIMEZONE
TZID:America/New_York
BEGIN:STANDARD
DTSTART:20251102T010000
RDATE:20260308T030000
TZOFFSETFROM:-0400
TZOFFSETTO:-0500
TZNAME:America/New_York EST
END:STANDARD
BEGIN:STANDARD
DTSTART:20261101T010000
RDATE:20270314T030000
TZOFFSETFROM:-0400
TZOFFSETTO:-0500
TZNAME:America/New_York EST
END:STANDARD
BEGIN:STANDARD
DTSTART:20271107T010000
RDATE:20280312T030000
TZOFFSETFROM:-0400
TZOFFSETTO:-0500
TZNAME:America/New_York EST
END:STANDARD
BEGIN:STANDARD
DTSTART:20281105T010000
RDATE:20290311T030000
TZOFFSETFROM:-0400
TZOFFSETTO:-0500
TZNAME:America/New_York EST
END:STANDARD
BEGIN:DAYLIGHT
DTSTART:20250411T110000
RDATE:20251102T010000
TZOFFSETFROM:-0500
TZOFFSETTO:-0400
TZNAME:America/New_York EDT
END:DAYLIGHT
BEGIN:DAYLIGHT
DTSTART:20260308T030000
RDATE:20261101T010000
TZOFFSETFROM:-0500
TZOFFSETTO:-0400
TZNAME:America/New_York EDT
END:DAYLIGHT
BEGIN:DAYLIGHT
DTSTART:20270314T030000
RDATE:20271107T010000
TZOFFSETFROM:-0500
TZOFFSETTO:-0400
TZNAME:America/New_York EDT
END:DAYLIGHT
BEGIN:DAYLIGHT
DTSTART:20280312T030000
RDATE:20281105T010000
TZOFFSETFROM:-0500
TZOFFSETTO:-0400
TZNAME:America/New_York EDT
END:DAYLIGHT
END:VTIMEZONE
BEGIN:VEVENT
UID:eecac5297a059dd969f693546e4e0a22
CATEGORIES:Racing Sales
CREATED:20251201T115508
SUMMARY:Capricornia Yearling Sale - Magic Millions
LOCATION:Webinar - online participation
DESCRIPTION:Magic Millions assists with many operational aspects of the Capricornia Yea
 rling Sale.\n
\n
This sale will have online bidding and live streaming. Tho
 se registered with a Magic Millions bidder number and approved may bid, not
 hing further required. Otherwise please Register here, well before the sale
  day.
X-ALT-DESC;FMTTYPE=text/html:Magic Millions assists with many operational aspects of the Capricornia Yea
 rling Sale.<br /><br />This sale will have online bidding and live streamin
 g. Those registered with a Magic Millions bidder number and approved may bi
 d, nothing further required. Otherwise please Register here, well before th
 e sale day.
DTSTAMP:20260424T153951
DTSTART;TZID=America/New_York:20260412T110000
SEQUENCE:0
TRANSP:OPAQUE
END:VEVENT
END:VCALENDAR