BEGIN:VCALENDAR
VERSION:2.0
PRODID:-//jEvents 2.0 for Joomla//EN
CALSCALE:GREGORIAN
METHOD:PUBLISH
BEGIN:VTIMEZONE
TZID:America/New_York
BEGIN:STANDARD
DTSTART:20251102T010000
RDATE:20260308T030000
TZOFFSETFROM:-0400
TZOFFSETTO:-0500
TZNAME:America/New_York EST
END:STANDARD
BEGIN:STANDARD
DTSTART:20261101T010000
RDATE:20270314T030000
TZOFFSETFROM:-0400
TZOFFSETTO:-0500
TZNAME:America/New_York EST
END:STANDARD
BEGIN:STANDARD
DTSTART:20271107T010000
RDATE:20280312T030000
TZOFFSETFROM:-0400
TZOFFSETTO:-0500
TZNAME:America/New_York EST
END:STANDARD
BEGIN:STANDARD
DTSTART:20281105T010000
RDATE:20290311T030000
TZOFFSETFROM:-0400
TZOFFSETTO:-0500
TZNAME:America/New_York EST
END:STANDARD
BEGIN:DAYLIGHT
DTSTART:20250531T000000
RDATE:20251102T010000
TZOFFSETFROM:-0500
TZOFFSETTO:-0400
TZNAME:America/New_York EDT
END:DAYLIGHT
BEGIN:DAYLIGHT
DTSTART:20260308T030000
RDATE:20261101T010000
TZOFFSETFROM:-0500
TZOFFSETTO:-0400
TZNAME:America/New_York EDT
END:DAYLIGHT
BEGIN:DAYLIGHT
DTSTART:20270314T030000
RDATE:20271107T010000
TZOFFSETFROM:-0500
TZOFFSETTO:-0400
TZNAME:America/New_York EDT
END:DAYLIGHT
BEGIN:DAYLIGHT
DTSTART:20280312T030000
RDATE:20281105T010000
TZOFFSETFROM:-0500
TZOFFSETTO:-0400
TZNAME:America/New_York EDT
END:DAYLIGHT
END:VTIMEZONE
BEGIN:VEVENT
UID:753be7c12daf4d4169d18d3e2d6b1ebd
CATEGORIES:Racing Sales
CREATED:20251201T120517
SUMMARY:Gold Coast National Yearling Sale, Magic Millions Sales Complex Bundall, Gold Coast, QL
LOCATION:Magic Millions Sales Complex Bundall
DESCRIPTION:Entries for the Southern Hemisphere’s most anticipated yearling sales serie
 s in 2026 have opened.
\n

The 2026 Magic Millions Yearling Sales – from th
 e Gold Coast in January to Perth and Tasmania in February and the Gold Coas
 t and Adelaide in March – are ready to deliver more groundbreaking results.
 
\n

In 2025 the Gold Coast Yearling Sale produced Australasia’s most expen
 sive yearling – the Home Affairs filly from Sunlight – who sold for $3.2 mi
 llion to Japan.
\n

“With proven performance at all levels of the market ac
 ross our Gold Coast, Perth, Adelaide and Tasmanian locations, we present a 
 Sale Series that is backed by our energy and drive to achieve commercial su
 ccess across the 2026 yearling crop,” Magic Millions Managing Director Barr
 y Bowditch said.
\n

“The Gold Coast Yearling Sale is a festival like no ot
 her celebrating equine excellence – with the the strongest buying bench in 
 the country on hand, as the finest Australasian yearlings take centre stage
  in the theatre created by the buzz of the Magic Millions Carnival.”
\n

“W
 e are proud to boast about the best auctioneers in Australia and achieving 
 more individual buyers than any other yearling sale in the Southern Hemisph
 ere, in turn providing greater year-on-year returns direct to our vendors.”
 
\n

“The 2025 edition delivered at all levels, generating the highest pric
 ed yearling sold in Australasia, the highest amount of new international in
 vestment as well as the highest number of unique buyers in the middle marke
 t.”\n
X-ALT-DESC;FMTTYPE=text/html:<p>Entries for the Southern Hemisphere’s most anticipated yearling sales se
 ries in 2026 have opened.</p><p>The 2026 Magic Millions Yearling Sales – fr
 om the Gold Coast in January to Perth and Tasmania in February and the Gold
  Coast and Adelaide in March – are ready to deliver more groundbreaking res
 ults.</p><p>In 2025 the Gold Coast Yearling Sale produced Australasia’s mos
 t expensive yearling – the Home Affairs filly from Sunlight – who sold for 
 $3.2 million to Japan.</p><p>“With proven performance at all levels of the 
 market across our Gold Coast, Perth, Adelaide and Tasmanian locations, we p
 resent a Sale Series that is backed by our energy and drive to achieve comm
 ercial success across the 2026 yearling crop,” Magic Millions Managing Dire
 ctor Barry Bowditch said.</p><p>“The Gold Coast Yearling Sale is a festival
  like no other celebrating equine excellence – with the the strongest buyin
 g bench in the country on hand, as the finest Australasian yearlings take c
 entre stage in the theatre created by the buzz of the Magic Millions Carniv
 al.”</p><p>“We are proud to boast about the best auctioneers in Australia a
 nd achieving more individual buyers than any other yearling sale in the Sou
 thern Hemisphere, in turn providing greater year-on-year returns direct to 
 our vendors.”</p><p>“The 2025 edition delivered at all levels, generating t
 he highest priced yearling sold in Australasia, the highest amount of new i
 nternational investment as well as the highest number of unique buyers in t
 he middle market.”</p>
DTSTAMP:20260424T221633
DTSTART;TZID=America/New_York;VALUE=DATE:20260601
DTEND;TZID=America/New_York;VALUE=DATE:20260603
SEQUENCE:0
TRANSP:OPAQUE
END:VEVENT
END:VCALENDAR