BEGIN:VCALENDAR
VERSION:2.0
PRODID:-//jEvents 2.0 for Joomla//EN
CALSCALE:GREGORIAN
METHOD:PUBLISH
BEGIN:VTIMEZONE
TZID:America/New_York
BEGIN:STANDARD
DTSTART:20250110T000000
RDATE:20250309T030000
TZOFFSETFROM:-0400
TZOFFSETTO:-0500
TZNAME:America/New_York EST
END:STANDARD
BEGIN:STANDARD
DTSTART:20251102T010000
RDATE:20260308T030000
TZOFFSETFROM:-0400
TZOFFSETTO:-0500
TZNAME:America/New_York EST
END:STANDARD
BEGIN:STANDARD
DTSTART:20261101T010000
RDATE:20270314T030000
TZOFFSETFROM:-0400
TZOFFSETTO:-0500
TZNAME:America/New_York EST
END:STANDARD
BEGIN:STANDARD
DTSTART:20271107T010000
RDATE:20280312T030000
TZOFFSETFROM:-0400
TZOFFSETTO:-0500
TZNAME:America/New_York EST
END:STANDARD
BEGIN:STANDARD
DTSTART:20281105T010000
RDATE:20290311T030000
TZOFFSETFROM:-0400
TZOFFSETTO:-0500
TZNAME:America/New_York EST
END:STANDARD
BEGIN:DAYLIGHT
DTSTART:20250309T030000
RDATE:20251102T010000
TZOFFSETFROM:-0500
TZOFFSETTO:-0400
TZNAME:America/New_York EDT
END:DAYLIGHT
BEGIN:DAYLIGHT
DTSTART:20260308T030000
RDATE:20261101T010000
TZOFFSETFROM:-0500
TZOFFSETTO:-0400
TZNAME:America/New_York EDT
END:DAYLIGHT
BEGIN:DAYLIGHT
DTSTART:20270314T030000
RDATE:20271107T010000
TZOFFSETFROM:-0500
TZOFFSETTO:-0400
TZNAME:America/New_York EDT
END:DAYLIGHT
BEGIN:DAYLIGHT
DTSTART:20280312T030000
RDATE:20281105T010000
TZOFFSETFROM:-0500
TZOFFSETTO:-0400
TZNAME:America/New_York EDT
END:DAYLIGHT
END:VTIMEZONE
BEGIN:VEVENT
UID:2eaf710cc99cc310af6c6f0e6edd22f3
CATEGORIES:Racing Sales
CREATED:20251201T121040
SUMMARY:36th Annual Stallion LIVE Auction Thoroughbred Charities
LOCATION:Harper Hall
DESCRIPTION:Thoroughbred Charities of America - 36th Annual Stallion Season Auction\n
p
 resented by MT Brilliant Family Foundation\n

Online Stallion Season Auctio
 n
January 7-9, 2026\n

 Select Stallion Season Auction and Celebration
Sund
 ay, January 11, 2026\n
Harper Hall\n
177 N Upper St. | Lexington, KY 40507

 \n
TCA provides grants to approved nonprofit organizations that work to sup
 port Thoroughbreds and the people who care for them.\n
X-ALT-DESC;FMTTYPE=text/html:<p>Thoroughbred Charities of America - 36th Annual Stallion Season Auction<
 br />presented by MT Brilliant Family Foundation</p><h2>Online Stallion Sea
 son Auction</h2><p>January 7-9, 2026</p> <h2>Select Stallion Season Auction
  and Celebration</h2><p>Sunday, January 11, 2026<br />Harper Hall<br />177 
 N Upper St. | Lexington, KY 40507</p><p>TCA provides grants to approved non
 profit organizations that work to support Thoroughbreds and the people who 
 care for them.</p>
DTSTAMP:20260424T203712
DTSTART;TZID=America/New_York;VALUE=DATE:20260111
DTEND;TZID=America/New_York;VALUE=DATE:20260112
SEQUENCE:0
TRANSP:OPAQUE
END:VEVENT
END:VCALENDAR