BEGIN:VCALENDAR
VERSION:2.0
PRODID:-//jEvents 2.0 for Joomla//EN
CALSCALE:GREGORIAN
METHOD:PUBLISH
BEGIN:VTIMEZONE
TZID:America/New_York
BEGIN:STANDARD
DTSTART:20250301T000000
RDATE:20250309T030000
TZOFFSETFROM:-0400
TZOFFSETTO:-0500
TZNAME:America/New_York EST
END:STANDARD
BEGIN:STANDARD
DTSTART:20251102T010000
RDATE:20260308T030000
TZOFFSETFROM:-0400
TZOFFSETTO:-0500
TZNAME:America/New_York EST
END:STANDARD
BEGIN:STANDARD
DTSTART:20261101T010000
RDATE:20270314T030000
TZOFFSETFROM:-0400
TZOFFSETTO:-0500
TZNAME:America/New_York EST
END:STANDARD
BEGIN:STANDARD
DTSTART:20271107T010000
RDATE:20280312T030000
TZOFFSETFROM:-0400
TZOFFSETTO:-0500
TZNAME:America/New_York EST
END:STANDARD
BEGIN:STANDARD
DTSTART:20281105T010000
RDATE:20290311T030000
TZOFFSETFROM:-0400
TZOFFSETTO:-0500
TZNAME:America/New_York EST
END:STANDARD
BEGIN:DAYLIGHT
DTSTART:20250309T030000
RDATE:20251102T010000
TZOFFSETFROM:-0500
TZOFFSETTO:-0400
TZNAME:America/New_York EDT
END:DAYLIGHT
BEGIN:DAYLIGHT
DTSTART:20260308T030000
RDATE:20261101T010000
TZOFFSETFROM:-0500
TZOFFSETTO:-0400
TZNAME:America/New_York EDT
END:DAYLIGHT
BEGIN:DAYLIGHT
DTSTART:20270314T030000
RDATE:20271107T010000
TZOFFSETFROM:-0500
TZOFFSETTO:-0400
TZNAME:America/New_York EDT
END:DAYLIGHT
BEGIN:DAYLIGHT
DTSTART:20280312T030000
RDATE:20281105T010000
TZOFFSETFROM:-0500
TZOFFSETTO:-0400
TZNAME:America/New_York EDT
END:DAYLIGHT
END:VTIMEZONE
BEGIN:VEVENT
UID:9a022e19a279ab47d581ae8c22667a15
CATEGORIES:Health & Education
CREATED:20251201T122022
SUMMARY:Monty Roberts Intermediate Course of Horsemanship – Course A 
LOCATION:Flag Is Up Farms
DESCRIPTION:<p>The NEW Monty Roberts Intermediate Course of Horsemanship is a brand-new
  program covering nine key topics. It is divided into three sections: Cours
 e A, Course B, and Course C.</p><p>Course A & B – Mandatory</p><p>Course C 
 – Elective</p><p>To qualify as a Monty Roberts Certified Instructor, studen
 ts must complete the mandatory courses and accumulate sufficient points to 
 progress. For students unable to commit to a full course block, individual 
 module options will be available in the future.</p>
DTSTAMP:20260424T171829
DTSTART;TZID=America/New_York;VALUE=DATE:20260302
DTEND;TZID=America/New_York;VALUE=DATE:20260313
SEQUENCE:0
TRANSP:OPAQUE
END:VEVENT
END:VCALENDAR