BEGIN:VCALENDAR
VERSION:2.0
PRODID:-//jEvents 2.0 for Joomla//EN
CALSCALE:GREGORIAN
METHOD:PUBLISH
BEGIN:VTIMEZONE
TZID:America/New_York
BEGIN:STANDARD
DTSTART:20251102T010000
RDATE:20260308T030000
TZOFFSETFROM:-0400
TZOFFSETTO:-0500
TZNAME:America/New_York EST
END:STANDARD
BEGIN:STANDARD
DTSTART:20261101T010000
RDATE:20270314T030000
TZOFFSETFROM:-0400
TZOFFSETTO:-0500
TZNAME:America/New_York EST
END:STANDARD
BEGIN:STANDARD
DTSTART:20271107T010000
RDATE:20280312T030000
TZOFFSETFROM:-0400
TZOFFSETTO:-0500
TZNAME:America/New_York EST
END:STANDARD
BEGIN:STANDARD
DTSTART:20281105T010000
RDATE:20290311T030000
TZOFFSETFROM:-0400
TZOFFSETTO:-0500
TZNAME:America/New_York EST
END:STANDARD
BEGIN:DAYLIGHT
DTSTART:20250412T000000
RDATE:20251102T010000
TZOFFSETFROM:-0500
TZOFFSETTO:-0400
TZNAME:America/New_York EDT
END:DAYLIGHT
BEGIN:DAYLIGHT
DTSTART:20260308T030000
RDATE:20261101T010000
TZOFFSETFROM:-0500
TZOFFSETTO:-0400
TZNAME:America/New_York EDT
END:DAYLIGHT
BEGIN:DAYLIGHT
DTSTART:20270314T030000
RDATE:20271107T010000
TZOFFSETFROM:-0500
TZOFFSETTO:-0400
TZNAME:America/New_York EDT
END:DAYLIGHT
BEGIN:DAYLIGHT
DTSTART:20280312T030000
RDATE:20281105T010000
TZOFFSETFROM:-0500
TZOFFSETTO:-0400
TZNAME:America/New_York EDT
END:DAYLIGHT
END:VTIMEZONE
BEGIN:VEVENT
UID:c992bf1881fa4185a075830a88791b95
CATEGORIES:Health & Education
CREATED:20251201T122214
SUMMARY:Monty Roberts Advanced Course of Horsemanship – Course A 
LOCATION:Flag Is Up Farms
DESCRIPTION:<p>The NEW Monty Roberts Advance Course of Horsemanship is a brand-new prog
 ram covering nine key topics. It is divided into three sections: Course A, 
 Course B, and Course C.</p><p>Course A & B – Mandatory</p><p>Course C – Ele
 ctive</p><p>To qualify as a Monty Roberts Certified Instructor, students mu
 st complete the mandatory courses and accumulate sufficient points to progr
 ess. For students unable to commit to a full course block, individual modul
 e options will be available in the future.</p>
DTSTAMP:20260424T155021
DTSTART;TZID=America/New_York;VALUE=DATE:20260413
DTEND;TZID=America/New_York;VALUE=DATE:20260417
SEQUENCE:0
TRANSP:OPAQUE
END:VEVENT
END:VCALENDAR