BEGIN:VCALENDAR
VERSION:2.0
PRODID:-//jEvents 2.0 for Joomla//EN
CALSCALE:GREGORIAN
METHOD:PUBLISH
BEGIN:VTIMEZONE
TZID:America/New_York
BEGIN:STANDARD
DTSTART:20251102T010000
RDATE:20260308T030000
TZOFFSETFROM:-0400
TZOFFSETTO:-0500
TZNAME:America/New_York EST
END:STANDARD
BEGIN:STANDARD
DTSTART:20261101T010000
RDATE:20270314T030000
TZOFFSETFROM:-0400
TZOFFSETTO:-0500
TZNAME:America/New_York EST
END:STANDARD
BEGIN:STANDARD
DTSTART:20271107T010000
RDATE:20280312T030000
TZOFFSETFROM:-0400
TZOFFSETTO:-0500
TZNAME:America/New_York EST
END:STANDARD
BEGIN:STANDARD
DTSTART:20281105T010000
RDATE:20290311T030000
TZOFFSETFROM:-0400
TZOFFSETTO:-0500
TZNAME:America/New_York EST
END:STANDARD
BEGIN:DAYLIGHT
DTSTART:20250503T000000
RDATE:20251102T010000
TZOFFSETFROM:-0500
TZOFFSETTO:-0400
TZNAME:America/New_York EDT
END:DAYLIGHT
BEGIN:DAYLIGHT
DTSTART:20260308T030000
RDATE:20261101T010000
TZOFFSETFROM:-0500
TZOFFSETTO:-0400
TZNAME:America/New_York EDT
END:DAYLIGHT
BEGIN:DAYLIGHT
DTSTART:20270314T030000
RDATE:20271107T010000
TZOFFSETFROM:-0500
TZOFFSETTO:-0400
TZNAME:America/New_York EDT
END:DAYLIGHT
BEGIN:DAYLIGHT
DTSTART:20280312T030000
RDATE:20281105T010000
TZOFFSETFROM:-0500
TZOFFSETTO:-0400
TZNAME:America/New_York EDT
END:DAYLIGHT
END:VTIMEZONE
BEGIN:VEVENT
UID:5aa16c60ac396640aef61753a0197d4e
CATEGORIES:Health & Education
CREATED:20251201T122328
SUMMARY:Monty Roberts - Introductory Exams
LOCATION:Flag Is Up Farms
DESCRIPTION:Monty Roberts Introductory Exams<br />The Introductory Exams can only be ta
 ken after completion of the Monty Roberts Introductory Course of Horsemansh
 ip and sufficient home / field study.<br /><br />Following on your two week
 s at our facilities (or after completion of all 4 modules in the modular fo
 rmat), you will return home to continue practicing what you have learned.<b
 r /><br />By sending us videos you can continue to receive our feedback on 
 your work. It is also during this period that you study theory on horse per
 formance, breeding, feeding and nutrition.<br /><br />When our Certified In
 structors determine that you are ready, you will return for practical and w
 ritten exams, at successful completion of which, you will graduate from the
  Introductory Course and be eligible to take the Advanced Course.
DTSTAMP:20260424T203829
DTSTART;TZID=America/New_York;VALUE=DATE:20260504
DTEND;TZID=America/New_York;VALUE=DATE:20260508
SEQUENCE:0
TRANSP:OPAQUE
END:VEVENT
END:VCALENDAR