BEGIN:VCALENDAR
VERSION:2.0
PRODID:-//jEvents 2.0 for Joomla//EN
CALSCALE:GREGORIAN
METHOD:PUBLISH
BEGIN:VTIMEZONE
TZID:America/New_York
BEGIN:STANDARD
DTSTART:20251102T010000
RDATE:20260308T030000
TZOFFSETFROM:-0400
TZOFFSETTO:-0500
TZNAME:America/New_York EST
END:STANDARD
BEGIN:STANDARD
DTSTART:20261101T010000
RDATE:20270314T030000
TZOFFSETFROM:-0400
TZOFFSETTO:-0500
TZNAME:America/New_York EST
END:STANDARD
BEGIN:STANDARD
DTSTART:20271107T010000
RDATE:20280312T030000
TZOFFSETFROM:-0400
TZOFFSETTO:-0500
TZNAME:America/New_York EST
END:STANDARD
BEGIN:STANDARD
DTSTART:20281105T010000
RDATE:20290311T030000
TZOFFSETFROM:-0400
TZOFFSETTO:-0500
TZNAME:America/New_York EST
END:STANDARD
BEGIN:DAYLIGHT
DTSTART:20250625T000000
RDATE:20251102T010000
TZOFFSETFROM:-0500
TZOFFSETTO:-0400
TZNAME:America/New_York EDT
END:DAYLIGHT
BEGIN:DAYLIGHT
DTSTART:20260308T030000
RDATE:20261101T010000
TZOFFSETFROM:-0500
TZOFFSETTO:-0400
TZNAME:America/New_York EDT
END:DAYLIGHT
BEGIN:DAYLIGHT
DTSTART:20270314T030000
RDATE:20271107T010000
TZOFFSETFROM:-0500
TZOFFSETTO:-0400
TZNAME:America/New_York EDT
END:DAYLIGHT
BEGIN:DAYLIGHT
DTSTART:20280312T030000
RDATE:20281105T010000
TZOFFSETFROM:-0500
TZOFFSETTO:-0400
TZNAME:America/New_York EDT
END:DAYLIGHT
END:VTIMEZONE
BEGIN:VEVENT
UID:2c98ffc10803ec70445c07093614662d
CATEGORIES:Health & Education
CREATED:20251201T122956
SUMMARY:Monty Roberts THE MOVEMENT
LOCATION:Flag Is Up Farms
DESCRIPTION:The Movement 2026 will be held for the 9th year on the Central Coast of Cal
 ifornia, the heart of horse and wine country. A transformational experience
  with humans &amp; horses featuring Monty Roberts &amp; other outstanding p
 resenters
\n

Our Presenters
Monty Roberts, renowned horse trainer and New 
 York Times Bestselling author
\n

Pat Roberts, equestrian and artist
\n

Fu
 ll List of Presenters Coming Soon!
\n

Join us in the spectacular setting o
 f Monty Roberts' California Horse Center (formerly Flag Is Up Farms) in the
  Santa Ynez Valley, California from Friday, June 26th at 1pm to Sunday, Jun
 e 28th at 1pm.
\n


This comprehensive exam ensures students can integrate 
 both the theoretical and practical aspects of horsemanship.\n
X-ALT-DESC;FMTTYPE=text/html:<p>The Movement 2026 will be held for the 9th year on the Central Coast of 
 California, the heart of horse and wine country. A transformational experie
 nce with humans & horses featuring Monty Roberts & other outstanding presen
 ters</p><p>Our PresentersMonty Roberts, renowned horse trainer and New York
  Times Bestselling author</p><p>Pat Roberts, equestrian and artist</p><p>Fu
 ll List of Presenters Coming Soon!</p><p>Join us in the spectacular setting
  of Monty Roberts' California Horse Center (formerly Flag Is Up Farms) in t
 he Santa Ynez Valley, California from Friday, June 26th at 1pm to Sunday, J
 une 28th at 1pm.</p><p>This comprehensive exam ensures students can integra
 te both the theoretical and practical aspects of horsemanship.</p>
DTSTAMP:20260424T203713
DTSTART;TZID=America/New_York;VALUE=DATE:20260626
DTEND;TZID=America/New_York;VALUE=DATE:20260629
SEQUENCE:0
TRANSP:OPAQUE
END:VEVENT
END:VCALENDAR