BEGIN:VCALENDAR
VERSION:2.0
PRODID:-//jEvents 2.0 for Joomla//EN
CALSCALE:GREGORIAN
METHOD:PUBLISH
BEGIN:VTIMEZONE
TZID:America/New_York
BEGIN:STANDARD
DTSTART:20251102T010000
RDATE:20260308T030000
TZOFFSETFROM:-0400
TZOFFSETTO:-0500
TZNAME:America/New_York EST
END:STANDARD
BEGIN:STANDARD
DTSTART:20261101T010000
RDATE:20270314T030000
TZOFFSETFROM:-0400
TZOFFSETTO:-0500
TZNAME:America/New_York EST
END:STANDARD
BEGIN:STANDARD
DTSTART:20271107T010000
RDATE:20280312T030000
TZOFFSETFROM:-0400
TZOFFSETTO:-0500
TZNAME:America/New_York EST
END:STANDARD
BEGIN:STANDARD
DTSTART:20281105T010000
RDATE:20290311T030000
TZOFFSETFROM:-0400
TZOFFSETTO:-0500
TZNAME:America/New_York EST
END:STANDARD
BEGIN:DAYLIGHT
DTSTART:20250423T000000
RDATE:20251102T010000
TZOFFSETFROM:-0500
TZOFFSETTO:-0400
TZNAME:America/New_York EDT
END:DAYLIGHT
BEGIN:DAYLIGHT
DTSTART:20260308T030000
RDATE:20261101T010000
TZOFFSETFROM:-0500
TZOFFSETTO:-0400
TZNAME:America/New_York EDT
END:DAYLIGHT
BEGIN:DAYLIGHT
DTSTART:20270314T030000
RDATE:20271107T010000
TZOFFSETFROM:-0500
TZOFFSETTO:-0400
TZNAME:America/New_York EDT
END:DAYLIGHT
BEGIN:DAYLIGHT
DTSTART:20280312T030000
RDATE:20281105T010000
TZOFFSETFROM:-0500
TZOFFSETTO:-0400
TZNAME:America/New_York EDT
END:DAYLIGHT
END:VTIMEZONE
BEGIN:VEVENT
UID:e8e8fa0844a806312c7688a382232fa6
CATEGORIES:Racing Sales
CREATED:20251201T130510
SUMMARY:Keeneland April Horses Of Racing Age Sale, Keeneland, Lexington, KY
LOCATION:Keeneland
DESCRIPTION:April Selected Horses Of Racing Age Sale\n
Held after the Spring Meet’s fin
 al race, Keeneland’s April Selected Horses of Racing Age Sale is the prime 
 opportunity to showcase proven racehorses and ready-to-run prospects. With 
 a strong industry presence on-site, the select sale connects sellers with b
 uyers preparing for summer racing.
X-ALT-DESC;FMTTYPE=text/html:April Selected Horses Of Racing Age Sale<br />Held after the Spring Meet’s 
 final race, Keeneland’s April Selected Horses of Racing Age Sale is the pri
 me opportunity to showcase proven racehorses and ready-to-run prospects. Wi
 th a strong industry presence on-site, the select sale connects sellers wit
 h buyers preparing for summer racing.
DTSTAMP:20260424T134037
DTSTART;TZID=America/New_York;VALUE=DATE:20260424
DTEND;TZID=America/New_York;VALUE=DATE:20260425
SEQUENCE:0
TRANSP:OPAQUE
END:VEVENT
END:VCALENDAR