BEGIN:VCALENDAR
VERSION:2.0
PRODID:-//jEvents 2.0 for Joomla//EN
CALSCALE:GREGORIAN
METHOD:PUBLISH
BEGIN:VTIMEZONE
TZID:America/New_York
BEGIN:STANDARD
DTSTART:20251110T000000
RDATE:20260308T030000
TZOFFSETFROM:-0400
TZOFFSETTO:-0500
TZNAME:America/New_York EST
END:STANDARD
BEGIN:STANDARD
DTSTART:20261101T010000
RDATE:20270314T030000
TZOFFSETFROM:-0400
TZOFFSETTO:-0500
TZNAME:America/New_York EST
END:STANDARD
BEGIN:STANDARD
DTSTART:20271107T010000
RDATE:20280312T030000
TZOFFSETFROM:-0400
TZOFFSETTO:-0500
TZNAME:America/New_York EST
END:STANDARD
BEGIN:STANDARD
DTSTART:20281105T010000
RDATE:20290311T030000
TZOFFSETFROM:-0400
TZOFFSETTO:-0500
TZNAME:America/New_York EST
END:STANDARD
BEGIN:DAYLIGHT
DTSTART:20260308T030000
RDATE:20261101T010000
TZOFFSETFROM:-0500
TZOFFSETTO:-0400
TZNAME:America/New_York EDT
END:DAYLIGHT
BEGIN:DAYLIGHT
DTSTART:20270314T030000
RDATE:20271107T010000
TZOFFSETFROM:-0500
TZOFFSETTO:-0400
TZNAME:America/New_York EDT
END:DAYLIGHT
BEGIN:DAYLIGHT
DTSTART:20280312T030000
RDATE:20281105T010000
TZOFFSETFROM:-0500
TZOFFSETTO:-0400
TZNAME:America/New_York EDT
END:DAYLIGHT
END:VTIMEZONE
BEGIN:VEVENT
UID:0cbedbc3b624af6c09aab6adcb00e3fe
CATEGORIES:Racing Sales
CREATED:20251201T131142
SUMMARY:Keeneland November Horses of Racing Age Sale
LOCATION:Keeneland
DESCRIPTION:Proven Talent. Ready to Run. <br />Held each fall, the Keeneland November H
 orses of Racing Age Sale provides a trusted marketplace for proven racehors
 es and promising prospects. With a strong buyer presence on-site and online
 , this sale offers sellers a seamless opportunity to connect with those see
 king ready-to-run talent—because here, every horse has the potential to mak
 e an immediate impact.
DTSTAMP:20260424T213237
DTSTART;TZID=America/New_York;VALUE=DATE:20261111
DTEND;TZID=America/New_York;VALUE=DATE:20261112
SEQUENCE:0
TRANSP:OPAQUE
END:VEVENT
END:VCALENDAR