BEGIN:VCALENDAR
VERSION:2.0
PRODID:-//jEvents 2.0 for Joomla//EN
CALSCALE:GREGORIAN
METHOD:PUBLISH
BEGIN:VTIMEZONE
TZID:America/New_York
BEGIN:STANDARD
DTSTART:20251102T010000
RDATE:20260308T030000
TZOFFSETFROM:-0400
TZOFFSETTO:-0500
TZNAME:America/New_York EST
END:STANDARD
BEGIN:STANDARD
DTSTART:20261101T010000
RDATE:20270314T030000
TZOFFSETFROM:-0400
TZOFFSETTO:-0500
TZNAME:America/New_York EST
END:STANDARD
BEGIN:STANDARD
DTSTART:20271107T010000
RDATE:20280312T030000
TZOFFSETFROM:-0400
TZOFFSETTO:-0500
TZNAME:America/New_York EST
END:STANDARD
BEGIN:STANDARD
DTSTART:20281105T010000
RDATE:20290311T030000
TZOFFSETFROM:-0400
TZOFFSETTO:-0500
TZNAME:America/New_York EST
END:STANDARD
BEGIN:DAYLIGHT
DTSTART:20250408T000000
RDATE:20251102T010000
TZOFFSETFROM:-0500
TZOFFSETTO:-0400
TZNAME:America/New_York EDT
END:DAYLIGHT
BEGIN:DAYLIGHT
DTSTART:20260308T030000
RDATE:20261101T010000
TZOFFSETFROM:-0500
TZOFFSETTO:-0400
TZNAME:America/New_York EDT
END:DAYLIGHT
BEGIN:DAYLIGHT
DTSTART:20270314T030000
RDATE:20271107T010000
TZOFFSETFROM:-0500
TZOFFSETTO:-0400
TZNAME:America/New_York EDT
END:DAYLIGHT
BEGIN:DAYLIGHT
DTSTART:20280312T030000
RDATE:20281105T010000
TZOFFSETFROM:-0500
TZOFFSETTO:-0400
TZNAME:America/New_York EDT
END:DAYLIGHT
END:VTIMEZONE
BEGIN:VEVENT
UID:bdd9a201fa4b8f0895a7a08694404380
CATEGORIES:Rodeo
CREATED:20251201T134231
SUMMARY:American Rodeo East Regional Finals at Kentucky Horse Park
LOCATION:Alltech Arena at the Kentucky Horse Park
DESCRIPTION:The American Rodeo East Regional Finals 


As the ultimate high-stakes show
 down in western sports nears, talented rodeo athletes will descend upon Lex
 ington’s Alltech Arena at the Kentucky Horse Park April 9th – 11th, 2026 fo
 r The American Contender Tournament East Region Finals.

East Coast fans wi
 ll have the opportunity to cheer on dedicated “Contenders” in addition to p
 rofessional athletes in the Top 6-20 positions in the world standings, as t
 hey battle it out in hopes of punching their ticket to advance to The Ameri
 can Rodeo in Arlington, Texas to take on the top champions in the sport.
X-ALT-DESC;FMTTYPE=text/html:<h2>The American Rodeo East Regional Finals </h2>As the ultimate high-stake
 s showdown in western sports nears, talented rodeo athletes will descend up
 on Lexington’s Alltech Arena at the Kentucky Horse Park April 9th – 11th, 2
 026 for The American Contender Tournament East Region Finals.East Coast fan
 s will have the opportunity to cheer on dedicated “Contenders” in addition 
 to professional athletes in the Top 6-20 positions in the world standings, 
 as they battle it out in hopes of punching their ticket to advance to The A
 merican Rodeo in Arlington, Texas to take on the top champions in the sport
 .
DTSTAMP:20260424T154019
DTSTART;TZID=America/New_York;VALUE=DATE:20260409
DTEND;TZID=America/New_York;VALUE=DATE:20260412
SEQUENCE:0
TRANSP:OPAQUE
END:VEVENT
END:VCALENDAR