BEGIN:VCALENDAR
VERSION:2.0
PRODID:-//jEvents 2.0 for Joomla//EN
CALSCALE:GREGORIAN
METHOD:PUBLISH
BEGIN:VTIMEZONE
TZID:America/New_York
BEGIN:STANDARD
DTSTART:20250123T000000
RDATE:20250309T030000
TZOFFSETFROM:-0400
TZOFFSETTO:-0500
TZNAME:America/New_York EST
END:STANDARD
BEGIN:STANDARD
DTSTART:20251102T010000
RDATE:20260308T030000
TZOFFSETFROM:-0400
TZOFFSETTO:-0500
TZNAME:America/New_York EST
END:STANDARD
BEGIN:STANDARD
DTSTART:20261101T010000
RDATE:20270314T030000
TZOFFSETFROM:-0400
TZOFFSETTO:-0500
TZNAME:America/New_York EST
END:STANDARD
BEGIN:STANDARD
DTSTART:20271107T010000
RDATE:20280312T030000
TZOFFSETFROM:-0400
TZOFFSETTO:-0500
TZNAME:America/New_York EST
END:STANDARD
BEGIN:STANDARD
DTSTART:20281105T010000
RDATE:20290311T030000
TZOFFSETFROM:-0400
TZOFFSETTO:-0500
TZNAME:America/New_York EST
END:STANDARD
BEGIN:DAYLIGHT
DTSTART:20250309T030000
RDATE:20251102T010000
TZOFFSETFROM:-0500
TZOFFSETTO:-0400
TZNAME:America/New_York EDT
END:DAYLIGHT
BEGIN:DAYLIGHT
DTSTART:20260308T030000
RDATE:20261101T010000
TZOFFSETFROM:-0500
TZOFFSETTO:-0400
TZNAME:America/New_York EDT
END:DAYLIGHT
BEGIN:DAYLIGHT
DTSTART:20270314T030000
RDATE:20271107T010000
TZOFFSETFROM:-0500
TZOFFSETTO:-0400
TZNAME:America/New_York EDT
END:DAYLIGHT
BEGIN:DAYLIGHT
DTSTART:20280312T030000
RDATE:20281105T010000
TZOFFSETFROM:-0500
TZOFFSETTO:-0400
TZNAME:America/New_York EDT
END:DAYLIGHT
END:VTIMEZONE
BEGIN:VEVENT
UID:261f2ba018d2071e7a41572976cf244d
CATEGORIES:Horse Racing
CREATED:20251201T134921
SUMMARY:Pegasus World Cup, Gulfstream Park, Hallandale Beach, FL
LOCATION:Gulfstream Park
DESCRIPTION:The 2026 $3,000,000 Pegasus World Cup Invitational (G1) has officially been
  added to the Breeders’ Cup “Win and You’re In” Challenge Series, solidifyi
 ng its place among the world’s most prestigious races. Beginning in 2026, t
 he winner of the Pegasus World Cup will earn an automatic berth into the $7
  million Breeders’ Cup Classic, with all entry fees paid ($150,000) and tra
 vel benefits provided.
\n
This new partnership between 1/ST and the Breeder
 s’ Cup unites two powerhouse events on the global racing calendar - celebra
 ting excellence, competition, and the connection between the sport’s most e
 lite horses, horsemen and women, and fans.
In the past eight years, Pegasus
  World Cup has quickly established itself as South Florida’s leading luxury
  sports and lifestyle event of the year. Nationally broadcast on NBC and di
 stributed globally, Pegasus World Cup attracts A-list celebrity attendees, 
 fashion icons, influencers and avid fans to catch a glimpse of the sport’s 
 most iconic event of the year.\n
\n
Launched in 2017 as part of 1/ST’s miss
 ion to excite, energize and modernize the sport of racing for a new generat
 ion of fans, the Pegasus World Cup provides lucrative opportunities for Tho
 roughbred owners and trainers.\n
\n
With historic wins from some of the mos
 t celebrated names in Thoroughbred horse racing including Arrogate, 2021’s 
 Knicks Go, 2022’s Life Is Good, 2023’s Art Collector and 2024’s National Tr
 easure. Pegasus continues to draw the best in racing and entertainment thro
 ugh a continued focus on innovation.\n
\n
Pegasus sets the stage for everyo
 ne.
X-ALT-DESC;FMTTYPE=text/html:The 2026 $3,000,000 Pegasus World Cup Invitational (G1) has officially been
  added to the Breeders’ Cup “Win and You’re In” Challenge Series, solidifyi
 ng its place among the world’s most prestigious races. Beginning in 2026, t
 he winner of the Pegasus World Cup will earn an automatic berth into the $7
  million Breeders’ Cup Classic, with all entry fees paid ($150,000) and tra
 vel benefits provided.<br />This new partnership between 1/ST and the Breed
 ers’ Cup unites two powerhouse events on the global racing calendar - celeb
 rating excellence, competition, and the connection between the sport’s most
  elite horses, horsemen and women, and fans.In the past eight years, Pegasu
 s World Cup has quickly established itself as South Florida’s leading luxur
 y sports and lifestyle event of the year. Nationally broadcast on NBC and d
 istributed globally, Pegasus World Cup attracts A-list celebrity attendees,
  fashion icons, influencers and avid fans to catch a glimpse of the sport’s
  most iconic event of the year.<br /><br />Launched in 2017 as part of 1/ST
 ’s mission to excite, energize and modernize the sport of racing for a new 
 generation of fans, the Pegasus World Cup provides lucrative opportunities 
 for Thoroughbred owners and trainers.<br /><br />With historic wins from so
 me of the most celebrated names in Thoroughbred horse racing including Arro
 gate, 2021’s Knicks Go, 2022’s Life Is Good, 2023’s Art Collector and 2024’
 s National Treasure. Pegasus continues to draw the best in racing and enter
 tainment through a continued focus on innovation.<br /><br />Pegasus sets t
 he stage for everyone.
DTSTAMP:20260424T153949
DTSTART;TZID=America/New_York;VALUE=DATE:20260124
DTEND;TZID=America/New_York;VALUE=DATE:20260125
SEQUENCE:0
TRANSP:OPAQUE
END:VEVENT
END:VCALENDAR