BEGIN:VCALENDAR
VERSION:2.0
PRODID:-//jEvents 2.0 for Joomla//EN
CALSCALE:GREGORIAN
METHOD:PUBLISH
BEGIN:VTIMEZONE
TZID:America/New_York
BEGIN:STANDARD
DTSTART:20251102T010000
RDATE:20260308T030000
TZOFFSETFROM:-0400
TZOFFSETTO:-0500
TZNAME:America/New_York EST
END:STANDARD
BEGIN:STANDARD
DTSTART:20261101T010000
RDATE:20270314T030000
TZOFFSETFROM:-0400
TZOFFSETTO:-0500
TZNAME:America/New_York EST
END:STANDARD
BEGIN:STANDARD
DTSTART:20271107T010000
RDATE:20280312T030000
TZOFFSETFROM:-0400
TZOFFSETTO:-0500
TZNAME:America/New_York EST
END:STANDARD
BEGIN:STANDARD
DTSTART:20281105T010000
RDATE:20290311T030000
TZOFFSETFROM:-0400
TZOFFSETTO:-0500
TZNAME:America/New_York EST
END:STANDARD
BEGIN:DAYLIGHT
DTSTART:20250501T160000
RDATE:20251102T010000
TZOFFSETFROM:-0500
TZOFFSETTO:-0400
TZNAME:America/New_York EDT
END:DAYLIGHT
BEGIN:DAYLIGHT
DTSTART:20260308T030000
RDATE:20261101T010000
TZOFFSETFROM:-0500
TZOFFSETTO:-0400
TZNAME:America/New_York EDT
END:DAYLIGHT
BEGIN:DAYLIGHT
DTSTART:20270314T030000
RDATE:20271107T010000
TZOFFSETFROM:-0500
TZOFFSETTO:-0400
TZNAME:America/New_York EDT
END:DAYLIGHT
BEGIN:DAYLIGHT
DTSTART:20280312T030000
RDATE:20281105T010000
TZOFFSETFROM:-0500
TZOFFSETTO:-0400
TZNAME:America/New_York EDT
END:DAYLIGHT
END:VTIMEZONE
BEGIN:VEVENT
UID:6b0703a8ea5b96275f1169b1b90cbebe
CATEGORIES:Recreation & Lifestyle
CREATED:20251201T135310
SUMMARY:10th Annual Derby Party! - National Museum of Racing and Hall of Fame, Saratoga NY
LOCATION:National Museum of Racing and Hall of Fame
DESCRIPTION:\n
Join us for our 10th annual Derby Party fundraiser at the National Museu
 m of Racing and Hall of Fame, featuring delicious samplings of local brews,
  wines and spirits, and signature bites from local restaurants. While explo
 ring the Museum and its exhibits, guests will enjoy entertainment before a 
 live airing of the 2026 Kentucky Derby in the Official Thoroughbred Racing 
 Hall of Fame. The National Museum of Racing and Hall of Fame offers an auth
 entic experience with a unique twist for the racing and food enthusiast. Th
 e Museum is a 501 (c) 3 non-profit organization, and all proceeds from this
  year’s event support the Museum’s educational mission and allow for exciti
 ng exhibits and programs year-round.\n
\n
Questions about the event or how 
 to become a vendor? Please contact megger@racingmuseum.net or call (518) 58
 4-0400 ext. 112.\n

X-ALT-DESC;FMTTYPE=text/html:<br />Join us for our 10th annual Derby Party fundraiser at the National Mu
 seum of Racing and Hall of Fame, featuring delicious samplings of local bre
 ws, wines and spirits, and signature bites from local restaurants. While ex
 ploring the Museum and its exhibits, guests will enjoy entertainment before
  a live airing of the 2026 Kentucky Derby in the Official Thoroughbred Raci
 ng Hall of Fame. The National Museum of Racing and Hall of Fame offers an a
 uthentic experience with a unique twist for the racing and food enthusiast.
  The Museum is a 501 (c) 3 non-profit organization, and all proceeds from t
 his year’s event support the Museum’s educational mission and allow for exc
 iting exhibits and programs year-round.<br /><br />Questions about the even
 t or how to become a vendor? Please contact megger@racingmuseum.net or call
  (518) 584-0400 ext. 112.<br />
DTSTAMP:20260424T154019
DTSTART;TZID=America/New_York:20260502T160000
DTEND;TZID=America/New_York:20260502T193000
SEQUENCE:0
TRANSP:OPAQUE
END:VEVENT
END:VCALENDAR