BEGIN:VCALENDAR
VERSION:2.0
PRODID:-//jEvents 2.0 for Joomla//EN
CALSCALE:GREGORIAN
METHOD:PUBLISH
BEGIN:VTIMEZONE
TZID:America/New_York
BEGIN:STANDARD
DTSTART:20250120T000000
RDATE:20250309T030000
TZOFFSETFROM:-0400
TZOFFSETTO:-0500
TZNAME:America/New_York EST
END:STANDARD
BEGIN:STANDARD
DTSTART:20251102T010000
RDATE:20260308T030000
TZOFFSETFROM:-0400
TZOFFSETTO:-0500
TZNAME:America/New_York EST
END:STANDARD
BEGIN:STANDARD
DTSTART:20261101T010000
RDATE:20270314T030000
TZOFFSETFROM:-0400
TZOFFSETTO:-0500
TZNAME:America/New_York EST
END:STANDARD
BEGIN:STANDARD
DTSTART:20271107T010000
RDATE:20280312T030000
TZOFFSETFROM:-0400
TZOFFSETTO:-0500
TZNAME:America/New_York EST
END:STANDARD
BEGIN:STANDARD
DTSTART:20281105T010000
RDATE:20290311T030000
TZOFFSETFROM:-0400
TZOFFSETTO:-0500
TZNAME:America/New_York EST
END:STANDARD
BEGIN:DAYLIGHT
DTSTART:20250309T030000
RDATE:20251102T010000
TZOFFSETFROM:-0500
TZOFFSETTO:-0400
TZNAME:America/New_York EDT
END:DAYLIGHT
BEGIN:DAYLIGHT
DTSTART:20260308T030000
RDATE:20261101T010000
TZOFFSETFROM:-0500
TZOFFSETTO:-0400
TZNAME:America/New_York EDT
END:DAYLIGHT
BEGIN:DAYLIGHT
DTSTART:20270314T030000
RDATE:20271107T010000
TZOFFSETFROM:-0500
TZOFFSETTO:-0400
TZNAME:America/New_York EDT
END:DAYLIGHT
BEGIN:DAYLIGHT
DTSTART:20280312T030000
RDATE:20281105T010000
TZOFFSETFROM:-0500
TZOFFSETTO:-0400
TZNAME:America/New_York EDT
END:DAYLIGHT
END:VTIMEZONE
BEGIN:VEVENT
UID:d5f2af793b73c909f0a8bd3330de52b9
CATEGORIES:Horse Show
CREATED:20251202T141020
SUMMARY:HITS Ocala January Festival – II - National / 5
LOCATION:HITS Post Time Farm
DESCRIPTION:Entry Opening Date: November 6\n
Entry Closing Date: December 31\n
$5,000 P
 yranha/NAL Jr/Am 1.25m Jumper Classic\n
\n
$5,000 Gowe Farms/NAL Jr/Am 1.35
 m Jumper Classic\n
\n
$24,500 Alliant Private Client Cup\n
\n
$10,000 Adequ
 an Open Welcome\n
\n
$15,000 STX Open Speed\n
\n
$24,500 Horseflight Jumper
  Classic\n
\n
$60,000 Voltaire Grand Prix
X-ALT-DESC;FMTTYPE=text/html:Entry Opening Date: November 6<br />Entry Closing Date: December 31<br />$5
 ,000 Pyranha/NAL Jr/Am 1.25m Jumper Classic<br /><br />$5,000 Gowe Farms/NA
 L Jr/Am 1.35m Jumper Classic<br /><br />$24,500 Alliant Private Client Cup<
 br /><br />$10,000 Adequan Open Welcome<br /><br />$15,000 STX Open Speed<b
 r /><br />$24,500 Horseflight Jumper Classic<br /><br />$60,000 Voltaire Gr
 and Prix
DTSTAMP:20260424T153950
DTSTART;TZID=America/New_York;VALUE=DATE:20260121
DTEND;TZID=America/New_York;VALUE=DATE:20260126
SEQUENCE:0
TRANSP:OPAQUE
END:VEVENT
END:VCALENDAR