BEGIN:VCALENDAR
VERSION:2.0
PRODID:-//jEvents 2.0 for Joomla//EN
CALSCALE:GREGORIAN
METHOD:PUBLISH
BEGIN:VTIMEZONE
TZID:America/New_York
BEGIN:STANDARD
DTSTART:20250210T000000
RDATE:20250309T030000
TZOFFSETFROM:-0400
TZOFFSETTO:-0500
TZNAME:America/New_York EST
END:STANDARD
BEGIN:STANDARD
DTSTART:20251102T010000
RDATE:20260308T030000
TZOFFSETFROM:-0400
TZOFFSETTO:-0500
TZNAME:America/New_York EST
END:STANDARD
BEGIN:STANDARD
DTSTART:20261101T010000
RDATE:20270314T030000
TZOFFSETFROM:-0400
TZOFFSETTO:-0500
TZNAME:America/New_York EST
END:STANDARD
BEGIN:STANDARD
DTSTART:20271107T010000
RDATE:20280312T030000
TZOFFSETFROM:-0400
TZOFFSETTO:-0500
TZNAME:America/New_York EST
END:STANDARD
BEGIN:STANDARD
DTSTART:20281105T010000
RDATE:20290311T030000
TZOFFSETFROM:-0400
TZOFFSETTO:-0500
TZNAME:America/New_York EST
END:STANDARD
BEGIN:DAYLIGHT
DTSTART:20250309T030000
RDATE:20251102T010000
TZOFFSETFROM:-0500
TZOFFSETTO:-0400
TZNAME:America/New_York EDT
END:DAYLIGHT
BEGIN:DAYLIGHT
DTSTART:20260308T030000
RDATE:20261101T010000
TZOFFSETFROM:-0500
TZOFFSETTO:-0400
TZNAME:America/New_York EDT
END:DAYLIGHT
BEGIN:DAYLIGHT
DTSTART:20270314T030000
RDATE:20271107T010000
TZOFFSETFROM:-0500
TZOFFSETTO:-0400
TZNAME:America/New_York EDT
END:DAYLIGHT
BEGIN:DAYLIGHT
DTSTART:20280312T030000
RDATE:20281105T010000
TZOFFSETFROM:-0500
TZOFFSETTO:-0400
TZNAME:America/New_York EDT
END:DAYLIGHT
END:VTIMEZONE
BEGIN:VEVENT
UID:d3c21a0d6e64faad395fa5432a0f4e96
CATEGORIES:Horse Show
CREATED:20251202T141522
SUMMARY:HITS Ocala Winter Festival – V - National / 5
LOCATION:HITS Post Time Farm
DESCRIPTION:Entry Closing Date: TBA\n
$5,000 Pyranha/NAL Jr/Am 1.25m Jumper Classic\n
\
 n
$5,000 Gowe Farms/NAL Jr/Am 1.35m Jumper Classic\n
\n
$5,000 SJHOF Jr/Am 
 1.45m Jumper Classic\n
\n
$24,500 Alliant Private Client Cup\n
\n
$10,000 A
 dequan Open Welcome\n
\n
$15,000 STX Open Speed\n
\n
$24,500 Horseflight Ju
 mper Classic\n
\n
$7,500 Gambler’s Choice\n
\n
$60,000 Go Rentals Grand Pri
 x
X-ALT-DESC;FMTTYPE=text/html:Entry Closing Date: TBA<br />$5,000 Pyranha/NAL Jr/Am 1.25m Jumper Classic<
 br /><br />$5,000 Gowe Farms/NAL Jr/Am 1.35m Jumper Classic<br /><br />$5,0
 00 SJHOF Jr/Am 1.45m Jumper Classic<br /><br />$24,500 Alliant Private Clie
 nt Cup<br /><br />$10,000 Adequan Open Welcome<br /><br />$15,000 STX Open 
 Speed<br /><br />$24,500 Horseflight Jumper Classic<br /><br />$7,500 Gambl
 er’s Choice<br /><br />$60,000 Go Rentals Grand Prix
DTSTAMP:20260424T153950
DTSTART;TZID=America/New_York;VALUE=DATE:20260211
DTEND;TZID=America/New_York;VALUE=DATE:20260216
SEQUENCE:0
TRANSP:OPAQUE
END:VEVENT
END:VCALENDAR