BEGIN:VCALENDAR
VERSION:2.0
PRODID:-//jEvents 2.0 for Joomla//EN
CALSCALE:GREGORIAN
METHOD:PUBLISH
BEGIN:VTIMEZONE
TZID:America/New_York
BEGIN:STANDARD
DTSTART:20251102T010000
RDATE:20260308T030000
TZOFFSETFROM:-0400
TZOFFSETTO:-0500
TZNAME:America/New_York EST
END:STANDARD
BEGIN:STANDARD
DTSTART:20261101T010000
RDATE:20270314T030000
TZOFFSETFROM:-0400
TZOFFSETTO:-0500
TZNAME:America/New_York EST
END:STANDARD
BEGIN:STANDARD
DTSTART:20271107T010000
RDATE:20280312T030000
TZOFFSETFROM:-0400
TZOFFSETTO:-0500
TZNAME:America/New_York EST
END:STANDARD
BEGIN:STANDARD
DTSTART:20281105T010000
RDATE:20290311T030000
TZOFFSETFROM:-0400
TZOFFSETTO:-0500
TZNAME:America/New_York EST
END:STANDARD
BEGIN:DAYLIGHT
DTSTART:20250312T000000
RDATE:20251102T010000
TZOFFSETFROM:-0500
TZOFFSETTO:-0400
TZNAME:America/New_York EDT
END:DAYLIGHT
BEGIN:DAYLIGHT
DTSTART:20260308T030000
RDATE:20261101T010000
TZOFFSETFROM:-0500
TZOFFSETTO:-0400
TZNAME:America/New_York EDT
END:DAYLIGHT
BEGIN:DAYLIGHT
DTSTART:20270314T030000
RDATE:20271107T010000
TZOFFSETFROM:-0500
TZOFFSETTO:-0400
TZNAME:America/New_York EDT
END:DAYLIGHT
BEGIN:DAYLIGHT
DTSTART:20280312T030000
RDATE:20281105T010000
TZOFFSETFROM:-0500
TZOFFSETTO:-0400
TZNAME:America/New_York EDT
END:DAYLIGHT
END:VTIMEZONE
BEGIN:VEVENT
UID:6106cfd33df71ad6ef4ac62efda47757
CATEGORIES:English Riding
CREATED:20251202T145022
SUMMARY:Golden State Dressage - March Mania, Murieta Equestrian Center, Rancho Murieta, CA
LOCATION:Murieta Equestrian Center
DESCRIPTION:USEF, CDS, USDF\n
Recognized Dressage Show—Level 3\n
\n
2025 FEI North Amer
 ican Youth Championship\n
2025 USEF Pony Rider Dressage National Championsh
 ip\n
2025 USEF Children Dressage National Championship\n
2025 Adequan /USEF
  Junior Dressage National Championship\n
2025 Horseware Ireland/USEF Young 
 Rider Dressage National Championship\n
2025 Adequan/USEF Young Adult ‘Breti
 na Cup’ Dressage National Championship\n
2025 Markel/USEF Young &amp; Devel
 oping Horse Dressage Championships\n
2025 USEF Intermediaire I Dressage Nat
 ional Championship\n
2025 USEF Grand Prix Dressage National Championships\n
 
2025 USEF Para Dressage National Championship\n
2025 FEI World Breeding Ch
 ampionships for Young Horses in Dressage (Five, Six &amp; Seven-Year-Old)
X-ALT-DESC;FMTTYPE=text/html:USEF, CDS, USDF<br />Recognized Dressage Show—Level 3<br /><br />2025 FEI N
 orth American Youth Championship<br />2025 USEF Pony Rider Dressage Nationa
 l Championship<br />2025 USEF Children Dressage National Championship<br />
 2025 Adequan /USEF Junior Dressage National Championship<br />2025 Horsewar
 e Ireland/USEF Young Rider Dressage National Championship<br />2025 Adequan
 /USEF Young Adult ‘Bretina Cup’ Dressage National Championship<br />2025 Ma
 rkel/USEF Young & Developing Horse Dressage Championships<br />2025 USEF In
 termediaire I Dressage National Championship<br />2025 USEF Grand Prix Dres
 sage National Championships<br />2025 USEF Para Dressage National Champions
 hip<br />2025 FEI World Breeding Championships for Young Horses in Dressage
  (Five, Six & Seven-Year-Old)
DTSTAMP:20260424T153951
DTSTART;TZID=America/New_York;VALUE=DATE:20260313
DTEND;TZID=America/New_York;VALUE=DATE:20260317
SEQUENCE:0
TRANSP:OPAQUE
END:VEVENT
END:VCALENDAR