BEGIN:VCALENDAR
VERSION:2.0
PRODID:-//jEvents 2.0 for Joomla//EN
CALSCALE:GREGORIAN
METHOD:PUBLISH
BEGIN:VTIMEZONE
TZID:America/New_York
BEGIN:STANDARD
DTSTART:20251102T010000
RDATE:20260308T030000
TZOFFSETFROM:-0400
TZOFFSETTO:-0500
TZNAME:America/New_York EST
END:STANDARD
BEGIN:STANDARD
DTSTART:20261101T010000
RDATE:20270314T030000
TZOFFSETFROM:-0400
TZOFFSETTO:-0500
TZNAME:America/New_York EST
END:STANDARD
BEGIN:STANDARD
DTSTART:20271107T010000
RDATE:20280312T030000
TZOFFSETFROM:-0400
TZOFFSETTO:-0500
TZNAME:America/New_York EST
END:STANDARD
BEGIN:STANDARD
DTSTART:20281105T010000
RDATE:20290311T030000
TZOFFSETFROM:-0400
TZOFFSETTO:-0500
TZNAME:America/New_York EST
END:STANDARD
BEGIN:DAYLIGHT
DTSTART:20250409T000000
RDATE:20251102T010000
TZOFFSETFROM:-0500
TZOFFSETTO:-0400
TZNAME:America/New_York EDT
END:DAYLIGHT
BEGIN:DAYLIGHT
DTSTART:20260308T030000
RDATE:20261101T010000
TZOFFSETFROM:-0500
TZOFFSETTO:-0400
TZNAME:America/New_York EDT
END:DAYLIGHT
BEGIN:DAYLIGHT
DTSTART:20270314T030000
RDATE:20271107T010000
TZOFFSETFROM:-0500
TZOFFSETTO:-0400
TZNAME:America/New_York EDT
END:DAYLIGHT
BEGIN:DAYLIGHT
DTSTART:20280312T030000
RDATE:20281105T010000
TZOFFSETFROM:-0500
TZOFFSETTO:-0400
TZNAME:America/New_York EDT
END:DAYLIGHT
END:VTIMEZONE
BEGIN:VEVENT
UID:f9b092d4b6ecb65f54ec469bcbfcf0bc
CATEGORIES:English Riding
CREATED:20251202T145202
SUMMARY:Golden State Dressage - Festival, Murieta Equestrian Center, Rancho Murieta, CA
LOCATION:Murieta Equestrian Center
DESCRIPTION:USEF, CDS, USDF\n
Recognized Dressage Show—Level 3\n
\n
FEI North American 
 Youth Championship\n
USEF Pony Rider Dressage National Championship\n
USEF 
 Children Dressage National Championship\n
Adequan /USEF Junior Dressage Nat
 ional Championship\n
Horseware Ireland/USEF Young Rider Dressage National C
 hampionship\n
Adequan/USEF Young Adult ‘Bretina Cup’ Dressage National Cham
 pionship\n
Markel/USEF Young &amp; Developing Horse Dressage Championships\
 n
USEF Intermediaire I Dressage National Championship\n
USEF Grand Prix Dre
 ssage National Championships\n
USEF Para Dressage National Championship\n
F
 EI World Breeding Championships for Young Horses in Dressage (Five, Six &am
 p; Seven-Year-Old)
X-ALT-DESC;FMTTYPE=text/html:USEF, CDS, USDF<br />Recognized Dressage Show—Level 3<br /><br />FEI North 
 American Youth Championship<br />USEF Pony Rider Dressage National Champion
 ship<br />USEF Children Dressage National Championship<br />Adequan /USEF J
 unior Dressage National Championship<br />Horseware Ireland/USEF Young Ride
 r Dressage National Championship<br />Adequan/USEF Young Adult ‘Bretina Cup
 ’ Dressage National Championship<br />Markel/USEF Young & Developing Horse 
 Dressage Championships<br />USEF Intermediaire I Dressage National Champion
 ship<br />USEF Grand Prix Dressage National Championships<br />USEF Para Dr
 essage National Championship<br />FEI World Breeding Championships for Youn
 g Horses in Dressage (Five, Six & Seven-Year-Old)
DTSTAMP:20260424T134030
DTSTART;TZID=America/New_York;VALUE=DATE:20260410
DTEND;TZID=America/New_York;VALUE=DATE:20260413
SEQUENCE:0
TRANSP:OPAQUE
END:VEVENT
END:VCALENDAR