BEGIN:VCALENDAR
VERSION:2.0
PRODID:-//jEvents 2.0 for Joomla//EN
CALSCALE:GREGORIAN
METHOD:PUBLISH
BEGIN:VTIMEZONE
TZID:America/New_York
BEGIN:STANDARD
DTSTART:20251102T010000
RDATE:20260308T030000
TZOFFSETFROM:-0400
TZOFFSETTO:-0500
TZNAME:America/New_York EST
END:STANDARD
BEGIN:STANDARD
DTSTART:20261101T010000
RDATE:20270314T030000
TZOFFSETFROM:-0400
TZOFFSETTO:-0500
TZNAME:America/New_York EST
END:STANDARD
BEGIN:STANDARD
DTSTART:20271107T010000
RDATE:20280312T030000
TZOFFSETFROM:-0400
TZOFFSETTO:-0500
TZNAME:America/New_York EST
END:STANDARD
BEGIN:STANDARD
DTSTART:20281105T010000
RDATE:20290311T030000
TZOFFSETFROM:-0400
TZOFFSETTO:-0500
TZNAME:America/New_York EST
END:STANDARD
BEGIN:DAYLIGHT
DTSTART:20250603T000000
RDATE:20251102T010000
TZOFFSETFROM:-0500
TZOFFSETTO:-0400
TZNAME:America/New_York EDT
END:DAYLIGHT
BEGIN:DAYLIGHT
DTSTART:20260308T030000
RDATE:20261101T010000
TZOFFSETFROM:-0500
TZOFFSETTO:-0400
TZNAME:America/New_York EDT
END:DAYLIGHT
BEGIN:DAYLIGHT
DTSTART:20270314T030000
RDATE:20271107T010000
TZOFFSETFROM:-0500
TZOFFSETTO:-0400
TZNAME:America/New_York EDT
END:DAYLIGHT
BEGIN:DAYLIGHT
DTSTART:20280312T030000
RDATE:20281105T010000
TZOFFSETFROM:-0500
TZOFFSETTO:-0400
TZNAME:America/New_York EDT
END:DAYLIGHT
END:VTIMEZONE
BEGIN:VEVENT
UID:49dad3142139dab64965baa4bb46104f
CATEGORIES:Recreation & Lifestyle
CREATED:20251202T150125
SUMMARY:Spruce Meadows - "Continental" presented by Rolex - Show Jumping
LOCATION:Spruce Meadows
DESCRIPTION:CSI4*/CSI2*/National competitions\n
All tournament tickets include access t
 o sport, entertainment, and our weekend activities throughout the grounds—p
 lus complimentary parking. 

ALL seating at this tournament is first-come, 
 first-served on all rings. Thursdays are always Seniors’ Day at Spruce Mead
 ows! Guests 65+ are warmly welcomed to attend with our compliments. 
X-ALT-DESC;FMTTYPE=text/html:<p>CSI4*/CSI2*/National competitions</p>All tournament tickets include acce
 ss to sport, entertainment, and our weekend activities throughout the groun
 ds—plus complimentary parking. ALL seating at this tournament is first-come
 , first-served on all rings. Thursdays are always Seniors’ Day at Spruce Me
 adows! Guests 65+ are warmly welcomed to attend with our compliments. 
DTSTAMP:20260424T194004
DTSTART;TZID=America/New_York;VALUE=DATE:20260604
DTEND;TZID=America/New_York;VALUE=DATE:20260608
SEQUENCE:0
TRANSP:OPAQUE
END:VEVENT
END:VCALENDAR