BEGIN:VCALENDAR
VERSION:2.0
PRODID:-//jEvents 2.0 for Joomla//EN
CALSCALE:GREGORIAN
METHOD:PUBLISH
BEGIN:VTIMEZONE
TZID:America/New_York
BEGIN:STANDARD
DTSTART:20251102T010000
RDATE:20260308T030000
TZOFFSETFROM:-0400
TZOFFSETTO:-0500
TZNAME:America/New_York EST
END:STANDARD
BEGIN:STANDARD
DTSTART:20261101T010000
RDATE:20270314T030000
TZOFFSETFROM:-0400
TZOFFSETTO:-0500
TZNAME:America/New_York EST
END:STANDARD
BEGIN:STANDARD
DTSTART:20271107T010000
RDATE:20280312T030000
TZOFFSETFROM:-0400
TZOFFSETTO:-0500
TZNAME:America/New_York EST
END:STANDARD
BEGIN:STANDARD
DTSTART:20281105T010000
RDATE:20290311T030000
TZOFFSETFROM:-0400
TZOFFSETTO:-0500
TZNAME:America/New_York EST
END:STANDARD
BEGIN:DAYLIGHT
DTSTART:20250701T000000
RDATE:20251102T010000
TZOFFSETFROM:-0500
TZOFFSETTO:-0400
TZNAME:America/New_York EDT
END:DAYLIGHT
BEGIN:DAYLIGHT
DTSTART:20260308T030000
RDATE:20261101T010000
TZOFFSETFROM:-0500
TZOFFSETTO:-0400
TZNAME:America/New_York EDT
END:DAYLIGHT
BEGIN:DAYLIGHT
DTSTART:20270314T030000
RDATE:20271107T010000
TZOFFSETFROM:-0500
TZOFFSETTO:-0400
TZNAME:America/New_York EDT
END:DAYLIGHT
BEGIN:DAYLIGHT
DTSTART:20280312T030000
RDATE:20281105T010000
TZOFFSETFROM:-0500
TZOFFSETTO:-0400
TZNAME:America/New_York EDT
END:DAYLIGHT
END:VTIMEZONE
BEGIN:VEVENT
UID:c91d62b0f6d7b05304303d4aa71d076a
CATEGORIES:Recreation & Lifestyle
CREATED:20251202T150533
SUMMARY:Spruce Meadows - North American - Show Jumping
LOCATION:Spruce Meadows
DESCRIPTION:Welcome to the 'North American' tournament, where top athletes from across 
 the continent gather to showcase their skills! Sanctioned by both Equestria
 n Canada and the FEI, this tournament offers a large range of competitions,
  with heights spanning from 1.00m to 1.60m. \n
\n
CSI5*/CSI2*/National comp
 etitions
X-ALT-DESC;FMTTYPE=text/html:Welcome to the 'North American' tournament, where top athletes from across 
 the continent gather to showcase their skills! Sanctioned by both Equestria
 n Canada and the FEI, this tournament offers a large range of competitions,
  with heights spanning from 1.00m to 1.60m. <br /><br />CSI5*/CSI2*/Nationa
 l competitions
DTSTAMP:20260424T182729
DTSTART;TZID=America/New_York;VALUE=DATE:20260702
DTEND;TZID=America/New_York;VALUE=DATE:20260706
SEQUENCE:0
TRANSP:OPAQUE
END:VEVENT
END:VCALENDAR