BEGIN:VCALENDAR
VERSION:2.0
PRODID:-//jEvents 2.0 for Joomla//EN
CALSCALE:GREGORIAN
METHOD:PUBLISH
BEGIN:VTIMEZONE
TZID:America/New_York
BEGIN:STANDARD
DTSTART:20251102T010000
RDATE:20260308T030000
TZOFFSETFROM:-0400
TZOFFSETTO:-0500
TZNAME:America/New_York EST
END:STANDARD
BEGIN:STANDARD
DTSTART:20261101T010000
RDATE:20270314T030000
TZOFFSETFROM:-0400
TZOFFSETTO:-0500
TZNAME:America/New_York EST
END:STANDARD
BEGIN:STANDARD
DTSTART:20271107T010000
RDATE:20280312T030000
TZOFFSETFROM:-0400
TZOFFSETTO:-0500
TZNAME:America/New_York EST
END:STANDARD
BEGIN:STANDARD
DTSTART:20281105T010000
RDATE:20290311T030000
TZOFFSETFROM:-0400
TZOFFSETTO:-0500
TZNAME:America/New_York EST
END:STANDARD
BEGIN:DAYLIGHT
DTSTART:20250506T000000
RDATE:20251102T010000
TZOFFSETFROM:-0500
TZOFFSETTO:-0400
TZNAME:America/New_York EDT
END:DAYLIGHT
BEGIN:DAYLIGHT
DTSTART:20260308T030000
RDATE:20261101T010000
TZOFFSETFROM:-0500
TZOFFSETTO:-0400
TZNAME:America/New_York EDT
END:DAYLIGHT
BEGIN:DAYLIGHT
DTSTART:20270314T030000
RDATE:20271107T010000
TZOFFSETFROM:-0500
TZOFFSETTO:-0400
TZNAME:America/New_York EDT
END:DAYLIGHT
BEGIN:DAYLIGHT
DTSTART:20280312T030000
RDATE:20281105T010000
TZOFFSETFROM:-0500
TZOFFSETTO:-0400
TZNAME:America/New_York EDT
END:DAYLIGHT
END:VTIMEZONE
BEGIN:VEVENT
UID:91a189976d2b1e301fd4821823c62a34
CATEGORIES:Horse Show
CREATED:20251208T113735
SUMMARY:Spruce Meadows - May Classic - Show Jumping
LOCATION:Spruce Meadows
DESCRIPTION:The May Classic at Spruce Meadows marks the first outdoor tournament of the
  season, showcasing competitions ranging from 0.80 meters to 1.30 meters in
  height. This tournament is designed for the amateur rider and promises an 
 exciting start to the year. \n
\n
No tickets are required. This event is co
 mplimentary.
X-ALT-DESC;FMTTYPE=text/html:The May Classic at Spruce Meadows marks the first outdoor tournament of the
  season, showcasing competitions ranging from 0.80 meters to 1.30 meters in
  height. This tournament is designed for the amateur rider and promises an 
 exciting start to the year. <br /><br />No tickets are required. This event
  is complimentary.
DTSTAMP:20260424T154015
DTSTART;TZID=America/New_York;VALUE=DATE:20260507
DTEND;TZID=America/New_York;VALUE=DATE:20260511
SEQUENCE:0
TRANSP:OPAQUE
END:VEVENT
END:VCALENDAR