BEGIN:VCALENDAR
VERSION:2.0
PRODID:-//jEvents 2.0 for Joomla//EN
CALSCALE:GREGORIAN
METHOD:PUBLISH
BEGIN:VTIMEZONE
TZID:America/New_York
BEGIN:STANDARD
DTSTART:20251102T010000
RDATE:20260308T030000
TZOFFSETFROM:-0400
TZOFFSETTO:-0500
TZNAME:America/New_York EST
END:STANDARD
BEGIN:STANDARD
DTSTART:20261101T010000
RDATE:20270314T030000
TZOFFSETFROM:-0400
TZOFFSETTO:-0500
TZNAME:America/New_York EST
END:STANDARD
BEGIN:STANDARD
DTSTART:20271107T010000
RDATE:20280312T030000
TZOFFSETFROM:-0400
TZOFFSETTO:-0500
TZNAME:America/New_York EST
END:STANDARD
BEGIN:STANDARD
DTSTART:20281105T010000
RDATE:20290311T030000
TZOFFSETFROM:-0400
TZOFFSETTO:-0500
TZNAME:America/New_York EST
END:STANDARD
BEGIN:DAYLIGHT
DTSTART:20250521T000000
RDATE:20251102T010000
TZOFFSETFROM:-0500
TZOFFSETTO:-0400
TZNAME:America/New_York EDT
END:DAYLIGHT
BEGIN:DAYLIGHT
DTSTART:20260308T030000
RDATE:20261101T010000
TZOFFSETFROM:-0500
TZOFFSETTO:-0400
TZNAME:America/New_York EDT
END:DAYLIGHT
BEGIN:DAYLIGHT
DTSTART:20270314T030000
RDATE:20271107T010000
TZOFFSETFROM:-0500
TZOFFSETTO:-0400
TZNAME:America/New_York EDT
END:DAYLIGHT
BEGIN:DAYLIGHT
DTSTART:20280312T030000
RDATE:20281105T010000
TZOFFSETFROM:-0500
TZOFFSETTO:-0400
TZNAME:America/New_York EDT
END:DAYLIGHT
END:VTIMEZONE
BEGIN:VEVENT
UID:4460f2ee9f024a924fbc28abbb8835c2
CATEGORIES:English Riding
CREATED:20251208T120327
SUMMARY:Kentucky Dressage Spring Warm-Up Show - Kentucky Horse Park
LOCATION:Kentucky Horse Park
DESCRIPTION:Rolex Stadium 4089 Iron Works Pkwy, Lexington, KY, United States\n
KDA's ho
 rse shows provide dressage riders and their horses with the opportunity to 
 compete at both nationally recognized and local level shows.\n
\n

X-ALT-DESC;FMTTYPE=text/html:Rolex Stadium 4089 Iron Works Pkwy, Lexington, KY, United States<br />KDA's
  horse shows provide dressage riders and their horses with the opportunity 
 to compete at both nationally recognized and local level shows.<br /><br />
DTSTAMP:20260424T182729
DTSTART;TZID=America/New_York;VALUE=DATE:20260522
DTEND;TZID=America/New_York;VALUE=DATE:20260525
SEQUENCE:0
TRANSP:OPAQUE
END:VEVENT
END:VCALENDAR