BEGIN:VCALENDAR
VERSION:2.0
PRODID:-//jEvents 2.0 for Joomla//EN
CALSCALE:GREGORIAN
METHOD:PUBLISH
BEGIN:VTIMEZONE
TZID:America/New_York
BEGIN:STANDARD
DTSTART:20251102T010000
RDATE:20260308T030000
TZOFFSETFROM:-0400
TZOFFSETTO:-0500
TZNAME:America/New_York EST
END:STANDARD
BEGIN:STANDARD
DTSTART:20261101T010000
RDATE:20270314T030000
TZOFFSETFROM:-0400
TZOFFSETTO:-0500
TZNAME:America/New_York EST
END:STANDARD
BEGIN:STANDARD
DTSTART:20271107T010000
RDATE:20280312T030000
TZOFFSETFROM:-0400
TZOFFSETTO:-0500
TZNAME:America/New_York EST
END:STANDARD
BEGIN:STANDARD
DTSTART:20281105T010000
RDATE:20290311T030000
TZOFFSETFROM:-0400
TZOFFSETTO:-0500
TZNAME:America/New_York EST
END:STANDARD
BEGIN:DAYLIGHT
DTSTART:20250604T000000
RDATE:20251102T010000
TZOFFSETFROM:-0500
TZOFFSETTO:-0400
TZNAME:America/New_York EDT
END:DAYLIGHT
BEGIN:DAYLIGHT
DTSTART:20260308T030000
RDATE:20261101T010000
TZOFFSETFROM:-0500
TZOFFSETTO:-0400
TZNAME:America/New_York EDT
END:DAYLIGHT
BEGIN:DAYLIGHT
DTSTART:20270314T030000
RDATE:20271107T010000
TZOFFSETFROM:-0500
TZOFFSETTO:-0400
TZNAME:America/New_York EDT
END:DAYLIGHT
BEGIN:DAYLIGHT
DTSTART:20280312T030000
RDATE:20281105T010000
TZOFFSETFROM:-0500
TZOFFSETTO:-0400
TZNAME:America/New_York EDT
END:DAYLIGHT
END:VTIMEZONE
BEGIN:VEVENT
UID:3186ec2c3c579ed99f32687c327517d5
CATEGORIES:Recreation & Lifestyle
CREATED:20251222T120210
SUMMARY:Western States Horse Expo - Murieta Equestrian Center
LOCATION:Murieta Equestrian Center
DESCRIPTION:Celebrate the Horse with Us!\n
Mark your calendars now for an equine event 
 like no other!\n
Enjoy events from every discipline from the most exciting 
 equestrian performers in the world. From liberty to brideless riding to tri
 ck riding to breed demonstrations to performances by the traveling equestri
 an troupe – Cirque Ma’Ceo, the Western States Horse Expo has something to e
 ntertain everyone!\n

X-ALT-DESC;FMTTYPE=text/html:Celebrate the Horse with Us!<br />Mark your calendars now for an equine eve
 nt like no other!<br />Enjoy events from every discipline from the most exc
 iting equestrian performers in the world. From liberty to brideless riding 
 to trick riding to breed demonstrations to performances by the traveling eq
 uestrian troupe – Cirque Ma’Ceo, the Western States Horse Expo has somethin
 g to entertain everyone!<br />
DTSTAMP:20260424T225010
DTSTART;TZID=America/New_York;VALUE=DATE:20260605
DTEND;TZID=America/New_York;VALUE=DATE:20260608
SEQUENCE:0
TRANSP:OPAQUE
END:VEVENT
END:VCALENDAR