BEGIN:VCALENDAR
VERSION:2.0
PRODID:-//jEvents 2.0 for Joomla//EN
CALSCALE:GREGORIAN
METHOD:PUBLISH
BEGIN:VTIMEZONE
TZID:America/New_York
BEGIN:STANDARD
DTSTART:20250116T000000
RDATE:20250309T030000
TZOFFSETFROM:-0400
TZOFFSETTO:-0500
TZNAME:America/New_York EST
END:STANDARD
BEGIN:STANDARD
DTSTART:20251102T010000
RDATE:20260308T030000
TZOFFSETFROM:-0400
TZOFFSETTO:-0500
TZNAME:America/New_York EST
END:STANDARD
BEGIN:STANDARD
DTSTART:20261101T010000
RDATE:20270314T030000
TZOFFSETFROM:-0400
TZOFFSETTO:-0500
TZNAME:America/New_York EST
END:STANDARD
BEGIN:STANDARD
DTSTART:20271107T010000
RDATE:20280312T030000
TZOFFSETFROM:-0400
TZOFFSETTO:-0500
TZNAME:America/New_York EST
END:STANDARD
BEGIN:STANDARD
DTSTART:20281105T010000
RDATE:20290311T030000
TZOFFSETFROM:-0400
TZOFFSETTO:-0500
TZNAME:America/New_York EST
END:STANDARD
BEGIN:DAYLIGHT
DTSTART:20250309T030000
RDATE:20251102T010000
TZOFFSETFROM:-0500
TZOFFSETTO:-0400
TZNAME:America/New_York EDT
END:DAYLIGHT
BEGIN:DAYLIGHT
DTSTART:20260308T030000
RDATE:20261101T010000
TZOFFSETFROM:-0500
TZOFFSETTO:-0400
TZNAME:America/New_York EDT
END:DAYLIGHT
BEGIN:DAYLIGHT
DTSTART:20270314T030000
RDATE:20271107T010000
TZOFFSETFROM:-0500
TZOFFSETTO:-0400
TZNAME:America/New_York EDT
END:DAYLIGHT
BEGIN:DAYLIGHT
DTSTART:20280312T030000
RDATE:20281105T010000
TZOFFSETFROM:-0500
TZOFFSETTO:-0400
TZNAME:America/New_York EDT
END:DAYLIGHT
END:VTIMEZONE
BEGIN:VEVENT
UID:19c6161e51dd8ca656ecfcf88c65afb9
CATEGORIES:English Riding
CREATED:20251222T123254
SUMMARY:Terranova Winter Dressage I & II  -  USDF Level  3
LOCATION:TerraNova Equestrian Center
DESCRIPTION:TerraNova Equestrian Center welcomes you to our brand new national dressage
  series, featuring two shows in one weekend! Our goal is to create a world-
 class experience for all levels of riders, horses and spectators.<br />Terr
 anova Winter Dressage I & II<br />National Show<br />Licensed by the United
  States Equestrian Federation<br /> January 17 & 18, 2026<br /> USEF/USDF N
 o. 345261/345262 Level 2 Competition<br />Terranova Equestrian Center, Sara
 sota/Myakka City, FL<br /> Official Qualifying Competition for:<br />Great 
 American/USDF Regional Championships<br />
DTSTAMP:20260424T174357
DTSTART;TZID=America/New_York;VALUE=DATE:20260117
DTEND;TZID=America/New_York;VALUE=DATE:20260119
SEQUENCE:0
TRANSP:OPAQUE
END:VEVENT
END:VCALENDAR