BEGIN:VCALENDAR
VERSION:2.0
PRODID:-//jEvents 2.0 for Joomla//EN
CALSCALE:GREGORIAN
METHOD:PUBLISH
BEGIN:VTIMEZONE
TZID:America/New_York
BEGIN:STANDARD
DTSTART:20250217T000000
RDATE:20250309T030000
TZOFFSETFROM:-0400
TZOFFSETTO:-0500
TZNAME:America/New_York EST
END:STANDARD
BEGIN:STANDARD
DTSTART:20251102T010000
RDATE:20260308T030000
TZOFFSETFROM:-0400
TZOFFSETTO:-0500
TZNAME:America/New_York EST
END:STANDARD
BEGIN:STANDARD
DTSTART:20261101T010000
RDATE:20270314T030000
TZOFFSETFROM:-0400
TZOFFSETTO:-0500
TZNAME:America/New_York EST
END:STANDARD
BEGIN:STANDARD
DTSTART:20271107T010000
RDATE:20280312T030000
TZOFFSETFROM:-0400
TZOFFSETTO:-0500
TZNAME:America/New_York EST
END:STANDARD
BEGIN:STANDARD
DTSTART:20281105T010000
RDATE:20290311T030000
TZOFFSETFROM:-0400
TZOFFSETTO:-0500
TZNAME:America/New_York EST
END:STANDARD
BEGIN:DAYLIGHT
DTSTART:20250309T030000
RDATE:20251102T010000
TZOFFSETFROM:-0500
TZOFFSETTO:-0400
TZNAME:America/New_York EDT
END:DAYLIGHT
BEGIN:DAYLIGHT
DTSTART:20260308T030000
RDATE:20261101T010000
TZOFFSETFROM:-0500
TZOFFSETTO:-0400
TZNAME:America/New_York EDT
END:DAYLIGHT
BEGIN:DAYLIGHT
DTSTART:20270314T030000
RDATE:20271107T010000
TZOFFSETFROM:-0500
TZOFFSETTO:-0400
TZNAME:America/New_York EDT
END:DAYLIGHT
BEGIN:DAYLIGHT
DTSTART:20280312T030000
RDATE:20281105T010000
TZOFFSETFROM:-0500
TZOFFSETTO:-0400
TZNAME:America/New_York EDT
END:DAYLIGHT
END:VTIMEZONE
BEGIN:VEVENT
UID:9073795c856c77b4e7ae540709888def
CATEGORIES:English Riding
CREATED:20251222T124130
SUMMARY:Terranova Winter Series II  - NATIONAL HUNTERS / USEF LEVEL 5 / CSI2*
LOCATION:TerraNova Equestrian Center
DESCRIPTION:TerraNova Equestrian Center welcomes you to our brand new national dressage
  series, featuring two shows in one weekend! Our goal is to create a world-
 class experience for all levels of riders, horses and spectators.\n
Terrano
 va Winter Series I  - NATIONAL HUNTERS / USEF LEVEL 5 / CSI2*

Dates have b
 een announced for the 2026 TerraNova Winter Series, with five consecutive w
 eeks of competition. Featuring 'A'-rated national hunters, level five jumpe
 rs, FEI CSI 2* show jumping (Week I, II, IV, V), and culminating with a fin
 ale week and seasonal champion program.

Mark your calendars for the follow
 ing dates:
WEEK I: Feb. 11-15 - USEF National, Level 5 Jumpers, FEI CSI2*
W
 EEK II: Feb. 18-22 - USEF National, Level 5 Jumpers, FEI CSI2*
WEEK III: Fe
 b. 26-Mar. 1 -  USEF National, Level 5 Jumpers, Outreach
WEEK IV: Mar. 4-8 
 - USEF National, Level 5 Jumpers, FEI CSI2* 
WEEK V FINALE: Mar. 11-15 - US
 EF National, Level 5 Jumpers, FEI CSI2*

TerraNova Winter Series offers the
  ultimate competition experience at the world-class TerraNova Equestrian Ce
 nter in Myakka City, Florida. Located just east of Sarasota and Lakewood Ra
 nch, TerraNova combines a peaceful, natural competition environment with th
 e vibrant atmosphere of Florida’s gulf coast for an unparalleled horse show
  experience.
X-ALT-DESC;FMTTYPE=text/html:TerraNova Equestrian Center welcomes you to our brand new national dressage
  series, featuring two shows in one weekend! Our goal is to create a world-
 class experience for all levels of riders, horses and spectators.<br />Terr
 anova Winter Series I  - NATIONAL HUNTERS / USEF LEVEL 5 / CSI2*Dates have 
 been announced for the 2026 TerraNova Winter Series, with five consecutive 
 weeks of competition. Featuring 'A'-rated national hunters, level five jump
 ers, FEI CSI 2* show jumping (Week I, II, IV, V), and culminating with a fi
 nale week and seasonal champion program.Mark your calendars for the followi
 ng dates:WEEK I: Feb. 11-15 - USEF National, Level 5 Jumpers, FEI CSI2*WEEK
  II: Feb. 18-22 - USEF National, Level 5 Jumpers, FEI CSI2*WEEK III: Feb. 2
 6-Mar. 1 -  USEF National, Level 5 Jumpers, OutreachWEEK IV: Mar. 4-8 - USE
 F National, Level 5 Jumpers, FEI CSI2* WEEK V FINALE: Mar. 11-15 - USEF Nat
 ional, Level 5 Jumpers, FEI CSI2*TerraNova Winter Series offers the ultimat
 e competition experience at the world-class TerraNova Equestrian Center in 
 Myakka City, Florida. Located just east of Sarasota and Lakewood Ranch, Ter
 raNova combines a peaceful, natural competition environment with the vibran
 t atmosphere of Florida’s gulf coast for an unparalleled horse show experie
 nce.
DTSTAMP:20260424T152331
DTSTART;TZID=America/New_York;VALUE=DATE:20260218
DTEND;TZID=America/New_York;VALUE=DATE:20260223
SEQUENCE:0
TRANSP:OPAQUE
END:VEVENT
END:VCALENDAR