BEGIN:VCALENDAR
VERSION:2.0
PRODID:-//jEvents 2.0 for Joomla//EN
CALSCALE:GREGORIAN
METHOD:PUBLISH
BEGIN:VTIMEZONE
TZID:America/New_York
BEGIN:STANDARD
DTSTART:20251102T010000
RDATE:20260308T030000
TZOFFSETFROM:-0400
TZOFFSETTO:-0500
TZNAME:America/New_York EST
END:STANDARD
BEGIN:STANDARD
DTSTART:20261101T010000
RDATE:20270314T030000
TZOFFSETFROM:-0400
TZOFFSETTO:-0500
TZNAME:America/New_York EST
END:STANDARD
BEGIN:STANDARD
DTSTART:20271107T010000
RDATE:20280312T030000
TZOFFSETFROM:-0400
TZOFFSETTO:-0500
TZNAME:America/New_York EST
END:STANDARD
BEGIN:STANDARD
DTSTART:20281105T010000
RDATE:20290311T030000
TZOFFSETFROM:-0400
TZOFFSETTO:-0500
TZNAME:America/New_York EST
END:STANDARD
BEGIN:DAYLIGHT
DTSTART:20251016T000000
RDATE:20251102T010000
TZOFFSETFROM:-0500
TZOFFSETTO:-0400
TZNAME:America/New_York EDT
END:DAYLIGHT
BEGIN:DAYLIGHT
DTSTART:20260308T030000
RDATE:20261101T010000
TZOFFSETFROM:-0500
TZOFFSETTO:-0400
TZNAME:America/New_York EDT
END:DAYLIGHT
BEGIN:DAYLIGHT
DTSTART:20270314T030000
RDATE:20271107T010000
TZOFFSETFROM:-0500
TZOFFSETTO:-0400
TZNAME:America/New_York EDT
END:DAYLIGHT
BEGIN:DAYLIGHT
DTSTART:20280312T030000
RDATE:20281105T010000
TZOFFSETFROM:-0500
TZOFFSETTO:-0400
TZNAME:America/New_York EDT
END:DAYLIGHT
END:VTIMEZONE
BEGIN:VEVENT
UID:e1c5c3ec0ca120cf2abf0c225b1e0192
CATEGORIES:Horse Racing
CREATED:20251222T135829
SUMMARY:Everest Race Day - Sydney Spring Carnival
LOCATION:Royal Randwick Racecourse
DESCRIPTION:The Everest race day in Sydney for 2026 is scheduled for Saturday, October 
 17, 2026, at the Royal Randwick Racecourse. \n
The event is the crown jewel
  of the Sydney Spring Carnival.\n
It is considered the world's richest race
  on turf, with a prize pool of $20 million.
X-ALT-DESC;FMTTYPE=text/html:The Everest race day in Sydney for 2026 is scheduled for Saturday, October 
 17, 2026, at the Royal Randwick Racecourse. <br />The event is the crown je
 wel of the Sydney Spring Carnival.<br />It is considered the world's riches
 t race on turf, with a prize pool of $20 million.
DTSTAMP:20260424T181103
DTSTART;TZID=America/New_York;VALUE=DATE:20261017
DTEND;TZID=America/New_York;VALUE=DATE:20261018
SEQUENCE:0
TRANSP:OPAQUE
END:VEVENT
END:VCALENDAR