BEGIN:VCALENDAR
VERSION:2.0
PRODID:-//jEvents 2.0 for Joomla//EN
CALSCALE:GREGORIAN
METHOD:PUBLISH
BEGIN:VTIMEZONE
TZID:America/New_York
BEGIN:STANDARD
DTSTART:20251102T010000
RDATE:20260308T030000
TZOFFSETFROM:-0400
TZOFFSETTO:-0500
TZNAME:America/New_York EST
END:STANDARD
BEGIN:STANDARD
DTSTART:20261101T010000
RDATE:20270314T030000
TZOFFSETFROM:-0400
TZOFFSETTO:-0500
TZNAME:America/New_York EST
END:STANDARD
BEGIN:STANDARD
DTSTART:20271107T010000
RDATE:20280312T030000
TZOFFSETFROM:-0400
TZOFFSETTO:-0500
TZNAME:America/New_York EST
END:STANDARD
BEGIN:STANDARD
DTSTART:20281105T010000
RDATE:20290311T030000
TZOFFSETFROM:-0400
TZOFFSETTO:-0500
TZNAME:America/New_York EST
END:STANDARD
BEGIN:DAYLIGHT
DTSTART:20250327T000000
RDATE:20251102T010000
TZOFFSETFROM:-0500
TZOFFSETTO:-0400
TZNAME:America/New_York EDT
END:DAYLIGHT
BEGIN:DAYLIGHT
DTSTART:20260308T030000
RDATE:20261101T010000
TZOFFSETFROM:-0500
TZOFFSETTO:-0400
TZNAME:America/New_York EDT
END:DAYLIGHT
BEGIN:DAYLIGHT
DTSTART:20270314T030000
RDATE:20271107T010000
TZOFFSETFROM:-0500
TZOFFSETTO:-0400
TZNAME:America/New_York EDT
END:DAYLIGHT
BEGIN:DAYLIGHT
DTSTART:20280312T030000
RDATE:20281105T010000
TZOFFSETFROM:-0500
TZOFFSETTO:-0400
TZNAME:America/New_York EDT
END:DAYLIGHT
END:VTIMEZONE
BEGIN:VEVENT
UID:700be4479ac54094ddf9fb7ff1f6ad23
CATEGORIES:Horse Racing
CREATED:20251222T141444
SUMMARY:Dubai World Cup, Meydan Racecourse, UAE
LOCATION:Meydan Racecourse
DESCRIPTION:<p>The Dubai World Cup is a Thoroughbred horse race held annually since 199
 6 and contested at the Meydan Racecourse which in Arabic suggests a place w
 here people congregate and compete, a sort of meeting point in the Emirate 
 of Dubai, United Arab Emirates.</p>The Dubai World Cup is an annual, presti
 gious Thoroughbred horse race and the highlight of the world's richest race
  day, featuring a total purse of US$30.5 million across nine races. The eve
 nt is held at the state-of-the-art Meydan Racecourse in Dubai, United Arab 
 Emirates. Key details about the event:Main Race Purse: The main Dubai World
  Cup race currently offers a prize of US$12 million.Distance and Surface: T
 he race is contested over 2,000 meters (about 10 furlongs) on a dirt track.
 2025 Winner: The 2025 winner was the American horse Hit Show, trained by Br
 ad Cox and ridden by Florent Geroux.Next Event: The next event will be the 
 30th anniversary running of the Dubai World Cup, scheduled for Saturday, Ma
 rch 28, 2026.Global Appeal: It attracts top horses, jockeys, and trainers f
 rom around the globe and is a major social and cultural event in Dubai, kno
 wn for its luxury and entertainment. More information and updates can be fo
 und on the Dubai Racing Club website. 
DTSTAMP:20260424T170817
DTSTART;TZID=America/New_York;VALUE=DATE:20260328
DTEND;TZID=America/New_York;VALUE=DATE:20260329
SEQUENCE:0
TRANSP:OPAQUE
END:VEVENT
END:VCALENDAR