BEGIN:VCALENDAR
VERSION:2.0
PRODID:-//jEvents 2.0 for Joomla//EN
CALSCALE:GREGORIAN
METHOD:PUBLISH
BEGIN:VTIMEZONE
TZID:America/New_York
BEGIN:STANDARD
DTSTART:20251102T010000
RDATE:20260308T030000
TZOFFSETFROM:-0400
TZOFFSETTO:-0500
TZNAME:America/New_York EST
END:STANDARD
BEGIN:STANDARD
DTSTART:20261101T010000
RDATE:20270314T030000
TZOFFSETFROM:-0400
TZOFFSETTO:-0500
TZNAME:America/New_York EST
END:STANDARD
BEGIN:STANDARD
DTSTART:20271107T010000
RDATE:20280312T030000
TZOFFSETFROM:-0400
TZOFFSETTO:-0500
TZNAME:America/New_York EST
END:STANDARD
BEGIN:STANDARD
DTSTART:20281105T010000
RDATE:20290311T030000
TZOFFSETFROM:-0400
TZOFFSETTO:-0500
TZNAME:America/New_York EST
END:STANDARD
BEGIN:DAYLIGHT
DTSTART:20250408T000000
RDATE:20251102T010000
TZOFFSETFROM:-0500
TZOFFSETTO:-0400
TZNAME:America/New_York EDT
END:DAYLIGHT
BEGIN:DAYLIGHT
DTSTART:20260308T030000
RDATE:20261101T010000
TZOFFSETFROM:-0500
TZOFFSETTO:-0400
TZNAME:America/New_York EDT
END:DAYLIGHT
BEGIN:DAYLIGHT
DTSTART:20270314T030000
RDATE:20271107T010000
TZOFFSETFROM:-0500
TZOFFSETTO:-0400
TZNAME:America/New_York EDT
END:DAYLIGHT
BEGIN:DAYLIGHT
DTSTART:20280312T030000
RDATE:20281105T010000
TZOFFSETFROM:-0500
TZOFFSETTO:-0400
TZNAME:America/New_York EDT
END:DAYLIGHT
END:VTIMEZONE
BEGIN:VEVENT
UID:7da0ec0c2d05b599c69aef40acea70ff
CATEGORIES:Horse Racing
CREATED:20251222T142055
SUMMARY:The 2026 Grand National -  Aintree Racecourse, UK
LOCATION:Aintree Racecourse
DESCRIPTION:The 2026 Grand National horse race will be held at Aintree Racecourse from 
 Thursday, April 9th to Saturday, April 11th, 2026, featuring three days of 
 top-class racing, including Ladies Day on Friday and the main Grand Nationa
 l race on Saturday.\n

X-ALT-DESC;FMTTYPE=text/html:The 2026 Grand National horse race will be held at Aintree Racecourse from 
 Thursday, April 9th to Saturday, April 11th, 2026, featuring three days of 
 top-class racing, including Ladies Day on Friday and the main Grand Nationa
 l race on Saturday.<br />
DTSTAMP:20260424T150915
DTSTART;TZID=America/New_York;VALUE=DATE:20260409
DTEND;TZID=America/New_York;VALUE=DATE:20260412
SEQUENCE:0
TRANSP:OPAQUE
END:VEVENT
END:VCALENDAR