BEGIN:VCALENDAR
VERSION:2.0
PRODID:-//jEvents 2.0 for Joomla//EN
CALSCALE:GREGORIAN
METHOD:PUBLISH
BEGIN:VTIMEZONE
TZID:America/New_York
BEGIN:STANDARD
DTSTART:20251102T010000
RDATE:20260308T030000
TZOFFSETFROM:-0400
TZOFFSETTO:-0500
TZNAME:America/New_York EST
END:STANDARD
BEGIN:STANDARD
DTSTART:20261101T010000
RDATE:20270314T030000
TZOFFSETFROM:-0400
TZOFFSETTO:-0500
TZNAME:America/New_York EST
END:STANDARD
BEGIN:STANDARD
DTSTART:20271107T010000
RDATE:20280312T030000
TZOFFSETFROM:-0400
TZOFFSETTO:-0500
TZNAME:America/New_York EST
END:STANDARD
BEGIN:STANDARD
DTSTART:20281105T010000
RDATE:20290311T030000
TZOFFSETFROM:-0400
TZOFFSETTO:-0500
TZNAME:America/New_York EST
END:STANDARD
BEGIN:DAYLIGHT
DTSTART:20250501T000000
RDATE:20251102T010000
TZOFFSETFROM:-0500
TZOFFSETTO:-0400
TZNAME:America/New_York EDT
END:DAYLIGHT
BEGIN:DAYLIGHT
DTSTART:20260308T030000
RDATE:20261101T010000
TZOFFSETFROM:-0500
TZOFFSETTO:-0400
TZNAME:America/New_York EDT
END:DAYLIGHT
BEGIN:DAYLIGHT
DTSTART:20270314T030000
RDATE:20271107T010000
TZOFFSETFROM:-0500
TZOFFSETTO:-0400
TZNAME:America/New_York EDT
END:DAYLIGHT
BEGIN:DAYLIGHT
DTSTART:20280312T030000
RDATE:20281105T010000
TZOFFSETFROM:-0500
TZOFFSETTO:-0400
TZNAME:America/New_York EDT
END:DAYLIGHT
END:VTIMEZONE
BEGIN:VEVENT
UID:7b9b125f53b67e5a2b3180c191120b01
CATEGORIES:Horse Racing
CREATED:20251222T142658
SUMMARY:Kentucky Derby, Churchill Downs, Louisville, KY
LOCATION:Churchill Downs
DESCRIPTION:Kentucky Derby, the Greatest Two Minutes in Sports! \n
The Kentucky Derby i
 s important because it is the oldest continuously held major sporting event
  in the United States, the first and most prestigious leg of horse racing's
  Triple Crown , and a globally recognized cultural phenomenon with a rich h
 istory and unique traditions. \n
History and Prestige: \n
Established in 18
 75, it has run every year since, making it a cornerstone of American sports
  history.\n
\n
"The Run for the Roses": The winning horse is draped in a bl
 anket of red roses, a signature tradition that adds to the event's mystique
  and nickname.\n
Cultural Spectacle: Beyond the race itself, it is a major 
 social event known for its distinctive fashion (extravagant hats), the offi
 cial Mint Julep drink, and the singing of "My Old Kentucky Home," drawing m
 assive crowds and a large television audience.\n
Triple Crown Significance:
  As the first race in the Triple Crown series, it sets the stage for potent
 ial racing immortality; only a few elite horses have ever won all three rac
 es. 
X-ALT-DESC;FMTTYPE=text/html:Kentucky Derby, the Greatest Two Minutes in Sports! <br />The Kentucky Derb
 y is important because it is the oldest continuously held major sporting ev
 ent in the United States, the first and most prestigious leg of horse racin
 g's Triple Crown , and a globally recognized cultural phenomenon with a ric
 h history and unique traditions. <br />History and Prestige: <br />Establis
 hed in 1875, it has run every year since, making it a cornerstone of Americ
 an sports history.<br /><br />"The Run for the Roses": The winning horse is
  draped in a blanket of red roses, a signature tradition that adds to the e
 vent's mystique and nickname.<br />Cultural Spectacle: Beyond the race itse
 lf, it is a major social event known for its distinctive fashion (extravaga
 nt hats), the official Mint Julep drink, and the singing of "My Old Kentuck
 y Home," drawing massive crowds and a large television audience.<br />Tripl
 e Crown Significance: As the first race in the Triple Crown series, it sets
  the stage for potential racing immortality; only a few elite horses have e
 ver won all three races. 
DTSTAMP:20260424T174331
DTSTART;TZID=America/New_York;VALUE=DATE:20260502
DTEND;TZID=America/New_York;VALUE=DATE:20260503
SEQUENCE:0
TRANSP:OPAQUE
END:VEVENT
END:VCALENDAR